BEGIN:VCALENDAR
VERSION:2.0
PRODID:-//https://techplay.jp//JP
CALSCALE:GREGORIAN
METHOD:PUBLISH
X-WR-CALDESC:CV40倍！オウンドメディア立ち上げの裏側を徹
 底解説！～成果の出る運用体制と戦略とは～
X-WR-CALNAME:CV40倍！オウンドメディア立ち上げの裏側を徹
 底解説！～成果の出る運用体制と戦略とは～
X-WR-TIMEZONE:Asia/Tokyo
BEGIN:VTIMEZONE
TZID:Asia/Tokyo
BEGIN:STANDARD
DTSTART:19700101T000000
TZOFFSETFROM:+0900
TZOFFSETTO:+0900
TZNAME:JST
END:STANDARD
END:VTIMEZONE
BEGIN:VEVENT
UID:805032@techplay.jp
SUMMARY:CV40倍！オウンドメディア立ち上げの裏側を徹底解
 説！～成果の出る運用体制と戦略とは～
DTSTART;TZID=Asia/Tokyo:20210126T150000
DTEND;TZID=Asia/Tokyo:20210126T160000
DTSTAMP:20260422T132416Z
CREATED:20210113T053929Z
DESCRIPTION:イベント詳細はこちら\nhttps://techplay.jp/event/80503
 2?utm_medium=referral&utm_source=ics&utm_campaign=ics\n\nCV40倍！オウ
 ンドメディア立ち上げの裏側を徹底解説！\n～成果の
 出る運用体制と戦略とは～\n1月26日（火）15:00～\n\nウ
 ェビナー後のアンケートにて希望された方限定で、弊
 社保有のビッグデータに基づいた競合調査や貴社サイ
 ト課題点・改善点を用いた面談も行っております。お
 時間のある方はぜひご参加ください。\n▼こんな方に
 オススメです！\n■マーケティング担当者さま\n■オウ
 ンドメディアで想定通りに成果が出せていない\n■BtoB
 施策に取り組みたいが、何から始めていいのか分から
 ない\n■デジタルマーケティング施策を検討している\n
 ▼ウェビナー内容\n①オウンドメディア立ち上げ経緯
 とコンセプト設計方法\n②体制構築と具体的な施策内
 容\n③実績数値公開\n④オウンドメディアを成功させる
 3つのポイント\n▼ウェビナー開催概要\n・開催日時2021
 年1月26日（火）15:00～16:00・参加費無料・開催方法ウェ
 ビナー　※Zoomを利用します・参加方法お申込後に、別
 途担当者よりメールにてご案内致します。\n\n▼タイム
 スケジュール\n\n\n\n時間\n内容\n\n\n14:58〜\n視聴用URL開
 場\n\n\n15:00〜15:40\nウェビナー本編\n\n\n15:40〜16:00\n質疑
 応答・アンケート回答　※質問がなくなり次第終了\n\n
 \n\n※ 当日予告なく時間配分・内容が変更になる可能
 性がございます。\n▼講師紹介\n\n株式会社CINC\n執行役
 員\nアナリティクス事業本部\n営業部　部長\n\n間藤　
 大地\n株式会社CINC\nソリューション事業本部\n推進部　
 部長\n▼参加対象\n・事業会社のマーケティング担当者
 \n・事業会社の事業責任者様\n・事業会社の経営者様\n\
 n▼注意事項\n競合他社/同業者/企業にご所属でない個
 人の方からのお申込みなど、 当社の判断によりセミナ
 ー参加をお断りする場合があります。予めご了承くだ
 さい。\n 
LOCATION:オンラインセミナー
URL:https://techplay.jp/event/805032?utm_medium=referral&utm_source=ics&utm
 _campaign=ics
END:VEVENT
END:VCALENDAR
