BEGIN:VCALENDAR
VERSION:2.0
PRODID:-//https://techplay.jp//JP
CALSCALE:GREGORIAN
METHOD:PUBLISH
X-WR-CALDESC:【書籍発売当日！著者自ら語る】≪小売業の
 変革を目指す≫ FABRIC TOKYO流 D2Cの心得
X-WR-CALNAME:【書籍発売当日！著者自ら語る】≪小売業の
 変革を目指す≫ FABRIC TOKYO流 D2Cの心得
X-WR-TIMEZONE:Asia/Tokyo
BEGIN:VTIMEZONE
TZID:Asia/Tokyo
BEGIN:STANDARD
DTSTART:19700101T000000
TZOFFSETFROM:+0900
TZOFFSETTO:+0900
TZNAME:JST
END:STANDARD
END:VTIMEZONE
BEGIN:VEVENT
UID:805079@techplay.jp
SUMMARY:【書籍発売当日！著者自ら語る】≪小売業の変革
 を目指す≫ FABRIC TOKYO流 D2Cの心得
DTSTART;TZID=Asia/Tokyo:20210122T120000
DTEND;TZID=Asia/Tokyo:20210122T130000
DTSTAMP:20260420T115439Z
CREATED:20210113T063820Z
DESCRIPTION:イベント詳細はこちら\nhttps://techplay.jp/event/80507
 9?utm_medium=referral&utm_source=ics&utm_campaign=ics\n\n【書籍発売
 当日！著者自ら語る】\n≪小売業の変革を目指す≫ FABR
 IC TOKYO流 D2Cの心得\n概要\n現代の社会構造に合わせてア
 メリカで生まれたD2Cというビジネスモデルですが、近
 年日本国内でも注目されるようになりました。今では
 数多くのスタートアップが立ち上がり、D2Cモデルへの
 展開を図る大手企業も増えてきています。また、最先
 端テクノロジーや最新ブランディング理論を兼ねそな
 えていることから、低迷する小売業を救いうるモデル
 としても注目されています。\n\n本ウェビナーでは、D2C
 ブランドとして急成長を遂げている「FABRIC TOKYO」より
 三嶋憲一郎 氏、峯村昇吾 氏の2名の方にご登壇いただ
 きます。FABRIC TOKYO流のD2Cモデルの手法や仕組み、また
 ウェビナー当日(1月22日)発売の書籍『リテール・デジ
 タルトランスフォーメーション D2C戦略が小売を変革す
 る』のポイントを、著者自らに語っていただきます。D
 X推進を目指したい小売事業者・中間流通業者・メーカ
 ーの方々、D2Cスタートアップの方はもちろん、D2Cへの
 転換を考えている企業の方、多くの方の課題解決に役
 立てるウェビナーです。\n\n\n【　こんな方におすすめ
 　】・D2Cで起業を考えている方・D2Cを検討している小
 売メーカーの方・新しいマーケティングD2Cの考え方を
 事業戦略に取り入れたい経営者方・ECのビジネスモデ
 ル転換を図りたい経営者\n\n\n\n【　内容　】\n＜第一部
 ＞　25分・FABRIC TOKYO CFO 三嶋憲一郎 氏 - リテール・デ
 ジタルトランスフォーメーションとは - D2Cビジネス戦
 略の基本 ・FABRIC TOKYO　サービスデザイナー 峯村昇吾 
 氏 - D2Cモデルと従来の小売モデルの差異 - FABRIC TOKYO流 
 D2C - D2Cが持つポテンシャル ・ユナイテッド 執行役員 
 米田吉宏 - FABRIC TOKYO×UNITEDが贈る D2Cビジネス総合支援
 ＜第二部＞ 40分・パネルディスカッション・参加者さ
 まからのQ&A\n\n※ 当日予告なく時間配分・内容が変更
 になる可能性がございます。\n登壇者\n\n\n≪株式会社FA
 BRIC TOKYO　取締役執行役員CFO≫1985年生まれ神奈川県出
 身。上智大学経済学部経営学科卒業。国内最大手会計
 事務所にて、金融機関の米国会計基準による監査に従
 事し、与信系・市場系・資金調達の監査を担当。2012年
 よりエネルギー関連企業にジョインし、経営企画、戦
 略立案、海外事業立ち上げ、M&A、ファイナンスに従事
 し株式市場上場を経験。2015年9月よりFABRIC TOKYOに参画
 。2016年からは執行役員CFO就任。2017年7月同社経営・財
 務担当 取締役就任。\n\n\n峯村 昇吾≪株式会社FABRIC TOKY
 O　サービスデザイナー≫1982年東京都出身。青山学院
 大学経済学部経済学科卒業。大手繊維専門商社にて、
 川上全般の原料メーカーと素材開発を行い、アパレル
 メーカー向けテキスタイルの企画提案営業を担当。3年
 間の海外駐在を経て、国内外の幅広い素材開発・調達
 に従事。2013年モリリン㈱入社し、国内外の原料に特化
 した素材開発に従事。2015年11月にライフスタイルデザ
 イン(現：株式会社FABRIC TOKYO)に参画。素材開発・調達
 担当ほか、新商品開発等のR＆D業務を担当。\n\n\n米田
 　吉宏≪ユナイテッド株式会社　執行役員≫電通にて
 国内外での広告プランニング、ビッグデータを用いた
 マーケティングROI向上支援等に従事。2013年ボストン 
 コンサルティング グループ入社後、主に通信・メディ
 ア・テクノロジー領域の経営戦略策定、新規事業開発
 、営業戦略、組織戦略等を担当。プロジェクトリーダ
 ーとして従事した後、2019年3月ユナイテッド株式会社
 執行役員に就任（現任）。DXソリューションの立案/推
 進と、全社戦略/組織強化を担当。\n\n参加費\n無料\nハ
 ッシュタグ\n#techplayjp\n注意事項\n本セミナーのお申込
 みフォームにご記入いただいた情報は本セミナーの運
 営並びにユナイテッド株式会社及び登壇者が所属する
 企業組織からの情報提供（電子メール広告の受信/電話
 を含みます）のため以下のプライバシーに沿って管理
 いたします。・ユナイテッド株式会社https://united.jp/priv
 acy/・FABRIC TOKYO
LOCATION:オンライン
URL:https://techplay.jp/event/805079?utm_medium=referral&utm_source=ics&utm
 _campaign=ics
END:VEVENT
END:VCALENDAR
