BEGIN:VCALENDAR
VERSION:2.0
PRODID:-//https://techplay.jp//JP
CALSCALE:GREGORIAN
METHOD:PUBLISH
X-WR-CALDESC:【無料】これは使える！Lumion11新機能ハンズオ
 ン【受付中】
X-WR-CALNAME:【無料】これは使える！Lumion11新機能ハンズオ
 ン【受付中】
X-WR-TIMEZONE:Asia/Tokyo
BEGIN:VTIMEZONE
TZID:Asia/Tokyo
BEGIN:STANDARD
DTSTART:19700101T000000
TZOFFSETFROM:+0900
TZOFFSETTO:+0900
TZNAME:JST
END:STANDARD
END:VTIMEZONE
BEGIN:VEVENT
UID:805144@techplay.jp
SUMMARY:【無料】これは使える！Lumion11新機能ハンズオン
 【受付中】
DTSTART;TZID=Asia/Tokyo:20210129T180000
DTEND;TZID=Asia/Tokyo:20210129T190000
DTSTAMP:20260420T123856Z
CREATED:20210114T002921Z
DESCRIPTION:イベント詳細はこちら\nhttps://techplay.jp/event/80514
 4?utm_medium=referral&utm_source=ics&utm_campaign=ics\n\n【無料】こ
 れは使える！Lumion11　新機能　ハンズオン\n概要\n◆◆L
 umion入門者の方にもおススメ講習◆◆\n新春Lumion新機能
 解説講座が始まります。講師はオンラインサロン「建
 築ビジュアライゼーション研究所」で活躍していた杉
 山貴伸先生に行って頂きます。Lumion初心者の方にはLumi
 onの新機能の魅力を含めてお試し頂ける内容となって
 います。また、Lumionをバージョンアップをご検討中の
 方にも事前に新機能の内容を理解することが可能です
 。本講習会に参加されますと、下記のようなプレゼン
 資料を簡単に作成できるようになります。\nこちらは
 ハンズオンの講習会となっておりますので、是非一緒
 に手を動かしながらご参加下さい。下記サイトよりダ
 ウンロードをお願い致します。◆講習用データ　ダウ
 ンロードhttps://note.com/dry1000/n/nfb3c9db71683Lumionの最新バー
 ジョン「Lumion11」をお持ちでない方は下記よりトライ
 アル版をダウンロードしてから講習会への参加をお勧
 めいたします。一緒にお試し頂ければ、より一層実践
 的に使えるようになると思いますので、是非ご活用下
 さい。◆Lumion11　トライアル版ダウンロードhttps://lumion
 3d.jp/trial/\n当日の講習は、Lumion11の新機能解説を中心に
 行っていただく予定です。\n※ 当日予告なく時間配分
 ・内容が変更になる可能性がございます。\n\n\n\n登壇
 者\n杉山貴伸先生\n経歴1978年大阪生まれ建築ビジュア
 ライゼーション・シニア・コンサルタント建築ビジュ
 アライゼーションに関するあらゆるCADソフトウェアに
 精通する。海外法人経営の傍ら、大学での講義、日本
 最大手企業からの依頼で海外での技術者育成など、高
 度技術者育成に関して10年以上の実績を持つ。執筆し
 たCAD/CG関連書籍は累計1万部を超える。現在は拠点をベ
 トナムに移し、海外と日本各地を行き来しながら多様
 な事業を展開。\n\n参加対象\n・エンジニア・建築家・
 建築設計者\n※ リクルーティング、勧誘など、採用目
 的でのイベント参加はお断りしております。 ※ 飲食
 のみを目的としたご応募・ご来場はご遠慮ください。 
 ※ 補欠者の方は、ご来場いただいてもご入場いただく
 ことが出来ませんのでご了承ください。\n持ち物\nなし
 \n参加費\n無料\nハッシュタグ\n#techplayjp \n#Lumion\n#建築
 ビジュアライゼーション\n\n注意事項\n※ 参加を辞退す
 る場合は、詳細ページより申込のキャンセルをお願い
 致します。※ 無断キャンセル・欠席が続く場合、次回
 以降の参加をお断りさせていただく場合がございます
 のでご了承ください。\n 
LOCATION:オンライン
URL:https://techplay.jp/event/805144?utm_medium=referral&utm_source=ics&utm
 _campaign=ics
END:VEVENT
END:VCALENDAR
