BEGIN:VCALENDAR
VERSION:2.0
PRODID:-//https://techplay.jp//JP
CALSCALE:GREGORIAN
METHOD:PUBLISH
X-WR-CALDESC:エンジニア内定者座談会@オンライン
X-WR-CALNAME:エンジニア内定者座談会@オンライン
X-WR-TIMEZONE:Asia/Tokyo
BEGIN:VTIMEZONE
TZID:Asia/Tokyo
BEGIN:STANDARD
DTSTART:19700101T000000
TZOFFSETFROM:+0900
TZOFFSETTO:+0900
TZNAME:JST
END:STANDARD
END:VTIMEZONE
BEGIN:VEVENT
UID:805330@techplay.jp
SUMMARY:エンジニア内定者座談会@オンライン
DTSTART;TZID=Asia/Tokyo:20210210T180000
DTEND;TZID=Asia/Tokyo:20210210T200000
DTSTAMP:20260422T235431Z
CREATED:20210115T075151Z
DESCRIPTION:イベント詳細はこちら\nhttps://techplay.jp/event/80533
 0?utm_medium=referral&utm_source=ics&utm_campaign=ics\n\nエンジニア
 内定者座談会@オンライン\n概要\n【本選考前の今だか
 らこそ！】 \n□■□■□■□■□■□■□■□■\n ＼I
 T興味ありの人、必見！ エンジニア内定者座談会@オン
 ライン \n■□■□■□■□■□■□■□■□ \nプログ
 ラミングスクールGeeksalon 出身、21卒内定者だから言え
 るエンジニア就職の魅力をお伝えします！ \n★エンジ
 ニア就職、実際どうなの？ \n★未経験、文系からエン
 ジニアへの道筋は？ \n★この時期からでも間に合うの
 ？どう動けばいいの？ \n★コロナ禍でも内定を獲得す
 る秘訣は？？ \n◎あなたの疑問に答えます！ \n【こん
 な人におすすめ】 \n★IT企業、エンジニア就職に興味
 がある人 \n★まだ志望業界を決めれていない人　　　
 　　 \n★エンジニア内定のコツを知りたい人 \n★コロ
 ナ禍で就活が不安な人\n\nGeekSalon公式HP\nhttps://geek-salon.c
 om\n\nご質問はGeekSalon公式LINEからお願い致します。\nhttp
 s://line.me/R/ti/p/%40icy5089n\n\n日時\n2月10日（水） 18時00分-2
 0時00分\n会場\nオンライン開催\nURLは下記のLINE公式アカ
 ウントからお送りさせていただきます。\n持ち物\nPC\n
 参加費\n無料\n注意事項\n※ GeekSalonの公式LINE@の登録を
 お願いします。\n\n 
LOCATION:オンライン
URL:https://techplay.jp/event/805330?utm_medium=referral&utm_source=ics&utm
 _campaign=ics
END:VEVENT
END:VCALENDAR
