BEGIN:VCALENDAR
VERSION:2.0
PRODID:-//https://techplay.jp//JP
CALSCALE:GREGORIAN
METHOD:PUBLISH
X-WR-CALDESC:【1/26】プロセスマイニング無料体験ウェビナ
 ー（営業プロセス編）
X-WR-CALNAME:【1/26】プロセスマイニング無料体験ウェビナ
 ー（営業プロセス編）
X-WR-TIMEZONE:Asia/Tokyo
BEGIN:VTIMEZONE
TZID:Asia/Tokyo
BEGIN:STANDARD
DTSTART:19700101T000000
TZOFFSETFROM:+0900
TZOFFSETTO:+0900
TZNAME:JST
END:STANDARD
END:VTIMEZONE
BEGIN:VEVENT
UID:805507@techplay.jp
SUMMARY:【1/26】プロセスマイニング無料体験ウェビナー（
 営業プロセス編）
DTSTART;TZID=Asia/Tokyo:20210126T150000
DTEND;TZID=Asia/Tokyo:20210126T180000
DTSTAMP:20260420T024356Z
CREATED:20210118T025343Z
DESCRIPTION:イベント詳細はこちら\nhttps://techplay.jp/event/80550
 7?utm_medium=referral&utm_source=ics&utm_campaign=ics\n\nプロセスマ
 イニング・サービスを提供する弊社が、営業管理にお
 ける「リード管理」からの一連の流れを、プロセスマ
 イニングを使って効率化する方法をご紹介します。\n
 こんな方におすすめです\n\nどのように営業の効率化を
 始めたらよいのかわからない\n営業の問題点がわから
 ない\n顧客満足度を上げたい\nSalesforceをお使いの方\n\n
 概要\n\n\n\n\n項目\n\n\n内容\n\n\n\n概要\n\n\nプロセスマイ
 ニングの体験していただくために、プロセスマイニン
 グの代表的なプラットフォームサービスであるCelonisを
 利用いたします。\n営業管理における「リード管理」
 の一連の業務について、デモデータを取込んで分析ま
 での流れを、Celonisを操作しながら体験していただきま
 す。\n現在、Celonisで業務効率化を考えている方は、ぜ
 ひご参加ください。\nCelonis有資格者が、わかりやすく
 解説します。\n\n\n\n\n\n形式\n\nウェビナー　最大4名／1
 回\n\n\n\n日時\n\n\n2021年1月26日（火） 15:00-18:00\n(1名様に
 つき、1回のみご参加いただけます)\nご都合が合わない
 方は、こちらからお申し込みください。\n※ 同業他社
 のご参加はお断りしております。 \n※ 他のセミナー申
 込ページからのお申し込みも承っているため、定員に
 達し次第、予告なく募集を締め切らせていただくこと
 がございます。\n\n\n\n\n主催\n\n\nAiritech株式会社\n\n\n\n\n
 当日の流れ\n\n\n\n\nフェーズ\n\n\n内容\n\n\n\n\n01\n\n\nCeloni
 sのご紹介とウェビナー内容説明\n\n\n\n\n02\n\n\nワークシ
 ョップ\n【コネクト】データ取込（CSVデータの取込）\n
 【ディスカバー】分析機能紹介\n（概要、バリアント
 ／プロセスエクスプローラー）\n【演習】分析機能を
 使った問題の発見\n【発表】発見した問題の発表\n質疑
 応答\n\n\n\n\n03\n\n\nまとめ\n\n\n\n\n※ 当日予告なく時間
 配分・内容が変更になる可能性がございます。\n事前
 準備\n無料ソフトウェアCelonis Snapの利用登録をお願い
 します。\n※登録方法は、イベント申し込み後にお知
 らせします。\n参加費\n無料\nお客様の声\n\n\n\n\n\n\n\n\n\
 n導入から分析のイメージをつかむことができました。
 \nCSVファイルからのデータの取り込み方の復習と、実
 際の分析の箇所が参考になりました。\nCelonis Academy以
 外でデータの取り込みや分析を行うことが初めてだっ
 たので、実際に手を一から動かしてCelonisを操作できて
 よかったです。\n\n注意事項\n※ 参加を辞退する場合は
 、詳細ページより申込のキャンセルをお願い致します
 。※ 無断キャンセル・欠席が続く場合、次回以降の参
 加をお断りさせていただく場合がございますのでご了
 承ください。\nその他のウェビナ―\nその他のウェビナ
 ーは、こちらからご登録いただけます。\n
LOCATION:オンライン
URL:https://techplay.jp/event/805507?utm_medium=referral&utm_source=ics&utm
 _campaign=ics
END:VEVENT
END:VCALENDAR
