BEGIN:VCALENDAR
VERSION:2.0
PRODID:-//https://techplay.jp//JP
CALSCALE:GREGORIAN
METHOD:PUBLISH
X-WR-CALDESC:【無料:オンライン】初心者のためのプログラ
 ミング超入門【別日開催あり】
X-WR-CALNAME:【無料:オンライン】初心者のためのプログラ
 ミング超入門【別日開催あり】
X-WR-TIMEZONE:Asia/Tokyo
BEGIN:VTIMEZONE
TZID:Asia/Tokyo
BEGIN:STANDARD
DTSTART:19700101T000000
TZOFFSETFROM:+0900
TZOFFSETTO:+0900
TZNAME:JST
END:STANDARD
END:VTIMEZONE
BEGIN:VEVENT
UID:805996@techplay.jp
SUMMARY:【無料:オンライン】初心者のためのプログラミン
 グ超入門【別日開催あり】
DTSTART;TZID=Asia/Tokyo:20210319T193000
DTEND;TZID=Asia/Tokyo:20210319T210000
DTSTAMP:20260421T162531Z
CREATED:20210122T104703Z
DESCRIPTION:イベント詳細はこちら\nhttps://techplay.jp/event/80599
 6?utm_medium=referral&utm_source=ics&utm_campaign=ics\n\nプログラミ
 ングの概念と必要性を学ぶ\n★授業風景を、こちら（
 動画）からご覧いただけます！\n\n2020年5月、日本全国
 の小学校でプログラミング教育がはじまりました。\n
 そこで大人向けの統計教室「WAKARA」では、”今更聞け
 ない”社会人に必要なプログラミングの仕組みを、「s
 cratch」と「Python」による実践例を通じて学ぶ講座を開
 始しました。\nScratch…小学校教育で2020年5月より導入
 されたプログラミング学習ツール。Python…現在もっと
 も人気が高いプログラミング言語の一つ。\n本セミナ
 ーでは、プログラミングを初めて学ぼうとされる方に
 、小学校教育で使われているプログラミングツール「s
 cratch」と、現在人気の高い「Python」による実践例を通
 じて、プログラミングとは何か、どのような考え方が
 必要なのかを解説致します。\n\n本セミナーは別日にも
 開催しております。\nスケジュールが合わない場合は
 弊社Webページ（こちら）から他日程をご確認ください
 。\n\nセミナー内容\n・プログラミング言語とは・様々
 なプログラミング言語の特徴・プログラミングででき
 ること\n※カリキュラム内容は進捗等によって変更さ
 れることがあります。\n受講対象\n・プログラミングを
 書いたことがない方・プログラミングを書けるように
 なりたい方・プログラミングを学んだことがあるが、
 うまく身につかなかった方・プログラミングで何がで
 きるか知りたい方\n講師\n岡崎 凌（おかざき　りょう
 ）\n\n近年注目を集めるAI技術(Deep Learning)の全フロー（
 開発・実装・運用）を実施し、統計学と機械学習を中
 心にセミナー、企業研修、イベント講演、オンライン
 講義などを手掛ける。\n大阪大学大学院卒業。初心者
 の簡単な統計の活かし方から、多変量解析学や機械学
 習など発展的な分析手法まで幅広く対応できるスキル
 を持つ。さらに、近年注目を集めるAI技術(Deep Learning)
 の全フロー（開発・実装・運用）を実施し、統計学と
 機械学習を中心にセミナー、企業研修、イベント講演
 、オンライン講義などを手掛ける。分野は前職の半導
 体工学分野のデータ分析をはじめ、医療統計、アンケ
 ート項目の設計と分析、集計データの可視化からメー
 カーの売上分析のコンサルティングなども行う。※経
 営道場として名高い「澤田経営道場」にて統計担当講
 師。\n\nご参加にあたって（必ずご確認ください）\n■
 開催当日は、以下の手順でご入場いただけます。1. メ
 ニューよりマイページの「参加申込イベント」を選択2
 . 本セミナーの「詳細ページへ」を選択3. セミナー詳
 細ページの「オンライン配信情報」にある【配信ペー
 ジを表示】ボタンを押すとzoomの会場ページに繋がりま
 す。\n■開場は開催の約15分前となります。それ以前の
 ご入場はお控え下さい。\n■開催当日の電話対応はで
 きかねます。お問合せはメール、もしくはお問合せフ
 ォームよりお願い致します。\n■iPad等タブレットの使
 用は一部機能が制限される場合がございます。パソコ
 ン端末でのご参加を推奨いたします。\n\n\n○セミナー
 詳細ページ\nhttps://wakara.co.jp/course/11287\nzoomを用いてセ
 ミナーを行いますので、ブラウザが利用できるPCやタ
 ブレットなどの環境をご用意ください。
LOCATION:zoom（参加方法はセミナー概要をご確認ください
 ）
URL:https://techplay.jp/event/805996?utm_medium=referral&utm_source=ics&utm
 _campaign=ics
END:VEVENT
END:VCALENDAR
