BEGIN:VCALENDAR
VERSION:2.0
PRODID:-//https://techplay.jp//JP
CALSCALE:GREGORIAN
METHOD:PUBLISH
X-WR-CALDESC:SEO・WEB広告のノウハウ教えます ～WEB集客は自
 社で出来る！～
X-WR-CALNAME:SEO・WEB広告のノウハウ教えます ～WEB集客は自
 社で出来る！～
X-WR-TIMEZONE:Asia/Tokyo
BEGIN:VTIMEZONE
TZID:Asia/Tokyo
BEGIN:STANDARD
DTSTART:19700101T000000
TZOFFSETFROM:+0900
TZOFFSETTO:+0900
TZNAME:JST
END:STANDARD
END:VTIMEZONE
BEGIN:VEVENT
UID:806265@techplay.jp
SUMMARY:SEO・WEB広告のノウハウ教えます ～WEB集客は自社で
 出来る！～
DTSTART;TZID=Asia/Tokyo:20210128T140000
DTEND;TZID=Asia/Tokyo:20210128T150000
DTSTAMP:20260423T111022Z
CREATED:20210125T090820Z
DESCRIPTION:イベント詳細はこちら\nhttps://techplay.jp/event/80626
 5?utm_medium=referral&utm_source=ics&utm_campaign=ics\n\nSEO・WEB広告
 のノウハウ教えます～WEB集客は自社で出来る！～\n概
 要\nSEO・WEB広告のノウハウに関するセミナーを実施し
 ます。\nWebを活用した集客に興味がある企業様、Web施
 策に挑戦したい企業様はぜひご参加ください！\nSEOやWE
 B広告で流入を集めて終わりではなく、売上に繋げるた
 めにはどうしたらいいのかについてご説明いたします
 。\nWeb初心者にも分かりやすい内容となっております
 。\n\nタイムスケジュール\n14：00～15：00　セミナー「SE
 O・WEB広告のノウハウ教えます！～WEB集客は自社ででき
 る‼～」\n※ 当日予告なく時間配分・内容が変更にな
 る可能性がございます。\n登壇者\n\n高橋瑞季\nADlive株
 式会社\n \n参加対象\n・経営者／取締役\n・WEB担当者\n
 ・WEBマーケティングを社内で完結したい企業様\n・SEO
 対策を社内で完結させたい企業様\n・WEB広告運用を社
 内で完結させたい企業様\n・WEBマーケティングに知見
 がある人がいない企業様\n・WEB集客をしているがなか
 なかうまくいかない企業様\n・どのようなWEB施策をや
 るべきか分からない企業様\n・WEBに関するノウハウを
 獲得したい企業様\n・自社の情報をより広めたいとお
 考えのWEB担当者様\n\n\n持ち物\nなし\n参加費\n無料\nハ
 ッシュタグ\n#techplayjp 　＃SEO　＃WEB広告　＃WEB集客　
 ＃WEBマーケティング　＃デジタルマーケティング　＃W
 EB施策　＃WEBコンサルティング　＃広告運用　＃アク
 セス解析\n注意事項\n※ 参加を辞退する場合は、詳細
 ページより申込のキャンセルをお願い致します。※ 無
 断キャンセル・欠席が続く場合、次回以降の参加をお
 断りさせていただく場合がございますのでご了承くだ
 さい。\n 
LOCATION:オンライン
URL:https://techplay.jp/event/806265?utm_medium=referral&utm_source=ics&utm
 _campaign=ics
END:VEVENT
END:VCALENDAR
