BEGIN:VCALENDAR
VERSION:2.0
PRODID:-//https://techplay.jp//JP
CALSCALE:GREGORIAN
METHOD:PUBLISH
X-WR-CALDESC:【初心者大歓迎】たった３時間でゲーム/Webサ
 イト開発！無料プログラミング体験会
X-WR-CALNAME:【初心者大歓迎】たった３時間でゲーム/Webサ
 イト開発！無料プログラミング体験会
X-WR-TIMEZONE:Asia/Tokyo
BEGIN:VTIMEZONE
TZID:Asia/Tokyo
BEGIN:STANDARD
DTSTART:19700101T000000
TZOFFSETFROM:+0900
TZOFFSETTO:+0900
TZNAME:JST
END:STANDARD
END:VTIMEZONE
BEGIN:VEVENT
UID:806266@techplay.jp
SUMMARY:【初心者大歓迎】たった３時間でゲーム/Webサイト
 開発！無料プログラミング体験会
DTSTART;TZID=Asia/Tokyo:20210201T180000
DTEND;TZID=Asia/Tokyo:20210201T210000
DTSTAMP:20260421T214735Z
CREATED:20210125T091309Z
DESCRIPTION:イベント詳細はこちら\nhttps://techplay.jp/event/80626
 6?utm_medium=referral&utm_source=ics&utm_campaign=ics\n\n◆〜Gameアプ
 リ開発体験会のお知らせ〜\n【初心者歓迎/オンライン
 開催！】Gameアプリ/Webサイト開発体験会\n\n大学生限定
 プログラミングコミュニティGeekSalonです！ オンライン
 でご参加可能なプログラミング体験会のご案内です！\
 nなかなか思うように外で遊べない・・・。みんながお
 うちで悶々と過ごしている中、周りと差のつくチャレ
 ンジをしてみませんか？初心者に大好評の体験会なの
 で、経験、性別、卒業年度問わず大歓迎です！！\n\n【
 こんな人にオススメ】\n✔︎巣ごもり期間で時間があ
 る方\n✔︎色んなスキルに触れてみたい方\n✔︎新しい
 ことに挑戦したい方\n✔︎自分で作ったゲームを自慢
 したい方！\n【体験会概要】\n▼概要：プログラミング
 無料体験会（Gameアプリ/Webサイト開発）\n▼日時：\n・G
 ameコース：2月1日 (月) 14:00-17:00\n・Webコース：2月1日 (
 月) 18:00-21:00\n※コースによって開催時間が異なるので
 ご注意ください\n▼会場：Zoom\n▼持ち物：PC\n【参加方
 法】\nGeeksalon公式LINEを追加の上、必ず「氏名、大学名
 、2/1 東京Gameオンライン体験会」と送信してください
 。\n▼GeekSalonの公式LINEの登録はQRコードから可能です
 。\n
LOCATION:Zoom
URL:https://techplay.jp/event/806266?utm_medium=referral&utm_source=ics&utm
 _campaign=ics
END:VEVENT
END:VCALENDAR
