BEGIN:VCALENDAR
VERSION:2.0
PRODID:-//https://techplay.jp//JP
CALSCALE:GREGORIAN
METHOD:PUBLISH
X-WR-CALDESC:【2月3日（水）開催】共催ウェビナー ｜今求
 められる、ブランド構築×広告戦略 ＜オンラインプロ
 モーション術の効果を最大化するには？＞
X-WR-CALNAME:【2月3日（水）開催】共催ウェビナー ｜今求
 められる、ブランド構築×広告戦略 ＜オンラインプロ
 モーション術の効果を最大化するには？＞
X-WR-TIMEZONE:Asia/Tokyo
BEGIN:VTIMEZONE
TZID:Asia/Tokyo
BEGIN:STANDARD
DTSTART:19700101T000000
TZOFFSETFROM:+0900
TZOFFSETTO:+0900
TZNAME:JST
END:STANDARD
END:VTIMEZONE
BEGIN:VEVENT
UID:806272@techplay.jp
SUMMARY:【2月3日（水）開催】共催ウェビナー ｜今求めら
 れる、ブランド構築×広告戦略 ＜オンラインプロモー
 ション術の効果を最大化するには？＞
DTSTART;TZID=Asia/Tokyo:20210203T150000
DTEND;TZID=Asia/Tokyo:20210203T160000
DTSTAMP:20260419T174602Z
CREATED:20210125T113618Z
DESCRIPTION:イベント詳細はこちら\nhttps://techplay.jp/event/80627
 2?utm_medium=referral&utm_source=ics&utm_campaign=ics\n\n【2月3日（
 水）開催】今求められる、ブランド構築×広告戦略\n＜
 オンラインプロモーション術の効果を最大化するには
 ？＞\n\n参加費は無料です！お気軽にご参加ください！
 \n▼セミナー内容\n<1部>広告の効果を最大化させるため
 の施策とは？\n\nブランドECの認知から顧客の獲得まで
 期待できる施策のひとつ、広告運用。\nしかし、届け
 たい人に情報を届けるためには、ただ広告を配信する
 だけでは効果は期待できません。\n広告を届けるター
 ゲットを理解して、ブランドの情報を効果的に発信す
 る広告活用術をお伝えします。\n\n<2部>事例で学ぶ！売
 上アップにつなげるためのYahoo!広告活用術\n\n昨今のコ
 ロナ禍に見舞われて以降、昨今のコロナ禍に見舞われ
 て以降、オフラインにて購買行動をしていた消費者が
 、オンラインでの購買行動にシフトしています。ただ
 オンラインへとシフトしたといっても、オンラインで
 の売上の上げ方がわからない…。広告を出したいけど
 ノウハウがない…。といったお悩みがあるのではない
 でしょうか。不安やお悩みを解消できるよう、Yahoo! マ
 ーケティングソリューションパートナーであるグラッ
 ドキューブが、市場の動向やオンライン広告を利用し
 た売上向上施策を事例用いてご紹介いたします！\n▼
 こんな方にオススメ\n\n商品やサービスのブランディン
 グに力を入れたいけれどノウハウがない方\nオンライ
 ンプロモーションのコツを知りたい方\n情報発信で、
 何をすればいいのかわからない方\n広告の効果的な活
 用術を学びたい方\n\n ▼オンラインセミナーで学べる
 内容\n\n広告を活用したオンラインプロモーション術\nW
 eb広告の運用ノウハウ\nEC市場の動向\nYahoo! プロモーシ
 ョン広告での事例実績\n\n▼登壇者\n\n河野 貴伸\n株式
 会社フラクタ CEO\n2000年からフリーのデザイナーとして
 活動。美容室やアパレルを専門にWebデザイン・ロゴ・
 パンフレットなどの制作を手がける。2003年にオープン
 ソースを活用したWebサービスの受託開発を開始。「コ
 マースをエンターテイメント」に昇華すべく、2013年11
 月にはデジタル・ネイティブ・ブランディングの実現
 をミッションとした株式会社フラクタを設立し、代表
 取締役に就任。\n\n竹村脩平\n株式会社グラッドキュー
 ブ\nマーケティングソリューション事業部 サブマネー
 ジャー\n2014年、新卒で当時ベンチャー企業のセールス
 会社に入社。トップ営業マンとして活躍し、新卒採用
 組で最短マネージャーに昇格。以降営業活動から、部
 下の教育や社内における整備、Web事業の新規立ち上げ
 を務める。Web事業の立ち上げを経験し、Web広告の重要
 性を感じ、広告代理店への転職を決める。\nグラッド
 キューブに入社後、未経験ながらメーカー業界、IT・
 メディア業界、金融業界と多岐にわたる業界で広告運
 用を経験。現在は個人事業主や中小企業など少額ご予
 算のクライアント様を中心に支援。\n▼セミナー概要\n
 会場：ライブ配信 SreamYard  にて開催いたします。\n※ZO
 OM等に変更させていただく場合がございます。\n接続方
 法・参加URLは前日までのリマインドメールでお知らせ
 いたします。\n\n日時：2021年2月3日(水)15:00~16:00\n参加費
  ：無料\n定員：50 名\n注意事項 ※プログラム内容は変
 更となる場合がございます。※同業他社の方は参加を
 ご遠慮いただく場合がございます。※定員に達し次第
 、受付終了となります。※複数名での参加も可能です
 が、申込み状況によってはご調整をさせていただく場
 合がございます。
LOCATION:オンライン
URL:https://techplay.jp/event/806272?utm_medium=referral&utm_source=ics&utm
 _campaign=ics
END:VEVENT
END:VCALENDAR
