BEGIN:VCALENDAR
VERSION:2.0
PRODID:-//https://techplay.jp//JP
CALSCALE:GREGORIAN
METHOD:PUBLISH
X-WR-CALDESC:【延期】FinTech Talk vol.4 メルペイCTO・COOの二人
 が今気になる ○○
X-WR-CALNAME:【延期】FinTech Talk vol.4 メルペイCTO・COOの二人
 が今気になる ○○
X-WR-TIMEZONE:Asia/Tokyo
BEGIN:VTIMEZONE
TZID:Asia/Tokyo
BEGIN:STANDARD
DTSTART:19700101T000000
TZOFFSETFROM:+0900
TZOFFSETTO:+0900
TZNAME:JST
END:STANDARD
END:VTIMEZONE
BEGIN:VEVENT
UID:806356@techplay.jp
SUMMARY:【延期】FinTech Talk vol.4 メルペイCTO・COOの二人が今
 気になる ○○
DTSTART;TZID=Asia/Tokyo:20210323T193000
DTEND;TZID=Asia/Tokyo:20210323T200000
DTSTAMP:20260425T201910Z
CREATED:20210126T062308Z
DESCRIPTION:イベント詳細はこちら\nhttps://techplay.jp/event/80635
 6?utm_medium=referral&utm_source=ics&utm_campaign=ics\n\n延期のお知
 らせ\n当イベントに興味をお持ちいただき、誠にあり
 がとうございます。\n3月23日に開催を予定していた当
 イベントは、誠に不本意ではございますが 開催を延期
 することといたました。\nご視聴予定のみなさまには
 深くお詫び申し上げます。変更後の日時は現在調整中
 につき、確定次第あらためてご案内いたします。\nご
 迷惑をお掛けしおそれ入りますが 何卒ご理解ください
 ますようお願い申し上げます。\nイベント概要\nテクノ
 ロジーを活用した金融サービスは年々アップデートし
 ており、気がつくと新しい仕組みが普段の生活で使わ
 れるようになっていますよね。みなさんも近年キャッ
 シュレス決済などのFintechサービスを使った機会があっ
 たのではないでしょうか？\n絶えず変化のあるFintech業
 界ですが、今どのような動きがあるのでしょうか。Fint
 echやキャッシュレス決済に詳しいメルペイ取締役CTO曾
 川とCOO山本の話を聞いてみましょう！\n過去のイベン
 ト\n\nvol.1 https://mercari.connpass.com/event/194584/ \, イベント
 レポート\nvol.2 https://mercari.connpass.com/event/198772/ \, アー
 カイブ動画\nvol.3 アーカイブ動画\n\n今回のトピック\n
 未定\n（イベント当日、CTOとCOOののふたりにとって最
 もホットな話題をピックアップしてお届けする予定で
 す）\nこんな方におすすめ\n\nFintechサービスに携わって
 いる方\nFintechサービスのトレンドを知りたい方\nFintech
 サービスを利用しており、今後どんな金融ビジネスが
 来る可能性があるのか興味がある方\nFintechについてよ
 く分からないのでこれを機に知りたいという方\n世の
 中の、"お金"に関する課題に関心がある方\n\n備考\n\nイ
 ベントの視聴をご希望の方は、当connpassイベントペー
 ジにて申し込みしてください。\n当イベントは、限定
 公開の予定です。オンライン配信URLは、イベント開催
 日に当connpassページ上部の「参加者への情報」エリア
 をご覧ください（申込みをしている方のみ表示される
 エリアです）\n限定公開の内容ですので、イベントの
 録音・録画は固くお断りします。\n\n出演者\n株式会社
 メルペイ 取締役 CTO 曾川 景介（@sowawa）\n京都大学大学
 院情報学研究科システム科学専攻修士課程を修了。2011
 年にIPA未踏ユース事業に採択。大学院修了後にシリコ
 ンバレーの FluxFlex社にてWebPayを立ち上げる。ウェブペ
 イ株式会社の最高技術責任者（CTO）としてクレジット
 カード決済のサービス基盤の開発に従事、LINEグループ
 に参画しLINE Pay事業を経験。2017年6月メルカリグループ
 に参画。\n\nTwitter: https://twitter.com/sowawa\nメルペイ曾川
 景介氏、freee横路隆氏、PAY高野兼一氏が語る「お金の
 価値を支える技術基盤とは」\nメルカリはなぜ、メル
 ペイを作ったのか？CTO曾川氏が語る、メルペイが目指
 す場所\nメルペイCTOが語る金融サービスの未来｢お金
 がなくても使えるサービスに｣\n\n株式会社メルペイ 
 取締役 COO 山本 真人 （a.k.a. Mark）【インタビュアー】\
 n2004年 東京大学大学院 学際情報学府 修士課程修了。NT
 Tドコモを経て、2008年よりGoogle JapanのEnterprise部門 Head o
 f Partner Salesを務める。2014年にはSquare JapanにてHead of Busi
 ness Development and Sales、2016年からはApple JapanにてApple Pay 
 加盟店事業統括責任者を務める。2018年4月にメルペイ
 に参画し、CBOとして金融新規事業（Credit Design）や加盟
 店開拓など、ビジネス全般を担当。2021年1月より現職
 。\n\nTwitter: https://twitter.com/markyamamotom\n世界でもユニー
 クな、“信用をデザイン”するチーム──テクノロジ
 ーで「信用」の仕組みを変革する、メルペイのCredit Des
 ign\nテクノロジーで進化するビジネス Vol.6\n「ミッショ
 ンは変えない、でも…」今の状況下でメルペイCBOが再
 定義した役割\n\n関連リンク集\n\n株式会社メルペイ\nエ
 ンジニアリングブログ\nエンジニア向けTwitterアカウン
 ト\nメルカリ・メルペイキャリアサイト\n\n行動規範に
 ついて\n当イベントは、参加者と情報を共有するため
 の場です。そのため、主催者を含む全ての参加者は下
 記ページに記載される行動規範に同意していただく必
 要があります。ご理解ご協力をお願いいたします。\nht
 tps://about.mercari.com/event-code-of-conduct/\n何か困ったことな
 どありましたら、当イベントページの「イベントへの
 お問い合わせ」からご連絡ください。\n株式会社メル
 ペイ：https://jp.merpay.com/
LOCATION:オンライン オンライン
URL:https://techplay.jp/event/806356?utm_medium=referral&utm_source=ics&utm
 _campaign=ics
END:VEVENT
END:VCALENDAR
