BEGIN:VCALENDAR
VERSION:2.0
PRODID:-//https://techplay.jp//JP
CALSCALE:GREGORIAN
METHOD:PUBLISH
X-WR-CALDESC:OCNエンジニアが語る #1「Super OCN Flexible Connect」
X-WR-CALNAME:OCNエンジニアが語る #1「Super OCN Flexible Connect」
X-WR-TIMEZONE:Asia/Tokyo
BEGIN:VTIMEZONE
TZID:Asia/Tokyo
BEGIN:STANDARD
DTSTART:19700101T000000
TZOFFSETFROM:+0900
TZOFFSETTO:+0900
TZNAME:JST
END:STANDARD
END:VTIMEZONE
BEGIN:VEVENT
UID:806421@techplay.jp
SUMMARY:OCNエンジニアが語る #1「Super OCN Flexible Connect」
DTSTART;TZID=Asia/Tokyo:20210324T190000
DTEND;TZID=Asia/Tokyo:20210324T200000
DTSTAMP:20260425T230958Z
CREATED:20210126T142611Z
DESCRIPTION:イベント詳細はこちら\nhttps://techplay.jp/event/80642
 1?utm_medium=referral&utm_source=ics&utm_campaign=ics\n\nOCNのエンジ
 ニアがOCNのことについて語るイベントです。\n初回の
 テーマは「Super OCN Flexible Connect」\n「Super OCN Flexible Conne
 ct」は2021年1月 にリリースしたサービスで、\nこれまで
 の法人向けインターネットサービスと異なり、WebやAPI
 でオンデマンドに開通や設定変更ができる機能があり
 ます。\n今回のイベントでは、Super OCN Flexible Connectの開
 発者が、\nSuper OCN Flexible Connectのご説明や便利な使い方
 についてお話します。\nOCNのエンジニア主催のイベン
 ト\n特定のネットワークサービスのイベントって、こ
 れまでなかなかありませんでしたよね？\nOCNも例にも
 れず実施されてませんでした。\n今回のイベントはそ
 の殻を破るような第一歩として実施してます。\nOCNエ
 ンジニア主体で、初めての開催となりますので、\n不
 慣れな点もあると思いますが、温かい目でご参加いた
 だけますと幸いです。\nこんな人におすすめ\n\nインタ
 ーネット接続サービスに興味がある方\nネットワーク
 自動化に興味がある方\nOCNが好きな方\n\nタイムスケジ
 ュール\n\n\n\n時間\nプログラム\nスピーカー\n\n\n\n\n19:00\
 nオープニングトーク\n\n\n\n19:10\nSuper OCN Flexible Connectと
 は？\n伊藤 良哉 (NTTコミュニケーションズ)\n\n\n19:30\nSup
 er OCN Flexible Connectの便利な使い方\n松田 丈司 (NTTコミュ
 ニケーションズ)\n\n\n\nQAセッションあるかも\n\n\n\n20:00\
 nクロージング\n\n\n\n\n会場\nオンライン\n参加方法\n参
 加者への情報にZoomのURLを掲載していますので、\nそち
 らからご参加ください。
LOCATION:オンライン オンライン
URL:https://techplay.jp/event/806421?utm_medium=referral&utm_source=ics&utm
 _campaign=ics
END:VEVENT
END:VCALENDAR
