BEGIN:VCALENDAR
VERSION:2.0
PRODID:-//https://techplay.jp//JP
CALSCALE:GREGORIAN
METHOD:PUBLISH
X-WR-CALDESC:定員オーバーのため増席！【オンライン開催
 ！】SDGsボードゲームファシリテーター説明会
X-WR-CALNAME:定員オーバーのため増席！【オンライン開催
 ！】SDGsボードゲームファシリテーター説明会
X-WR-TIMEZONE:Asia/Tokyo
BEGIN:VTIMEZONE
TZID:Asia/Tokyo
BEGIN:STANDARD
DTSTART:19700101T000000
TZOFFSETFROM:+0900
TZOFFSETTO:+0900
TZNAME:JST
END:STANDARD
END:VTIMEZONE
BEGIN:VEVENT
UID:807258@techplay.jp
SUMMARY:定員オーバーのため増席！【オンライン開催！】S
 DGsボードゲームファシリテーター説明会
DTSTART;TZID=Asia/Tokyo:20210225T200000
DTEND;TZID=Asia/Tokyo:20210225T213000
DTSTAMP:20260424T162256Z
CREATED:20210202T111837Z
DESCRIPTION:イベント詳細はこちら\nhttps://techplay.jp/event/80725
 8?utm_medium=referral&utm_source=ics&utm_campaign=ics\n\n【オンライ
 ン開催！】SDGsボードゲームファシリテーター説明会\n
 まだ外出を控えたくオンライン参加もできるようにし
 ました。\nイベントが開始後連絡が取りづらくなりま
 す。20:10以降は特に連絡が取れないのでネット環境でZo
 omから退室した場合は再度同じリンクに入って頂ける
 と幸いです。\n※ZoomのURLは、開催30分前にはTECHPLAYメッ
 セージにて申し込み頂いた方にご案内します。\n◆Zoom
 　事前ダウンロードお願いします。\nhttps://zoom.us/\n\n内
 容\n協会では、協会オリジナルポードゲーム、「Sustaina
 ble World BOARDGAME」の認定ファシリテーターを募集してい
 ます。\n現在34都道府県拠点とするファシリテーター輩
 出し、人数はTOTAL200名を超えました。\n全国にファシリ
 テーターを輩出して、各都道府県からのSDGs達成に向け
 て、このファシリテーター制度についての説明会を行
 います。\nSDGsボードゲームファシリテーターの概要\n
 ・累計3\,000名以上に参加頂いている「SDGsワークショッ
 プ」の概要説明\n・簡単なボードゲーム体験\n・質疑応
 答\nSDGsの事例にはTech（未来技術）の要素も満載です！
 \nボードゲームのルールも大幅にリニューアルし、よ
 り現実に即した内容となっています！！\nSDGsボードゲ
 ーム「Sustainable World BOARDGAME」が、2020年3月9日（月）に
 、ソーシャルプロダクツ・アワード2020「ソーシャルプ
 ロダクツ賞」を受賞しました。\nhttps://future-tech-associati
 on.org/2020/03/09/sustainable_world_boardgame_socialproductsaward_2020/\n
 本研修はこんな方にオススメ\n・SDGsを気軽に学びたい
 方\n・SDGsや社会課題に関連する仕事をされている方\n
 ・SDGsに関する教育や研修にご関心のある方\n・未来技
 術推進協会やボードゲームに興味をお持ちいただいた
 方\n・認定ファシリテーターに興味がある方\nどなたで
 も最大限楽しめる内容になっており、「自分も何か行
 動したい！」という想いを持った方同士で、将来に繋
 がる仲間がきっと見つかります！\nまた、オンライン
 を活かして将来的には47都道府県にて同時開催のワー
 クショップも視野に入れています！\nぜひ、日本全国
 にファシリテーターを輩出すべく仲間が増えたら嬉し
 いです！\nSDGsとは\nSustainable Development Goals（持続可能な
 開発目標）の略称で、国連が2015年に採択した、持続可
 能な世界を目指すための全世界共通のゴールのことで
 す。\nこの達成には一人一人が意識し行動することが
 求められているが、まだまだ認知度が低く、協会も認
 知拡大やテクノロジーによる解決に向けた活動に力を
 入れています。\n\nタイムスケジュール\n\n\n\n時間\n内
 容\n\n\n\n\n19:55〜\n接続開始\n\n\n20:00〜\nイベントスター
 ト\n\n\n20:10\n（問合せ受付終了）\n\n\n21:30〜\n終了\n\n\n\n
 ※ 当日予告なく時間配分・内容が変更になる可能性が
 ございます。\n※ 顔出しでご参加いただけますと幸い
 です\n※ 途中参加、途中退出可能です\n※ ZOOMを始めて
 利用される方は、お時間があれば\n　 早めにご参加い
 ただけるとスムーズかと思います。\n会場\nオンライン
 開催\n※テレビ会議ツールZoomを利用します。\n日時\n202
 1/2/25（木）\n20:00 〜 21:30 (予定)\n定員\n30名\n参加費\n無
 料\nお申し込み\n本サイトよりお申し込みください。\n
 ※万が一新型コロナウイルスで開催不可になった際\n
 主催者の判断で中止となる場合があります。\nその際
 、イベント日程を延期させて頂きますので改めて周知
 致します。\nお問い合わせ\n一般社団法人\n未来技術推
 進協会\n企画担当者　北畑\n問合せメールアドレス：sdg
 s_facilitator@future-tech-association.org\n※20:10以降は問い合せ
 に対応し兼ねます。ご了承ください。\nhttps://future-tech-
 association.org/\n事前アンケート内容\nお名前\nメールアド
 レス\n所属\nこのイベントに期待する事
LOCATION:Zoomオンライン
URL:https://techplay.jp/event/807258?utm_medium=referral&utm_source=ics&utm
 _campaign=ics
END:VEVENT
END:VCALENDAR
