BEGIN:VCALENDAR
VERSION:2.0
PRODID:-//https://techplay.jp//JP
CALSCALE:GREGORIAN
METHOD:PUBLISH
X-WR-CALDESC:Kubernetes Meetup Tokyo #39
X-WR-CALNAME:Kubernetes Meetup Tokyo #39
X-WR-TIMEZONE:Asia/Tokyo
BEGIN:VTIMEZONE
TZID:Asia/Tokyo
BEGIN:STANDARD
DTSTART:19700101T000000
TZOFFSETFROM:+0900
TZOFFSETTO:+0900
TZNAME:JST
END:STANDARD
END:VTIMEZONE
BEGIN:VEVENT
UID:807274@techplay.jp
SUMMARY:Kubernetes Meetup Tokyo #39
DTSTART;TZID=Asia/Tokyo:20210225T190000
DTEND;TZID=Asia/Tokyo:20210225T213000
DTSTAMP:20260424T100311Z
CREATED:20210202T141231Z
DESCRIPTION:イベント詳細はこちら\nhttps://techplay.jp/event/80727
 4?utm_medium=referral&utm_source=ics&utm_campaign=ics\n\n\n\nオンライ
 ン配信について\n今回は下記 YouTube Live でのオンライン
 開催で本日「19:00」から開始となります。\nhttps://youtu.b
 e/yp3wuFB4d9M\n\n\n質疑について\n質疑には sli.do #k8sjp39 を
 利用します。質疑のなかから主催側でいくつか選択し
 て代理で登壇者に質問します。\nhttps://app.sli.do/event/hpmp
 gctc\n\n\n\nKubernetes Meetup Tokyo #39 を開催します！ コンテ
 ナをデプロイできる強力なシステム Kubernetes のことを
 詳しく聞く会です！\n通常はオフライン & オンライン
 の同時開催をしていますが、近況を踏まえ前回に続き
 オンラインのみの開催となります。\n\n行動規範 (Code of
  Conduct) について\nKubernetes Meetup Tokyoは、Kubernetesユーザ
 が集まり、KubernetesやKubernetesを使ったソフトウェアに
 ついて情報交換、交流をするための勉強会です。勉強
 会の開催を通じて、Kubernetesのユーザが一堂に集まり、
 Kubernetesにまつわる様々な分野の知識や情報を交換し、
 新たな友人やコミュニティとのつながり、仕事やビジ
 ネスチャンスを増やせる場所とすることが目標です。\
 nこれを達成するため、参加者の全員が、行動規範に同
 意していただくことが必要です。全員にとって安全な
 環境を維持するため、皆さん一人一人にご協力をお願
 いします。\n\nKubernetes Meetup Tokyo 行動規範 (Code of Conduct)
 \n\nタイムテーブル\n\n\n\n時間\n内容\nスピーカー\n\n\n\n\
 n19:00~19:05\nOpening (5min)\n\n\n\n19:05~19:35\nKubernetesコミュニ
 ティへ提案中のKEP「ロギング強化機能」についての紹
 介 (30min)\n小林大介\, 富士通株式会社\n\n\n19:35~19:40\n5分
 休憩\n-\n\n\n19:40~20:10\nKubernetes Multi Cluster Networkingそして
 、IntentBased Networkingの世界へ (30min)\nKazushige Takeuchi (@kaz_t
 ech_)\, Rakuten Mobile\, Inc.\n\n\n20:10~20:15\n5分休憩\n-\n\n\n20:15~
 20:30\nLT 5 min * 3 (15 min)\n\n\n\n20:30~21:30\n懇親会 @ Zoom MTG\n<
 全員>\n\n\n\n19:05~19:35 Kubernetesコミュニティへ提案中のKEP
 「ロギング強化機能」についての紹介  (30min)\nby 小林
 大介\, 富士通株式会社\n現在、富士通がKubernetesコミュ
 ニティに提案中のロギング強化機能の概要と活用方法
 を紹介します。この機能が実現すれば、ログに付与さ
 れたID情報から、エラーや異常の元となったオペレー
 ションと途中の経緯を簡単に辿ることが可能になりま
 す。セッションでは、概要のほかにも、KubeFestで話し
 た内容からのアップデートや、K8sコミュニティ開発に
 おける実体験や苦労話なども紹介します。\n19:40~20:10 Ku
 bernetes Multi Cluster Networkingそして、IntentBased Networkingの世
 界へ (30min)\nby Kazushige Takeuchi (@kaz_tech_)\, Rakuten Mobile\, Inc
 .\nテレコムにおけるKubernetes関連の営みと、Multi Cluster
 周りの基礎？をご紹介したいと思います\nBio: Ninja Archit
 ect テレコム歴13年、Python歴17年、クラウドプラットフ
 ォーム・SDN歴5年、テレコムの何でも屋さん\n20:15-20:30 L
 T (5 min * 3)\n\nRay on Kubernetes ～分散機械学習基盤構築～ b
 y mrsw\n世界一わかりみが深いコンテナ & Docker入門 〜 Doc
 kerのファイルシステムってどうなってるの？ 〜 by noriy
 ukitakei\nkube-vipで作るお手軽高可用クラスター 外出しHAP
 roxyからの卒業 by inductor\n\n参加枠\nオンライン配信参加
 枠（先着）\nオンライン配信枠です。登録いただいた
 皆様には中継用のURLをお送りさせていただきます。\n
 ブログ枠 (先着)\nイベントについて1週間以内にブログ
 で紹介していただける方の枠になります。\nこの参加
 枠で参加される方は、当日現地には入館できませんの
 でご注意ください。\nLT枠（抽選）\nLT枠です。当日はZo
 omに入って頂き、リアルタイムでご登壇いただきます
 。\nLTは5分厳守です。LTをやりたい方は、事前にLT枠で
 参加した上、このフォームからタイトルを入力してく
 ださい。\n⚠ フォームを入力されていてもLT枠で参加
 できていないと発表いただけません。またLT枠で参加
 されていても抽選日までにフォームの入力が確認でき
 なかった場合はキャンセルとさせていただきます。ご
 了承ください。\n参加費\n無料\n配信\n\n当日はYouTube Live
 で配信します。過去のイベント動画も以下で公開して
 いますので是非ご覧ください。\nKubernetes Meetup Tokyo - You
 Tube\n
LOCATION:オンライン オンライン
URL:https://techplay.jp/event/807274?utm_medium=referral&utm_source=ics&utm
 _campaign=ics
END:VEVENT
END:VCALENDAR
