BEGIN:VCALENDAR
VERSION:2.0
PRODID:-//https://techplay.jp//JP
CALSCALE:GREGORIAN
METHOD:PUBLISH
X-WR-CALDESC:今すぐ自分でできる！ノーコードアプリ開発
 ！〜「サスケWorks」のご紹介〜
X-WR-CALNAME:今すぐ自分でできる！ノーコードアプリ開発
 ！〜「サスケWorks」のご紹介〜
X-WR-TIMEZONE:Asia/Tokyo
BEGIN:VTIMEZONE
TZID:Asia/Tokyo
BEGIN:STANDARD
DTSTART:19700101T000000
TZOFFSETFROM:+0900
TZOFFSETTO:+0900
TZNAME:JST
END:STANDARD
END:VTIMEZONE
BEGIN:VEVENT
UID:807306@techplay.jp
SUMMARY:今すぐ自分でできる！ノーコードアプリ開発！〜
 「サスケWorks」のご紹介〜
DTSTART;TZID=Asia/Tokyo:20210210T110000
DTEND;TZID=Asia/Tokyo:20210210T114500
DTSTAMP:20260420T090800Z
CREATED:20210203T041916Z
DESCRIPTION:イベント詳細はこちら\nhttps://techplay.jp/event/80730
 6?utm_medium=referral&utm_source=ics&utm_campaign=ics\n\n2月10日（水
 ） “サスケWorks” スペシャルウェビナー開催！\n「色
 々なツールやアプリで業務改善を推進しているけど、
 自社の運用にハマらずうまくいかない。」「業務改善
 のために独自のシステム開発を検討しても、コストが
 合わず導入できない。」そんなお悩みを解決するのが
 、ノーコードアプリ開発ツール「サスケWorks」！ プロ
 グラミング知識は一切不要、今話題の「ノーコード」
 でオリジナルのアプリを誰でも簡単に作ることができ
 ます。今回のウェビナーでは、サスケWorksでどんなこ
 とができるのか、実際にアプリ作成やアプリのデモを
 交えながらわかりやすく解説いたします。なかなか収
 束の兆しを見せないコロナ禍の現在、リモートワーク
 ・業務効率化が急務となっている企業様の一助となれ
 ればとの思いから、ウェビナー後のアンケートご解答
 いただいた方に特典としてサスケWorksの『Standard Plan』
 がなんと1年間無料に！ この機会をお見逃しなく！！\n
 \n\n\nアンケートにお答えいただいた方には、キャンペ
 ーンコードをメールにてお送りさせていただきます。
 キャンペーンコードを使ってプランにお申し込みいた
 だければ1年間無料が適用となります。詳しくはお申し
 込み後にお送りするメールにてご確認ください。\n概
 要\n\n\n\n開催日時\n2021年2月10日(水) 11:00～約45分\n\n\n開
 催場所\nZoomをつかって登壇者も全員オンラインから参
 加のH2Hセミナー形式で行います。Zoomがインストールさ
 れていない方は事前にダウンロードしてください。※W
 ebカメラおよびマイクの準備は不用です。Zoomのインス
 トール、参加方法は以下のサイトをご参考下さい。・Z
 oomミーティングに参加する方法・スマートフォンからZ
 oomミーティングに参加する方法・【Zoomアプリの使い方
 】スマホを使ったWeb会議の開催と参加方法\n\n\n参加料\
 n無料\n\n\n参加方法\nZoomでのオンライン配信※Zoomウェ
 ビナーのURLは、「申込完了ページ」と「申込完了メー
 ル」でご案内いたします。\n\n\n特典\nウェビナー視聴
 後のアンケートにお答えいただいた方に、スタンダー
 ドプランを1年間無料でご利用いただけるキャンペーン
 コードをプレゼントいたします。\n\n\n主催\n\n■株式会
 社インターパークHP: https://www.interpark.co.jp/\n株式会社イ
 ンターパークでは、オリジナルクラウドサービスの提
 供とオーダーメイドのWEBシステム開発を行っておりま
 す。 自社サービスでは、クラウドのシステムをゼロか
 ら開発し、社内ですべて製品化。セールスからカスタ
 マーサポートまでを一貫して提供しております。 受託
 システム開発では、お客様のご要望に応じたWEBシステ
 ムの開発、WEBアプリケーションの制作を行います。 自
 社パッケージソフトをベースとしたカスタマイズや、
 ゼロからのフルスクラッチ開発まで、様々な案件に対
 応しています。■サスケWorksHP: https://works.saaske.com/\n\n\n
 \n\nプログラム\n\n\n\n時間\n内容\n\n\n11:00〜11:45\n【2月10
 日（水）サスケWorksスペシャルウェビナー】今すぐ自
 分でできる!ノーコードアプリ開発！〜「サスケWorks」
 のご紹介〜\n\nサスケWorksでどんなことができるのか\n
 アプリの作成\nアプリの活用について\n\nデモを交えな
 がら、わかりやすく解説いたします。※当日予告なく
 時間配分・内容が変更になる可能性がございます。\n\n
 \n\n\nご注意\n\n画面共有いたしますので、デスクトップ
 が見える状態でお待ちください。\nセミナー内容は予
 告なく変更になる場合がございます。\nオンライン配
 信内容の録画、録音、撮影についてはお断り致します
 。\n本座談会の無断での記事配信はお断り致します。\n
 映像や音声が乱れる場合もございます。予めご了承く
 ださい。\n終了時刻は目安となります。予定時刻が前
 後する可能性がございます。予めご了承ください。\n
 お仕事のご事情などによる説明会への途中参加・途中
 退出も問題ございません。\nご登録いただいた情報か
 ら、個別でコンタクトさせていただく可能性がござい
 ます。予めご了承ください。\n
LOCATION:オンライン
URL:https://techplay.jp/event/807306?utm_medium=referral&utm_source=ics&utm
 _campaign=ics
END:VEVENT
END:VCALENDAR
