BEGIN:VCALENDAR
VERSION:2.0
PRODID:-//https://techplay.jp//JP
CALSCALE:GREGORIAN
METHOD:PUBLISH
X-WR-CALDESC:AWSの基礎を学ぼう 第三十一回
X-WR-CALNAME:AWSの基礎を学ぼう 第三十一回
X-WR-TIMEZONE:Asia/Tokyo
BEGIN:VTIMEZONE
TZID:Asia/Tokyo
BEGIN:STANDARD
DTSTART:19700101T000000
TZOFFSETFROM:+0900
TZOFFSETTO:+0900
TZNAME:JST
END:STANDARD
END:VTIMEZONE
BEGIN:VEVENT
UID:807501@techplay.jp
SUMMARY:AWSの基礎を学ぼう 第三十一回
DTSTART;TZID=Asia/Tokyo:20210301T121500
DTEND;TZID=Asia/Tokyo:20210301T130000
DTSTAMP:20260424T020437Z
CREATED:20210204T141710Z
DESCRIPTION:イベント詳細はこちら\nhttps://techplay.jp/event/80750
 1?utm_medium=referral&utm_source=ics&utm_campaign=ics\n\n第八回から
 イベント時間を12時15分開始とします。\nお昼休み時間
 に気軽にご参加ください。\n13時15分ではないので、ご
 注意ください！！\nAmazon Web Services (AWS)は現在175を超え
 るサービスを提供し、日々サービスの拡充を続けてい
 ます。\nこのAWS DevRelシリーズでは週次でAWSのサービス
 をひとつづつ取り上げながらその基礎を説明していく\
 n初心者、中級者をターゲットとした講座です。午後の
 仕事前にスキルアップを一緒にしませんか？\n第三十
 一回はインテリジェントな脅威検出と継続的なモニタ
 リングで AWS のアカウント、ワークロード、データを
 保護するAmazon GuardDutyです。\n学ぶサービス\nAmazon GuardDu
 ty\n\n配信はAmazon Chimeを使います。当日お申込みいただ
 いた方向けに12時ごろAmazon ChimeのログインURLをお送り
 します。ブラウザでも視聴可能です。\n資料はオンラ
 インイベント中にSlideshareのURLを共有します。\nそれで
 はみなさんとお会いできることを楽しみにしています
 。\n講師：アマゾン ウェブ サービス ジャパン、シニ
 アエバンジェリスト 亀田\n\n注意点\n登壇者による発表
 内容はアマゾン ウェブ サービス ジャパンとして主催
 しているものではなく、コミュニティ活動の一環とし
 て勉強会の主催を行っているものです。
LOCATION:オンライン Amazon Chime
URL:https://techplay.jp/event/807501?utm_medium=referral&utm_source=ics&utm
 _campaign=ics
END:VEVENT
END:VCALENDAR
