BEGIN:VCALENDAR
VERSION:2.0
PRODID:-//https://techplay.jp//JP
CALSCALE:GREGORIAN
METHOD:PUBLISH
X-WR-CALDESC:ヤクルト本社様ご登壇！Go Insight活用による「
 売れる売場」の仮説検証～小売様とヤクルト本社様のw
 in-win達成のシナリオ～
X-WR-CALNAME:ヤクルト本社様ご登壇！Go Insight活用による「
 売れる売場」の仮説検証～小売様とヤクルト本社様のw
 in-win達成のシナリオ～
X-WR-TIMEZONE:Asia/Tokyo
BEGIN:VTIMEZONE
TZID:Asia/Tokyo
BEGIN:STANDARD
DTSTART:19700101T000000
TZOFFSETFROM:+0900
TZOFFSETTO:+0900
TZNAME:JST
END:STANDARD
END:VTIMEZONE
BEGIN:VEVENT
UID:807554@techplay.jp
SUMMARY:ヤクルト本社様ご登壇！Go Insight活用による「売れ
 る売場」の仮説検証～小売様とヤクルト本社様のwin-win
 達成のシナリオ～
DTSTART;TZID=Asia/Tokyo:20210302T150000
DTEND;TZID=Asia/Tokyo:20210302T161000
DTSTAMP:20260421T002342Z
CREATED:20210205T084328Z
DESCRIPTION:イベント詳細はこちら\nhttps://techplay.jp/event/80755
 4?utm_medium=referral&utm_source=ics&utm_campaign=ics\n\nウェビナー
 概要　\n本ウェビナーでは弊社のショッパー行動解析
 サービス「Go Insight」のご活用企業様の一つであるヤク
 ルト本社様（直販営業部 チェーンストア課 吉川様、
 尾崎様）にご登壇を頂き、データを活用してメーカー
 様視点で売場改善をご提案した事例をご紹介頂きます
 ！自社製品だけでなくカテゴリー全体の視認性や売上
 の向上にも寄与し、小売様ともwin-winの関係を築くこと
 に成功したベストプラクティスになります。また第三
 部では、店舗のICT活用研究所 代表である郡司様にもご
 参加頂き、メーカー様、小売様、サービスプロバイダ
 ーの3社3様の視点でディスカッションを行う予定です
 。リアル店舗のマーケティングに課題感を持つ全ての
 方におススメの内容となっておりますので、ぜひお見
 逃しなく！\n参加対象（こんな方におすすめです）\n\n
 店頭マーケティングで成果を出したい　セールス・マ
 ーケターの方　\nショッパー行動からヒントを得たい
 　商品企画・開発担当の方\n店頭のデジタル施策を推
 進する　小売業のDX担当の方\n\n※同業他社の方のお申
 込みはお断りしております。\n\nプログラム概要\n 【第
 一部】（15:05-15:15）\nGo Insightで棚前のショッパー行動
 を徹底解析！\n\n\n【講師】\nコニカミノルタ株式会社\n
 マーケティングデータコンサルタント\n清水 隆史\n\n\n\
 n 【第二部】（15:15-15:45）\nGo Insight活用による「売れる
 売場」の仮説検証\n\n\n【講師】\n株式会社ヤクルト本
 社　直販営業部　チェーンストア課\n主事　吉川 純也\
 n尾崎 駿\n\n\n \n【第三部】（15:45-16:10）\nトークセッシ
 ョン\n\n株式会社ヤクルト本社　直販営業部　チェーン
 ストア課\n主事　吉川 純也\n尾崎 駿\n\n\n店舗のICT活用
 研究所\n代表　郡司 昇\n\n\nコニカミノルタ株式会社\n
 マーケティングデータコンサルタント\n清水 隆史\n登
 壇者\n\n\n株式会社ヤクルト本社　直販営業部　チェー
 ンストア課\n主事　吉川 純也\n\n入社以来、宅配営業や
 商品企画を経て、現在はコンビニエンスストアやGMS等
 、チェーンストアへの商品提案及び、売り場や販促の
 企画提案を担う。また、店頭のリサーチ・分析業務を
 通して、「データに基づいた営業提案」を実践してい
 る。おすすめのヤクルト商品は「ヤクルトW」。\n\n\n\n\
 n株式会社ヤクルト本社　直販営業部　チェーンストア
 課\n尾崎 駿\n\n入社以来、ヤクルトレディの営業を統括
 する宅配営業を経て、現在は吉川氏と同様チェーンへ
 の商品提案及び販促提案を担う。また店頭のリサーチ
 ・分析業務やヤクルトの営業に関わるシステム関連業
 務にあたっている。おすすめのヤクルト商品は「ミル
 ミル」。\n\n\n\n\n店舗のICT活用研究所\n代表　郡司 昇\n\
 n1999年 株式会社ランド設立 代表取締役社長。2007～2018
 年 株式会社ココカラファインでドラッグストア・保険
 調剤薬局の販社統合業務→EC事業会社 代表取締役社長
 として事業黒字化。\n同時にグループ統合マーケティ
 ング部門を立ち上げて責任者兼任。 2018年～現職　My jo
 b is 全体最適、デジタルシフトに関して悩みがある企
 業のお手伝いをして、その先にある顧客体験を向上す
 ること。小売のICT活用＆IT企業の小売理解をお手伝い
 しています。\n\n \nコニカミノルタ株式会社\nマーケテ
 ィングデータコンサルタント\n清水 隆史\n\nショッパー
 行動解析サービス「Go Insight」の企画・開発に携わり、
 飲料品・食料品・日用品・嗜好品など20社以上のメー
 カー・ブランドオーナー様や小売・流通企業様の課題
 解決を支援。マーケティングデータ分析を行いながら
 企業のデジタルトランスフォームを支援すると共にエ
 バンジェリストとしても活動し、セミナー・研修等の
 登壇多数。スクラムマスターとしてアジャイルマーケ
 ティングのアドバイザリーにも従事。サイエンスの観
 点からマーケティングを進化させる。専攻は宇宙物理
 学。\n参加費\n無料\n注意事項\n※ご入力いただいたメ
 ールアドレス宛に、各種ご案内のメールをお送りさせ
 ていただく場合があります。\n※ 弊社では各種ウェビ
 ナーをご用意しております。詳細は下記よりご覧くだ
 さい。\n　https://promarketing.konicaminolta.com/news/\n\n\n 
LOCATION:オンライン
URL:https://techplay.jp/event/807554?utm_medium=referral&utm_source=ics&utm
 _campaign=ics
END:VEVENT
END:VCALENDAR
