BEGIN:VCALENDAR
VERSION:2.0
PRODID:-//https://techplay.jp//JP
CALSCALE:GREGORIAN
METHOD:PUBLISH
X-WR-CALDESC:【文系女子必見♡】バレンタイン当日！プロ
 グラミング体験会
X-WR-CALNAME:【文系女子必見♡】バレンタイン当日！プロ
 グラミング体験会
X-WR-TIMEZONE:Asia/Tokyo
BEGIN:VTIMEZONE
TZID:Asia/Tokyo
BEGIN:STANDARD
DTSTART:19700101T000000
TZOFFSETFROM:+0900
TZOFFSETTO:+0900
TZNAME:JST
END:STANDARD
END:VTIMEZONE
BEGIN:VEVENT
UID:807596@techplay.jp
SUMMARY:【文系女子必見♡】バレンタイン当日！プログラ
 ミング体験会
DTSTART;TZID=Asia/Tokyo:20210214T130000
DTEND;TZID=Asia/Tokyo:20210214T180000
DTSTAMP:20260421T094608Z
CREATED:20210206T033152Z
DESCRIPTION:イベント詳細はこちら\nhttps://techplay.jp/event/80759
 6?utm_medium=referral&utm_source=ics&utm_campaign=ics\n\n【文系女子
 必見♡】バレンタイン当日！プログラミング体験会\n\n
 ーーーーーーーーーーーーーーーーーーーーーーーー
 ーーーーーーーーーーーーーーーーーーーーーーーー
 ーーーーーーーー\n 「今年はコロナのせいで、バレン
 タインにすることないな…」\n\nそんな文系女子のみな
 さん、たった1日でプログラミングを体験してみません
 か？\n女子のみんなでわいわい開発！就活の話なんか
 も聞けちゃうかも？\n\nーーーーーーーーーーーーーー
 ーーーーーーーーーーーーーーーーーーーーーーーー
 ーーーーーーーーーーーーーーーーーー\n2時間で今流
 行りのプログラミングを体験してみよう！\n\n 全国で30
 00人近くの大学生にプログラミング教育を提供してき
 たGeekSalonが未経験の大学生の方々に向け、\nこの度プ
 ログラミング体験会を開催します！\n就活にも将来に
 も活きるプログラミングをこの機会に！\n \nプログラ
 ミング体験会\n▶︎IT業界興味あるからプログラミング
 を軽く触れておきたい\n▶︎プログラミングについて
 詳しい人と話してみたい\n▶︎プログラミング始めて
 みたいけど、何からやればいいか分からない...\nとい
 った方大歓迎です！！\n\n先が見えない世の中になりつ
 つある今、この春休みで確かな「武器」を身に付ける
 第一歩を踏み出してみませんか？？\n\nこんな人におす
 すめ！！\n\n✅就活で周りの大学生にはない武器を作り
 たい！\n✅プログラミングに少し興味があるけど、や
 ったことがない！\n\n✅以前プログラミングに挑戦した
 けど、挫折した！\nーーーーーーーーーーーーーーー
 ーーーーーーーーーーーーーーーーーーーーーーーー
 ーーーーーーーーーーーーーーーーー\n\n＞イベント詳
 細はこちら\n 2時間で簡単なWebサイトやゲームが作れち
 ゃいます！\nその後は座談会といった形でITスキルやプ
 ログラミングについての悩みを聞いたり、\nGeekSalonに
 ついて知って頂きます！\n\n　　　13:00　ガイダンス\n
 　　　13:30~14:30　体験タイム\n　　　15min 休憩\n　　　1
 4:45~ 15:45 体験タイム\n　　　15min 休憩\n　　　16:00~17:00 
 体験タイム\n　　　15min 休憩\n　　　17:15~18:00 交流会\n\
 n【オンライン開催】\n日時：2/14(日) 13:00~18:00\n場所：
 オンライン(zoom)\n定員：15 名(先着)\n\n対象：大学生or大
 学院生（学部問わない）
LOCATION:オンライン
URL:https://techplay.jp/event/807596?utm_medium=referral&utm_source=ics&utm
 _campaign=ics
END:VEVENT
END:VCALENDAR
