BEGIN:VCALENDAR
VERSION:2.0
PRODID:-//https://techplay.jp//JP
CALSCALE:GREGORIAN
METHOD:PUBLISH
X-WR-CALDESC:【2/10 & 2/11 無料開催】IT×英語を身に着けろ！
 大リストラ時代のキャリア戦略
X-WR-CALNAME:【2/10 & 2/11 無料開催】IT×英語を身に着けろ！
 大リストラ時代のキャリア戦略
X-WR-TIMEZONE:Asia/Tokyo
BEGIN:VTIMEZONE
TZID:Asia/Tokyo
BEGIN:STANDARD
DTSTART:19700101T000000
TZOFFSETFROM:+0900
TZOFFSETTO:+0900
TZNAME:JST
END:STANDARD
END:VTIMEZONE
BEGIN:VEVENT
UID:807773@techplay.jp
SUMMARY:【2/10 & 2/11 無料開催】IT×英語を身に着けろ！大リ
 ストラ時代のキャリア戦略
DTSTART;TZID=Asia/Tokyo:20210210T200000
DTEND;TZID=Asia/Tokyo:20210211T213000
DTSTAMP:20260421T065525Z
CREATED:20210208T060711Z
DESCRIPTION:イベント詳細はこちら\nhttps://techplay.jp/event/80777
 3?utm_medium=referral&utm_source=ics&utm_campaign=ics\n\nIT×英語を身
 につけろ！大リストラ時代のキャリア戦略\nKredoオンラ
 インセミナー\nPresented by KREDO IT ABROAD INC. CEO 横田 猛夫\n
 イベントの目的\n英語現在とこれから予測される世界
 情勢、これから身につけるべきスキルを理解し、皆様
 のより良いキャリア設計に役立てていただきます。\n
 イベント開催の背景\n新型コロナウイルスによる大リ
 ストラ時代が到来し、失業率は昨年の2倍を超え、今後
 ますます拡大していくと予想されています。また、飲
 食店や製造業に限らず国内のIT業界も数年後には倒産
 の危機にさらわれるといわれています。激動の現代に
 生きるわたしたち日本人には、今、「プログラミング
 スキル」「英語スキル」が強く求められています。\n
 本セミナーでは、「ITスキル」「英語スキル」という
 「２大スキル」を同時に身につける効果的な方法とし
 て「"英語で"プログラミングを学ぶ」方法をご紹介。
 こうした時代背景を具体的な事例と共に丁寧に解説し
 ながら、「"英語で"プログラミングを学ぶ」ことの意
 義や学び方、スキル習得後のキャリアや進路について
 深く掘り下げてお話し致します。\nこれからの人生、
 キャリア設計、スキル習得を考える上で必ず抑えてお
 きたい情報満載の90分！無料のオンラインセミナーで
 す。\n参加対象者\n・ITと英語のスキルを身につけ、時
 代に対応できる人材を目指したい方\n・仕事につなが
 るスキルを持っておらず、将来が不安な方\n・漠然と
 海外で働いてみたいと思っている方\n・英語に自信は
 あるが、英語＋αのスキルを習得し世界で活躍したい
 方\n・世界で戦えるエンジニア・IT人材を目指したい方
 \n・コロナ禍の中、本当に仕事を辞めて転職や独立し
 ていいのか不安な方\n開催詳細\n\n\n\n日時\n\n2021年2月10
 日 (水) 20:00 - 21:30 (90分)\n2021年2月11日 (木) 20:00 - 21:30 (90
 分)\n\n\n\n場所\nオンライン（Zoom）\n\n\n参加費\n無料\n\n\
 n\n※ 内容は予告なく変更となる場合がございます。\n
 ※ オンライン開催ですので、会社やご自宅のパソコン
 、モバイルからご自由にご参加いただけます。\n※ 視
 聴にはZoomを利用します。お申し込みされた方限定で、
 参加日当日に視聴用URLをお送りいたします。\nタイム
 スケジュール\n\n\n\n第1部\n\n大リストラ時代の到来によ
 り世界がどうなるのか\n\n\n\n第2部\n\nプログラミング ×
  英語でどのように活躍できるのか\n\n\n\n第3部\n\nどう
 、プログラミング × 英語スキルを身につけていくか\n\
 n\n\n第4部\n\nKredoオンラインキャンプのご紹介\n\n\n\n\n※
  当日予告なく時間配分・内容が変更になる可能性がご
 ざいます。\n登壇者\n\n\n\n\n横田 猛夫\nKREDO IT ABROAD INC. C
 EO\n\n2012年、国費にてアフリカの国立大学院へ留学。「
 留学は人生を変える大きな経験である」と痛感し学校
 創業を決意する。翌年にはフィリピン・セブ島の語学
 学校で学校経営を学び「IT・マーケティング部門」の
 立ち上げを成功させる。\n2016年、KREDO IT ABROAD INC.を創
 業。セブ島にて“英語で“プログラミングを教える業
 界初の「IT留学」を開始する。\n2020年、 “英語で” プ
 ログラミングを教える「IT留学オンライン」を提供開
 始。これまでに1\,500名以上が卒業し、世界中で活躍す
 るグローバルIT人材を多数輩出している。\n\n\n\n\n参加
 費\n無料\nハッシュタグ\n#英語でプログラミング学習\n
 注意事項\n※ 参加を辞退する場合は、詳細ページより
 申込のキャンセルをお願い致します。\n※ 無断キャン
 セル・欠席が続く場合、次回以降の参加をお断りさせ
 ていただく場合がございますのでご了承ください。 
LOCATION:オンライン
URL:https://techplay.jp/event/807773?utm_medium=referral&utm_source=ics&utm
 _campaign=ics
END:VEVENT
END:VCALENDAR
