BEGIN:VCALENDAR
VERSION:2.0
PRODID:-//https://techplay.jp//JP
CALSCALE:GREGORIAN
METHOD:PUBLISH
X-WR-CALDESC:JSTQBカンファレンスin2021 Spring
X-WR-CALNAME:JSTQBカンファレンスin2021 Spring
X-WR-TIMEZONE:Asia/Tokyo
BEGIN:VTIMEZONE
TZID:Asia/Tokyo
BEGIN:STANDARD
DTSTART:19700101T000000
TZOFFSETFROM:+0900
TZOFFSETTO:+0900
TZNAME:JST
END:STANDARD
END:VTIMEZONE
BEGIN:VEVENT
UID:807794@techplay.jp
SUMMARY:JSTQBカンファレンスin2021 Spring
DTSTART;TZID=Asia/Tokyo:20210322T130000
DTEND;TZID=Asia/Tokyo:20210322T180000
DTSTAMP:20260424T110406Z
CREATED:20210208T061902Z
DESCRIPTION:イベント詳細はこちら\nhttps://techplay.jp/event/80779
 4?utm_medium=referral&utm_source=ics&utm_campaign=ics\n\n JSTQB（Japan S
 oftware Testing Qualifications Board）  は日本においてソフト
 ウェアテストの資格試験を運営している団体です。\n
 この度JSTQBでは、資格試験を含めた認知度向上と情報
 提供の機会の場としてカンファレンスを開催する運び
 となりました。\n内容はISTQB（JSTQBの大元の組織）の関
 係者からの最新情報の提供から、日本における新しい
 資格試験の紹介や日本語シラバスの解説までバラエテ
 ィーに富んでいます。\n オンライン、かつ、無償での
 イベント となっていますので是非ご参加いただければ
 と思います。（講演は英語のものも含まれますが、日
 本語字幕が付きます）\n【タイムテーブル】\n\n\n\n時間
 \n内容\n講師\n\n\n\n\n1300-1315\n オープニング \n-\n\n\n1315-13
 30\n ISTQB President message \nOlivier Denoo\n\n\n1340-1450\n メイン
 セッション：JSTQB活動全体や今後の方向性について（
 仮題） \nJSTQB技術委員会\n\n\n1450-1515\n休憩\n-\n\n\n1515-1550
 \n Encouraging Children into Testing \nKari Kakkonen\n\n\n1550-1635\n ア
 ジャイルテスト担当者シラバスのご紹介 \nアジャイル
 シラバス翻訳チーム\n\n\n1645-1745\n 自動車テスト担当者
 シラバスのご紹介 \n自動車シラバス翻訳チーム\n\n\n1745
 -1800\n クロージング \n-\n\n\n\n【開催日時・会場】\n\n開
 催日時　：　2021年3月22日（月）　13：00～18：00\n会場
 　：　オンライン開催（Zoom）\n後日「参加者への情報
 」に当日のアクセス情報が表示されます。\n
LOCATION:オンライン
URL:https://techplay.jp/event/807794?utm_medium=referral&utm_source=ics&utm
 _campaign=ics
END:VEVENT
END:VCALENDAR
