BEGIN:VCALENDAR
VERSION:2.0
PRODID:-//https://techplay.jp//JP
CALSCALE:GREGORIAN
METHOD:PUBLISH
X-WR-CALDESC:これが専門家が考える炎上しない企業のSNS運
 用方法です
X-WR-CALNAME:これが専門家が考える炎上しない企業のSNS運
 用方法です
X-WR-TIMEZONE:Asia/Tokyo
BEGIN:VTIMEZONE
TZID:Asia/Tokyo
BEGIN:STANDARD
DTSTART:19700101T000000
TZOFFSETFROM:+0900
TZOFFSETTO:+0900
TZNAME:JST
END:STANDARD
END:VTIMEZONE
BEGIN:VEVENT
UID:808067@techplay.jp
SUMMARY:これが専門家が考える炎上しない企業のSNS運用方
 法です
DTSTART;TZID=Asia/Tokyo:20210225T100000
DTEND;TZID=Asia/Tokyo:20210225T120000
DTSTAMP:20260419T134034Z
CREATED:20210210T080917Z
DESCRIPTION:イベント詳細はこちら\nhttps://techplay.jp/event/80806
 7?utm_medium=referral&utm_source=ics&utm_campaign=ics\n\n＜2021年2月25
 日実施セミナー＞\nこれが専門家が考える\n炎上しない
 企業のSNS運用方法です\n\n\n▼セミナー概要\n　長引く
 新型コロナウイルス感染拡大の影響により、費用をか
 けずに集客・売上増加を達成することが喫緊の課題と
 なっている企業様が多いのではないでしょうか？\n　
 そんな中で最も注目されているのがSNSです。ひと言に
 「SNS」と言っても様々なツールがあり、それぞれ異な
 る特性があります。さらにトレンドの移り変わりは早
 く、例えばTwitterフリート機能やInstagramリール機能など
 、新機能の追加や仕様改訂も頻繁に行われています。
 　その中でも今回のセミナーではTwitter・Instagram・YouTub
 eについてお話しいたします。拡散性と即時性を兼ね備
 えるTwitter、ブランディングの強化を測りやすいInstagram
 、動画コンテンツの重要性が増す中で欠かせないYouTube
 は戦略を立て、正しいテクニックを活用すれば、大き
 な効果を出すことができます。　さらにSNSを運用する
 うえで懸念される「炎上」についても発生する仕組み
 からご説明し、未然に防ぐための方法についてお伝え
 いたします。\n　2020年のTwitter・Instagram・YouTubeのトレ
 ンドや新機能情報をまとめつつ、2021年、どのような運
 用をしていくべきかを徹底解説いたします。\n \n▼SNS S
 CHOOLについて\n\n企業様ごとにカリキュラムをカスタマ
 イズし、運用・コンサル・研修 を一気通貫で行うプロ
 グラムです。\n今までのSNS運用代行で個別にかかって
 いたコストを大幅に削減し、企業にとって一生モノの
 財産になる、人材のスキルアップを実現します。\n受
 講者数総勢7\,000人以上! 100回以上の研修実績があり、
 すでに数十社の企業に成果を実感頂いています。\nさ
 らに！以下の条件を満たすとSNS SCHOOLを実質無料で受講
 することができます！\n・採用5年以内・35歳未満の正
 規労働者が5名以上いらっしゃる企業様\n→人材開発支
 援助成金が利用できます！\n・常時使用する従業員の
 数5人以下の商業・サービス業の企業様\n・常時使用す
 る従業員の数20人以下の宿泊業・娯楽業・製造業・そ
 の他の企業様\n→小規模事業者持続化補助金が利用で
 きます！\n詳しくはセミナー内でご説明いたします。\n
 \n\n\n▼セミナー詳細\n日時 2021年2月25日(木)　10：00〜12
 ：00（セミナー90分+質疑応答30分）会場 Zoomビデオ会議
 （ログイン不要）を介してストリーミング配信となり
 ます。定員 100名費用 無料\n\n\n▼セミナー内容\n【第1
 部　ティネクト】\n・なぜ今、企業がコンテンツマー
 ケティングを必要としているのか？\n・SNSとSEOは両輪\n
 ・SNSでウケる文章、SEOでウケる文章\n\n【第2部　株式
 会社BES】\n・なぜ今SNSを活用すべきなのか？\n・企業の
 SNS活用の現状\n・SNS運用失敗パターンとその解決法\n・
 SNS炎上が起こる仕組み\n・自社を守る！SNS炎上を未然
 に防ぐ方法\n・Twitter・Instagram・YouTubeの最新テクニック
 ・トレンド情報\n　-Twitterリストの活用方法\n　-検索に
 引っかかる！Instagramハッシュタグの使い方\n　-YouTubeサ
 ムネイル・タイトルのコツ\n　-トレンド情報　～ライ
 ブ配信・フリート機能・リール機能など～\n\n\n▼こん
 な方におすすめです！\n・SNS運用を強化されたい方・SE
 O対策を強化されたい方・費用をかけずに集客・売上増
 加につなげたい方・社内のマーケティング担当だがう
 まく成果が出せていない方\n \n▼登壇者\n\n楢原 一雅テ
 ィネクト株式会社1975年福岡県生まれ。広告デザイン事
 務所で 3年間働いた後、東進ハイスクールへ転職。約 1
 0年間勤務。2013年ティネクトを安達と立ちあげ、月間15
 0万PVのビジネスパーソン向けwebメディア『Books&Apps』を
 運営中。現在は企業のコンテンツマーケティング支援
 を中心に事業を拡大し営業及びマーケティング担当。\
 n \n\n田中　千晶　株式会社BES代表取締役2009年、大学在
 学中に会社を設立し、1年半で大手企業、中小企業50社
 と取引をする。Webプロモーション支援を得意とし、特
 にSNS活用支援で多くの実績をもつ。2012年から全国各地
 でセミナーを精力的に実施。シリコンバレーのFacebook
 本社やTwitter本社へ毎年出向いて直接SNSの最先端情報を
 仕入れてきている。角川出版社、マイナビ社、技術評
 論社、翔泳社、インプレス社でマーケティング支援の
 書籍を6冊出版。連載も7社で行う。自身のラジオ番組
 、パーソナリティとしても活動し、SNSの最新情報を届
 けている。\n 
LOCATION:オンライン(zoom)
URL:https://techplay.jp/event/808067?utm_medium=referral&utm_source=ics&utm
 _campaign=ics
END:VEVENT
END:VCALENDAR
