BEGIN:VCALENDAR
VERSION:2.0
PRODID:-//https://techplay.jp//JP
CALSCALE:GREGORIAN
METHOD:PUBLISH
X-WR-CALDESC:IT予算担当者必見！IT導入による課題の解決事
 例とお得に使える補助金・助成金の紹介
X-WR-CALNAME:IT予算担当者必見！IT導入による課題の解決事
 例とお得に使える補助金・助成金の紹介
X-WR-TIMEZONE:Asia/Tokyo
BEGIN:VTIMEZONE
TZID:Asia/Tokyo
BEGIN:STANDARD
DTSTART:19700101T000000
TZOFFSETFROM:+0900
TZOFFSETTO:+0900
TZNAME:JST
END:STANDARD
END:VTIMEZONE
BEGIN:VEVENT
UID:808395@techplay.jp
SUMMARY:IT予算担当者必見！IT導入による課題の解決事例と
 お得に使える補助金・助成金の紹介
DTSTART;TZID=Asia/Tokyo:20210224T180000
DTEND;TZID=Asia/Tokyo:20210224T190000
DTSTAMP:20260424T134955Z
CREATED:20210214T095006Z
DESCRIPTION:イベント詳細はこちら\nhttps://techplay.jp/event/80839
 5?utm_medium=referral&utm_source=ics&utm_campaign=ics\n\nIT予算担当
 者必見！IT導入による課題の解決事例とお得に使える
 補助金・助成金の紹介\n日々の業務で、困っているこ
 とはありませんか？\n「ITを導入して改善したいけど中
 々取り組めない」「見積もりを取ったけど稟議が通ら
 ない」というご相談を頂くことも少なくありません。\
 n本セミナーでは、IT導入によって課題解決に結び付い
 た事例や補助金・助成金について紹介します。\nこの
 ような内容を予定しております。\n1.なぜ今積極的なIT
 投資が必要なのか\n2.妥当なIT予算とは\n3.活用できる補
 助金・助成金の紹介\n4.デジタル化による生産性向上の
 成功事例紹介\n5.まとめ\n※一部変更となる可能性があ
 ります。\n当日の流れ\n18:00　Zoomオープン、はじめの挨
 拶\n18:05　メインコーナー\n18:45　Q＆A\n19:00　終了\nQ＆A
 について\nセミナー中に質問事項を受け付けます。頂
 いた質問事項を幅広くピックアップして回答します。\
 n質問は「slido」で受け付けます。\nこちらからアクセ
 スできますので、聞いてみたいことがある方は事前に
 ご入力ください！\nもちろん、イベント中も受け付け
 ています！\nイベントコード ： #x-face0224\nhttps://app.sli.d
 o/event/lgzhnssm\n登壇者\n高橋 翼（株式会社エッグシステ
 ム 代表取締役）\n\n【略歴】\n2008年、新卒で大手SIerへ
 入社。\nシステム開発業務の枠を超えた提案力で計4\,00
 0万円の案件を受注、3年目で20名を超えるプロジェクト
 のリーダーを遂行、5年目で約60億円・200名以上の大規
 模プロジェクトの企画・プロジェクト管理を行いリリ
 ース成功へ貢献。\n2014年、システムコンサルティング
 会社へ転職。\n2017年、在職中に「株式会社エッグシス
 テム」を設立し、2018年に独立。\n現在は、社員数100名
 以下の中小企業向けにIT部門のアウトソーシングサー
 ビスである「コンサルティングエンジニアサービス」
 と、IPOを目指すベンチャー企業向け「IT統制サポート
 」を行う。\n使用ツールについて\n・Zoom（ https://zoom.us/
 jp-jp/meetings.html ）を利用します。\n・開催前に申込者宛
 に視聴URLをお送りしますので、Zoomの事前インストール
 をお願いいたします。\n・ビデオは映しても映さなく
 てもOKです。\n・参加時は「ミュート」にして頂くよう
 お願いいたします。\n注意事項\n・視聴URLは、開催前日
 にメールにてお送りいたします。\n・「eggsystem.co.jp」
 ドメインのメールを受信できるように設定しておいて
 ください。\n運営\n\n株式会社エッグシステム\nhttps://egg
 system.co.jp/
LOCATION:オンライン
URL:https://techplay.jp/event/808395?utm_medium=referral&utm_source=ics&utm
 _campaign=ics
END:VEVENT
END:VCALENDAR
