BEGIN:VCALENDAR
VERSION:2.0
PRODID:-//https://techplay.jp//JP
CALSCALE:GREGORIAN
METHOD:PUBLISH
X-WR-CALDESC:タイポグラフィを武器にする 〜文字とデザイ
 ン、WEBとUI、そしてUXのお話〜
X-WR-CALNAME:タイポグラフィを武器にする 〜文字とデザイ
 ン、WEBとUI、そしてUXのお話〜
X-WR-TIMEZONE:Asia/Tokyo
BEGIN:VTIMEZONE
TZID:Asia/Tokyo
BEGIN:STANDARD
DTSTART:19700101T000000
TZOFFSETFROM:+0900
TZOFFSETTO:+0900
TZNAME:JST
END:STANDARD
END:VTIMEZONE
BEGIN:VEVENT
UID:808411@techplay.jp
SUMMARY:タイポグラフィを武器にする 〜文字とデザイン、
 WEBとUI、そしてUXのお話〜
DTSTART;TZID=Asia/Tokyo:20210225T190000
DTEND;TZID=Asia/Tokyo:20210225T203000
DTSTAMP:20260424T195312Z
CREATED:20210214T141538Z
DESCRIPTION:イベント詳細はこちら\nhttps://techplay.jp/event/80841
 1?utm_medium=referral&utm_source=ics&utm_campaign=ics\n\nイベント概
 要\nGoodpatch Anywhereメンバーが共著書で参加している『
 オンスクリーン タイポグラフィ 事例と論説から考え
 るウェブの文字表現』(株式会社ビー・エヌ・エヌ)の
 発売記念イベントを開催します。\nWebアクセシビリテ
 ィとタイポグラフィパートを担当したカワセタケヒロ
 とデジタルプロダクトの文字表現パートを担当したハ
 マダナヲミが、ゲストの桝田草一氏をお招きし、編集
 者の宮後優子氏も交えて著書にまつわるエピソードを
 お話しします。\nWEBやアプリ等の制作現場ですぐに使
 える、タイポグラフィにまつわるテクニックや知識等
 々、著書の内容や書ききれなかった内容をフリートー
 ク形式で進めるイベントです。\n\n*『オンスクリーン 
 タイポグラフィ　事例と論説から考えるウェブの文字
 表現』\nhttp://www.bnn.co.jp/books/10844/\n\n\nこんな方におす
 すめ\n\nタイポグラフィに興味があるが、何から学べば
 いいか困っているUIやWebのデザイナー\nオンスクリーン
 媒体でのタイポグラフィ表現に興味がある人\n\n\nタイ
 ムテーブル\n時間は目安です。\n\n\n\ntime\nsession\n\n\n\n\n1
 9:00\n開場\n\n\n19:05\n登壇者によるフリートークセッショ
 ン（予定）\n\n\n20:15\n質疑応答\n\n\n20:30\n終了\n\n\n\n\n登
 壇者\n\nカワセ タケヒロ（Goodpatch Anywhere コンセプター
 ／デザイナー／デザインディレクター ）\n高校在学中
 に世界保健機関（WHO）準会員NGOの日本支部でウェブマ
 スターを担当。都内制作会社数社を経て2011年に独立。
 \nCI計画、グラフィック／UIデザイン、サービス計画の
 プロジェクトマネジメント、医療分野にまつわるデザ
 インとディレクションなどを中心に活動中。\nたてよ
 こWebアワード 審査員 兼 アートディレクター（2015－201
 7）。\n2015年、2018年グッドデザイン賞受賞。\n\nハマダ 
 ナヲミ（Goodpatch Anywhere デザイナー ）\nアプリやWebなど
 オンスクリーン媒体中心にロゴ、紙ものまで。見た目
 をつくる側に比重の高いデザイナー。クライアントワ
 ークの他Adobe XDのフレームワーク『Wires jp』や、共著書
 に『神速Photoshop　[Webデザイン編]　[グラフィックデザ
 イン編]』。\n\n桝田 草一（株式会社サイバーエージェ
 ント / エンジニア）\n製造業向け設計ソフトウェアの
 セールスからウェブ業界に転身し、デジパ株式会社を
 経て、2017年1月サイバーエージェント入社。生放送プ
 ラットフォーム「FRESH LIVE」、 公営競技ネット投票サ
 ービス「WINTICKET」ウェブフロントエンド開発の後、社
 内外のアクセシビリティの啓蒙・推進に従事している
 。WAIC（ウェブアクセシビリティ基盤委員会）作業部会
 2（実装）委員。\n\n宮後 優子（ Book&Design 代表 / 編集者
  ）\n1993年 東京藝術大学 美術学部 芸術学科卒業後、出
 版社で編集者として勤務。1997年より20年以上、デザイ
 ン雑誌、書籍の取材、編集に従事。　  デザイン専
 門誌『デザインの現場』編集長、書体デザイン専門誌
 『Typography』創刊編集長を経て、2018年に一人出版社兼
 デザインギャラリー「Book&Design」を設立。　  2010年
 より青山ブックセンター本店でタイポグラフィのイベ
 ント「TypeTalks」を共同企画・運営。2011年より東京藝術
 大学、桑沢デザイン研究所 非常勤講師。\n\nGoodpatch Anyh
 where 公式アカウント\nWEB:https://anywhere.goodpatch.com/\nTwitter
 :@GoodpatchAW\nnote:Goodpatch Anywhere\nWantedly:Goodpatch\n\n注意事
 項\n本イベントはリモート参加者のために会場内の様
 子が共有されます。 また参加者や運営によってイベン
 トの様子を撮影した写真などが、SNSなどネットにアッ
 プされることがあります。ご了承ください。\nご来場
 者の皆様に最大限楽しんで頂けるよう、運営側で参加
 にふさわしくないと判断した方については、 運営側で
 事前キャンセルやイベント中でもご参加をお断りさせ
 て頂くことがあります。\n\nネットワークビジネス・保
 険・宗教などの勧誘が目的と見られる方\nその他運営
 サイドで参加が不適切だと判断した方\n\nあらかじめご
 了承ください。
LOCATION:Anywhere
URL:https://techplay.jp/event/808411?utm_medium=referral&utm_source=ics&utm
 _campaign=ics
END:VEVENT
END:VCALENDAR
