BEGIN:VCALENDAR
VERSION:2.0
PRODID:-//https://techplay.jp//JP
CALSCALE:GREGORIAN
METHOD:PUBLISH
X-WR-CALDESC:コンバージョン数を増やす為にやるべき３つ
 の事
X-WR-CALNAME:コンバージョン数を増やす為にやるべき３つ
 の事
X-WR-TIMEZONE:Asia/Tokyo
BEGIN:VTIMEZONE
TZID:Asia/Tokyo
BEGIN:STANDARD
DTSTART:19700101T000000
TZOFFSETFROM:+0900
TZOFFSETTO:+0900
TZNAME:JST
END:STANDARD
END:VTIMEZONE
BEGIN:VEVENT
UID:808511@techplay.jp
SUMMARY:コンバージョン数を増やす為にやるべき３つの事
DTSTART;TZID=Asia/Tokyo:20210311T130000
DTEND;TZID=Asia/Tokyo:20210311T140000
DTSTAMP:20260422T215851Z
CREATED:20210215T073324Z
DESCRIPTION:イベント詳細はこちら\nhttps://techplay.jp/event/80851
 1?utm_medium=referral&utm_source=ics&utm_campaign=ics\n\n\nコンバー
 ジョン数を増やす為にやるべき３つの事\n2021年3月11日 
 (木) 13:00 - 14:00\nウェビナー後のアンケートにて希望さ
 れた方限定で、弊社保有のビッグデータに基づいた競
 合調査や貴社サイト課題点・改善点を用いた面談も行
 っております。お時間のある方はぜひご参加ください
 。\n▼こんな方にオススメです！\n・選定したキーワー
 ドが上位表示されず悩んでいる企業様・売り出したい
 サービスの競合が多すぎる企業様・これからコンテン
 ツ制作に取り組む企業様\n▼ウェビナー内容\n・CVまで
 の導線設計                                                          
                                ・リンクやボタンの設置方法・
 申込フォーム作成の考え方・まとめ\n▼ウェビナー開
 催概要\n・開催日時2021年3月11日 (木) 13:00 - 14:00・参加
 費無料・開催方法ウェビナー　※Zoomを利用します・参
 加方法お申込後に、別途担当者よりメールにてご案内
 致します。\n\n▼タイムスケジュール\n\n\n\n時間\n内容\n
 \n\n12:58〜\n視聴用URL開場\n\n\n13:00〜13:40\nウェビナー本
 編\n\n\n13:40〜14:00\n質疑応答・アンケート回答　※質問
 がなくなり次第終了\n\n\n\n※ 当日予告なく時間配分・
 内容が変更になる可能性がございます。\n▼講師紹介\n
 \n尾崎　篤志\n株式会社CINCコンサルタント\n\n\n高橋　
 幸大\n株式会社CINCコンサルタント\n▼注意事項\n競合他
 社/同業者/企業にご所属でない個人の方からのお申込
 みなど、 当社の判断によりセミナー参加をお断りする
 場合があります。予めご了承ください。\n 
LOCATION:オンラインセミナー
URL:https://techplay.jp/event/808511?utm_medium=referral&utm_source=ics&utm
 _campaign=ics
END:VEVENT
END:VCALENDAR
