BEGIN:VCALENDAR
VERSION:2.0
PRODID:-//https://techplay.jp//JP
CALSCALE:GREGORIAN
METHOD:PUBLISH
X-WR-CALDESC:【Google社登壇】 Cookieレス時代に不可欠な広告
 プランニングとクリエイティブ改善方法を一挙公開！ 
 ＜YouTube×ファインド広告×LPOの秘訣＞
X-WR-CALNAME:【Google社登壇】 Cookieレス時代に不可欠な広告
 プランニングとクリエイティブ改善方法を一挙公開！ 
 ＜YouTube×ファインド広告×LPOの秘訣＞
X-WR-TIMEZONE:Asia/Tokyo
BEGIN:VTIMEZONE
TZID:Asia/Tokyo
BEGIN:STANDARD
DTSTART:19700101T000000
TZOFFSETFROM:+0900
TZOFFSETTO:+0900
TZNAME:JST
END:STANDARD
END:VTIMEZONE
BEGIN:VEVENT
UID:808622@techplay.jp
SUMMARY:【Google社登壇】 Cookieレス時代に不可欠な広告プラ
 ンニングとクリエイティブ改善方法を一挙公開！ ＜You
 Tube×ファインド広告×LPOの秘訣＞
DTSTART;TZID=Asia/Tokyo:20210310T150000
DTEND;TZID=Asia/Tokyo:20210310T160000
DTSTAMP:20260422T092242Z
CREATED:20210216T090918Z
DESCRIPTION:イベント詳細はこちら\nhttps://techplay.jp/event/80862
 2?utm_medium=referral&utm_source=ics&utm_campaign=ics\n\n【Google登壇
 】\nCookieレス時代に不可欠な広告プランニングとクリ
 エイティブ改善方法を一挙公開！\n＜YouTube×ファイン
 ド広告×LPOの秘訣＞\n\n参加費は無料です！お気軽にご
 参加ください！\n\n▼セミナー内容\n<1部>獲得目的でのY
 ouTube広告、ファインド広告の最新活用術\n推奨のプラ
 ンニング方法をご紹介！\n\nこれまでブランディング目
 的で活用されることが多かったYouTube広告。近年は機能
 改善に伴い、見込み顧客に向けた獲得目的でのご活用
 も多くなっております。\nまた、2019年に正式ローンチ
 しておりますファインド広告についても、精度の高い
 ターゲティングにより獲得数の引き上げをご期待いた
 だけます。\n本セッションでは、YouTube広告やファイン
 ド広告を活用いただく際のプランニングや効果検証に
 ついて、最新事例を交えてお話させていただきます。\
 n<2部>ダイレクトレスポンス向け\nGoogle 広告プロダクト
 の活用と事例紹介\n\nGoogle Premier Partner Awards 2019 動画広
 告部門 第1位 受賞　\nその他Awards を毎年受賞し、多く
 のクライアント様のプロモーションをご支援している
 その成功ノウハウを公開します。\nGoogle 広告プロダク
 トの活用法、特に、ダイレクトレスポンスに向けたYouT
 ube広告やファインド広告について事例を交えてお話い
 たします。\n<3部>LP/サイト改善によってウェブ広告効
 果を5倍にした\n事例・手法を徹底解説\n\nウェブ広告に
 おける効果改善にはクリエイティブの改善が必要不可
 欠ですが、なかなか手を付けられていない方も多いの
 ではないでしょうか？\nLPO をオールインワンで実施で
 きる SiTest をフル活用する手法やLPOの考え方について
 、事例を交えてお伝えいたします。\n▼こんな方にオ
 ススメ\n\nITP対策について具体的な打ち手が知りたい方
 \nYouTube広告やファインド広告導入のメリットが知りた
 い方\nフルファネル配信戦略を網羅的に知りたい方\n\n\
 n ▼オンラインセミナーで学べる内容\n\nGoogle社が推進
 しているCookieレス配信の戦略について\nYouTube広告やフ
 ァインド広告の導入事例について\n低額からでもYouTube
 広告を取り組むべき理由と鉄板施策\n\n▼登壇者\n\n森
 安 賢二\nグーグル合同会社　\nグーグル合同会社にて
 、パートナーセールスや各種プロジェクト推進に従事
 。前職は米国スタートアップにて、日本・オーストラ
 リアの市場開拓を担当。\n\n古田 英里子\n株式会社グラ
 ッドキューブ　\nマーケティングソリューション事業
 部 リーダー\n大学では建築を専攻していたが、Webマー
 ケティングの可能性や面白さに惹かれ、2013年株式会社
 グラッドキューブ入社。以降7年半、EC、不動産、人材
 、BtoBサービスなどのクライアント300社以上のWebプロモ
 ーションを担当する。Yahoo! Google SNSなど主要媒体はも
 ちろんのこと、目標、目的に応じて、新しい媒体など
 も積極的に活用を行い、クライアントのビジネスに貢
 献している。\n\n佐谷 建斗\n株式会社グラッドキューブ
 　\nSaaS事業部 SiTestチーム マネージャー\n\nウェブ制作
 会社でウェブディレクター/セールスを経験した後、グ
 ラッドキューブに参画。大手企業を含めたクライアン
 トに対して SiTest を用いたヒートマップ解析・LPOコン
 サルティングを行っており、担当した案件ではGoogle Pre
 mier Partner Awards で顧客成長部門 最優秀賞を受賞。\n▼
 セミナー概要\n会場：zoomにて開催いたします。接続方
 法は前日までのリマインドメールでお知らせいたしま
 す。\n日時：2021年3月10日(金)15:00~16:00\n参加費 ：無料\n
 定員：100 名\n注意事項 ※プログラム内容は変更となる
 場合がございます。※同業他社の方は参加をご遠慮い
 ただく場合がございます。※定員に達し次第、受付終
 了となります。※複数名での参加も可能ですが、申込
 み状況によってはご調整をさせていただく場合がござ
 います。
LOCATION:オンライン
URL:https://techplay.jp/event/808622?utm_medium=referral&utm_source=ics&utm
 _campaign=ics
END:VEVENT
END:VCALENDAR
