BEGIN:VCALENDAR
VERSION:2.0
PRODID:-//https://techplay.jp//JP
CALSCALE:GREGORIAN
METHOD:PUBLISH
X-WR-CALDESC:【3/11(木)17時−】AIの開発パートナー選びで失
 敗しないための3つのポイント
X-WR-CALNAME:【3/11(木)17時−】AIの開発パートナー選びで失
 敗しないための3つのポイント
X-WR-TIMEZONE:Asia/Tokyo
BEGIN:VTIMEZONE
TZID:Asia/Tokyo
BEGIN:STANDARD
DTSTART:19700101T000000
TZOFFSETFROM:+0900
TZOFFSETTO:+0900
TZNAME:JST
END:STANDARD
END:VTIMEZONE
BEGIN:VEVENT
UID:808679@techplay.jp
SUMMARY:【3/11(木)17時−】AIの開発パートナー選びで失敗し
 ないための3つのポイント
DTSTART;TZID=Asia/Tokyo:20210311T170000
DTEND;TZID=Asia/Tokyo:20210311T180000
DTSTAMP:20260425T161920Z
CREATED:20210217T003217Z
DESCRIPTION:イベント詳細はこちら\nhttps://techplay.jp/event/80867
 9?utm_medium=referral&utm_source=ics&utm_campaign=ics\n\nプログラム
 概要\nDX推進への関心が高まる昨今において、その中心
 を担うAI活用・導入の重要性が増しています。\nAI活用
 ・導入においては、組織内で人材を育成して内製化す
 るのが理想とはいえ、スピーディーなプロジェクト推
 進には、今なお専門的知見・開発スキルを有する外部
 パートナーとの協業が欠かせません。\nしかし実際に
 は、安易なパートナー選定やAIプロジェクトへの知見
 不足などで、プロジェクトが失敗するケースが多く存
 在しています。\nそこで今回は、AIを駆使したビジネス
 構築支援を専門とする株式会社KICONIA WORKS代表の書上拓
 郎氏をお招きし、自社プロジェクトに適切なAI開発パ
 ートナーの選び方や、AIプロジェクトの円滑な推進に
 欠かせないチェックポイントなど、皆様のDX実現を加
 速するテーマでお話しいたします。\nこのような方に
 おすすめ\n\nAIのビジネス導入を考えているが、何から
 手をつけて良いかわからない方\nAIの開発を外注してみ
 たが、上手くいかなかった経験のある方\n現在AIの開発
 パートナーを選定されている方\n\nタイムスケジュール
 \n17:00-17:05　冒頭挨拶\n17:05-17:25　講演\n17:25-17:45　パネ
 ルディスカッション\n17:45-17:55　質疑応答\n17:55-18:00　
 告知、アンケート\nスピーカー\n株式会社KICONIA WORKS 代
 表取締役 / 書上 拓郎氏\n慶應義塾大学商学部卒業。国
 内外の大手企業、コンサルティングファーム、ベンチ
 ャー企業を渡り歩き、2015年からはAI分野のスタートア
 ップであるABEJA参画。製造業や小売業など様々な業界
 において、機械学習を活用したサービスやソリューシ
 ョン開発を多数経験。 2018年より少数精鋭のエンジニ
 ア・データサイエンティストを中心とした株式会社KICO
 NIA WORKSを立ち上げ、 「ビジネス視点でのテクノロジー
 活用」を掲げ、年間30以上のAI関連プロジェクトのマネ
 ジメントを担当している。\nスキルアップAI株式会社 
 代表取締役 / 田原 眞一\n東京大学大学院新領域創成科
 学研究科修了。新卒でエンジニアとプロジェクトマネ
 ジャーを経験後、リクルートにて数多くのAI案件に携
 わる。2017年に『スキルアップAI』を開始し、企業へのA
 I教育サービスの提供、コンサルティングを実施。著書
 に「徹底攻略 ディープラーニングG検定 ジェネラリス
 ト問題集」。JDLAの人材育成委員も務める。\n日時\n2021
 年3月11日（木）17:00～18:00\n開催場所\nZoom　※参加者に
 は開催前日までに、参加URLをご連絡します\n個人情報
 の取扱いについて\n申し込み時にご提供いただいた情
 報は、イベント受付管理や各種ご案内（サービス・イ
 ベント等）に利用させていただきます。\nhttps://www.skill
 upai.com/privacy/\n備考\n競合他社様のご参加は、ご遠慮い
 ただいておりますので、ご了承ください。\n広報活動
 の一環として講演の写真等はSNSなどで掲載される場合
 があります。予めご了承ください。\n運営団体\nスキル
 アップAI\nhttps://www.skillupai.com/
LOCATION:Zoom
URL:https://techplay.jp/event/808679?utm_medium=referral&utm_source=ics&utm
 _campaign=ics
END:VEVENT
END:VCALENDAR
