BEGIN:VCALENDAR
VERSION:2.0
PRODID:-//https://techplay.jp//JP
CALSCALE:GREGORIAN
METHOD:PUBLISH
X-WR-CALDESC:【無料Webセミナー】Qlik Senseを使ったSAP ECCとSAP
  S/4 HANAのデータ分析
X-WR-CALNAME:【無料Webセミナー】Qlik Senseを使ったSAP ECCとSAP
  S/4 HANAのデータ分析
X-WR-TIMEZONE:Asia/Tokyo
BEGIN:VTIMEZONE
TZID:Asia/Tokyo
BEGIN:STANDARD
DTSTART:19700101T000000
TZOFFSETFROM:+0900
TZOFFSETTO:+0900
TZNAME:JST
END:STANDARD
END:VTIMEZONE
BEGIN:VEVENT
UID:808715@techplay.jp
SUMMARY:【無料Webセミナー】Qlik Senseを使ったSAP ECCとSAP S/4 
 HANAのデータ分析
DTSTART;TZID=Asia/Tokyo:20210304T140000
DTEND;TZID=Asia/Tokyo:20210304T150000
DTSTAMP:20260422T020656Z
CREATED:20210217T061934Z
DESCRIPTION:イベント詳細はこちら\nhttps://techplay.jp/event/80871
 5?utm_medium=referral&utm_source=ics&utm_campaign=ics\n\n【無料Webセ
 ミナー】Qlik Senseを使ったSAP ECCとSAP S/4 HANAのデータ分
 析\n概要\nQlik Senseでは、SAPシステムやその他の外部ソ
 ースの両方からのデータを活用して、迅速で柔軟かつ
 視覚的なアドホック分析とレポートを実行できます。S
 AP ECC、SAP BW、SAP S/4 HANAのデータを活用するためにQlik Se
 nseではSAPコネクタなど様々な接続性を提供しています
 が、このセッションではそれぞれのコネクタの特長の
 理解して、様々なデータの取得方法の全体像を理解し
 ます。\n\nタイムスケジュール\n\n\n\n時間\n内容\n\n\n14:00
 〜15:00\n\n1. QlikのポートフォリオとSAP向けソリューショ
 ンの概要\n2. SAPコネクターの概要\n3. SAPコネクターのセ
 ットアップ方法\n4. 各コネクターを利用したSAP ECC、SAP 
 BW、SAP S/4 HANAのデータ利用\n\nSAP SQL Connector\nSAP Extractor C
 onnector\nSAP InfoProvider Connector (InfoCube\, MultiProvider\, DSOな
 ど)\nSAP BEx Connector\n\n5. SAP S/4 HANAについての追加事項\n\n
 CDS Viewsのデータアクセス\nODataを通じたデータアクセス
 \n\n\n\n\n\n※ 当日予告なく時間配分・内容が変更になる
 可能性がございます。\n登壇者\n\n濱野 正樹\nクリック
 テック・ジャパン株式会社ソリューション技術部 部長
 \n2014年2月クリックテック・ジャパン入社。Qlik製品の
 大規模エンタープライズ提案やプロジェクトを支援す
 るとともに、各種カンファレンスやコミュニティサイ
 トなどを通じて技術情報を発信している。日本IBM株式
 会社でハードウェア製品やデータ統合製品の技術を担
 当。プログレス・テクノロジーズ株式会社でのテクノ
 ロジー・センター長としての技術組織のマネジメント
 や、IMS Japan株式会社（現IQVIAソリューションズジャパ
 ン株式会社）での大手製薬企業向けグローバルBI/DWHシ
 ステム構築のプロジェクトマネージャーなどを歴任。
 筑波大学MBA（International Business）修了。\n参加対象\nデ
 ータ統合、データ移行、データ分析にご興味がある方
 、Qlik製品をお取り扱い頂いているパートナー様など、
 どなたでもご参加いただけます。お気軽にご参加くだ
 さい。\n事前準備\nZoom（Web会議ツール）を使用します
 。あらかじめご利用のPCやタブレット、スマートフォ
 ンにインストールをお願いします。当セミナーのURLは
 お申込みいただいた方に、セミナー開催日前日までに
 お知らせいたします。お申し込み後は当ページからも
 ご参加いただけます。\n参加費\n無料\n 
LOCATION:オンライン
URL:https://techplay.jp/event/808715?utm_medium=referral&utm_source=ics&utm
 _campaign=ics
END:VEVENT
END:VCALENDAR
