BEGIN:VCALENDAR
VERSION:2.0
PRODID:-//https://techplay.jp//JP
CALSCALE:GREGORIAN
METHOD:PUBLISH
X-WR-CALDESC:【無料】ARCHICADユーザー向け Lumion初級講座【
 後編】
X-WR-CALNAME:【無料】ARCHICADユーザー向け Lumion初級講座【
 後編】
X-WR-TIMEZONE:Asia/Tokyo
BEGIN:VTIMEZONE
TZID:Asia/Tokyo
BEGIN:STANDARD
DTSTART:19700101T000000
TZOFFSETFROM:+0900
TZOFFSETTO:+0900
TZNAME:JST
END:STANDARD
END:VTIMEZONE
BEGIN:VEVENT
UID:808992@techplay.jp
SUMMARY:【無料】ARCHICADユーザー向け Lumion初級講座【後編
 】
DTSTART;TZID=Asia/Tokyo:20210313T180000
DTEND;TZID=Asia/Tokyo:20210313T190000
DTSTAMP:20260420T184036Z
CREATED:20210219T124122Z
DESCRIPTION:イベント詳細はこちら\nhttps://techplay.jp/event/80899
 2?utm_medium=referral&utm_source=ics&utm_campaign=ics\n\n【無料】ARCH
 ICADユーザー向けLumion初級講座【後編】\n概要\n●講習
 内容\n　ArchiCADサンプルモデルを利用して内観パースの
 仕上げ方を紹介します。\n　LiveSyncだからこそできる！
 ２種類のインテリアを１つのデータで仕上る方法を実
 演します。導入前の疑問点は、操作をみているうちに
 自然と解決されると思います。わからない事は、お気
 軽にその場でご質問ください。\n \n１．前編の振り返
 り\n２．内観パース作成準備（ArchiCADでレイヤセットと
 材質の設定）\n３．モデルインポート\n４．マテリアル
 設定とオブジェクト配置\n５．マテリアルセット保存\n
 ６．エフェクト設定、レンダリング\n７．お知らせ\n \n
 \n \n\n\n※ 当日予告なく時間配分・内容が変更になる可
 能性がございます。\n\n登壇者\n\n藤原愛子先生　\n・プ
 ロフィール\n氏名：藤原愛子\n資格：一級建築士、積算
 士\n経歴：大学建築学科を卒業、ゼネコン勤務。業務
 は基本・企画・実施設計、現場監理、内装提案、プレ
 ゼン用CG作成。社内BIMワーキンググループ参加、社外
 活動としてBIMソフトや建築ビジュアライゼーションの
 勉強会や研修に参加。\nDMMオンラインサロン受講中。
 「建築ビジュアライゼーション研究所～上級研究員詰
 所～」「LUMIONオンラインサロン」\n\n\n\n\n参加対象\n・
 エンジニア・建築家・建築設計者\n・建築を学ぶ学生\n
 ※ リクルーティング、勧誘など、採用目的でのイベン
 ト参加はお断りしております。 ※ 飲食のみを目的と
 したご応募・ご来場はご遠慮ください。 ※ 補欠者の
 方は、ご来場いただいてもご入場いただくことが出来
 ませんのでご了承ください。\n持ち物\nなし\n参加費\n
 無料\nハッシュタグ\n#techplayjp \n#Lumion\n#建築ビジュアラ
 イゼーション\n＃Archicad\n\n注意事項\n※ 参加を辞退す
 る場合は、詳細ページより申込のキャンセルをお願い
 致します。※ 無断キャンセル・欠席が続く場合、次回
 以降の参加をお断りさせていただく場合がございます
 のでご了承ください。\n 
LOCATION:オンライン
URL:https://techplay.jp/event/808992?utm_medium=referral&utm_source=ics&utm
 _campaign=ics
END:VEVENT
END:VCALENDAR
