BEGIN:VCALENDAR
VERSION:2.0
PRODID:-//https://techplay.jp//JP
CALSCALE:GREGORIAN
METHOD:PUBLISH
X-WR-CALDESC:Microsoft Ignite Recap Community Day
X-WR-CALNAME:Microsoft Ignite Recap Community Day
X-WR-TIMEZONE:Asia/Tokyo
BEGIN:VTIMEZONE
TZID:Asia/Tokyo
BEGIN:STANDARD
DTSTART:19700101T000000
TZOFFSETFROM:+0900
TZOFFSETTO:+0900
TZNAME:JST
END:STANDARD
END:VTIMEZONE
BEGIN:VEVENT
UID:809013@techplay.jp
SUMMARY:Microsoft Ignite Recap Community Day
DTSTART;TZID=Asia/Tokyo:20210324T120000
DTEND;TZID=Asia/Tokyo:20210324T160000
DTSTAMP:20260424T063116Z
CREATED:20210219T142302Z
DESCRIPTION:イベント詳細はこちら\nhttps://techplay.jp/event/80901
 3?utm_medium=referral&utm_source=ics&utm_campaign=ics\n\nすべての日
 本の技術者にお届けするMicrosoft Ignite振り返りイベント
 \nマイクロソフト米国本社主催のグローバルカンファ
 レンス Microsoft Ignite が日本時間2021年3月3日（水）深夜
 から4日（木）にかけて開催されます。そこでこの度、
 今回のIgniteの中でも特に大事なポイントが知りたい方
 のために、日本の技術コミュニティを牽引するマイク
 ロソフト技術のエキスパートと共にIgniteの情報を全体
 的に振り返る日本限定イベント Microsoft Ignite Recap Communi
 ty Dayを企画いたしました。\n当日はIgniteの期間中に新
 たに発表されたさまざまな技術情報について、各製品/
 サービスに詳しい登壇者にご解説いただきます。今回
 は4時間と限りがありますので、深い技術解説よりはそ
 の使いどころやほかの製品/サービスとの違いや連携利
 用など、参加される皆さまがMicrosoft Igniteにご参加され
 て得られた技術の理解をさらに深めるセッションとな
 ります。\n当日のタイムテーブル（タイトル名からセ
 ッション動画をご視聴いただけます）\n\n\n\n時間\n内容
 \nスピーカー\n\n\n\n\n12:00\nOpening\n\n\n\n12:05\nAzure 三つ巴
 チームが送るIgnite 振り返り！\n山本 誠樹松田 恭明武
 井 宜行\n\n\n12:35\nハイブリッドワークプレイスってな
 んだ？ずっと Microsoft 365 を見てきた 4 人で振り返る Mic
 rosoft Ignite 2021\n太田 浩史平野 愛村地 彰中村 太一\n\n\n1
 3:05\nVisual Studio 2019 Updates Pickup! ～新機能を時間の限り
 ！～\n森 博之大田 一希\n\n\n13:35\nCloud 移行とDevOps\n亀川
  和史竹林 崇\n\n\n14:05\nBreak/休憩中トーク\n\n\n\n14:15\nMixe
 d Realityの新プラットフォーム「Microsoft Mesh」とAzure Mixed
  Realityサービス概説\n中村 薫宮浦 恭弘堀尾 風仁\n\n\n14:
 45\nMicrosoft Ignite 2021 で話題のアレも含めて益々盛り上
 がる Power Platform を振り返る\n中村 太一りなたむやまさ
 ん(Yamad365)\n\n\n15:15\nLT - 俺的 Ignite 2021 Spring Update まとめ
  ミニ\n足利 惟\n\n\n15:25\nLT - Azure Arcで「どこでも」Azure
 サービスを利用可能に！\n胡田 昌彦\n\n\n15:35\nLT - Updates
  of Azure NoSQL announced at Microsoft Ignite Spring 2021\n政岡 裕士\
 n\n\n15:45\nLT - Azure Synapse Pathway\nYang Jiayi\n\n\n15:55\nClosing\n\
 n\n\n\n※各セッションの資料は こちら よりご覧いただ
 けます。\n技術セッション\n[12:05-12:35] Azure 三つ巴チー
 ムが送るIgnite 振り返り！\n\nスピーカー：山本 誠樹、
 松田 恭明、武井 宜行\n概要：キーノートから振り返り
 未来の想像を膨らませて！アップデート内容を実際に
 試してみた内容！\n最後は細かいところを地味に締め
 ていきます。\n\n\n[12:35-13:05] ハイブリッドワークプレ
 イスってなんだ？ ずっと Microsoft 365 を見てきた 4 人で
 振り返る Microsoft Ignite 2021\n\nスピーカー：太田 浩史、
 平野 愛、村地 彰、中村 太一\n概要：さまざまな要因
 で私たちの働きかたが変わる中で、今回の Microsoft Ignit
 e では「ハイブリッドワークプレイス」がキーワード
 として打ち出されました。Microsoft がイメージするハイ
 ブリッドプレイスってなんだろうな？そのヒントが今
 回のイベントで数多く発表された機能から見えてくる
 気がします。\nこのセッションでは、これまでずっと M
 icrosoft 365 を見てきた 4 人が、発表された機能を振返り
 つつハイブリッドワークプレイスやそれによって変わ
 る働きかたについて語り合いたいと思います。\n\n\n[13:
 05-13:35] Visual Studio 2019 Updates Pickup! ～新機能を時間の限
 り！～\n\nスピーカー：森 博之、大田 一希\n概要：Ignit
 eと同時期に公開されたVisual Studio 2019 v16.9 and v16.10 Previe
 w 1の新機能を.NET Productivity / Git Productivityを中心に時間
 の許す限り紹介したいと思います。\n\n\n[13:35-14:05] Cloud
  移行とDevOps\n\nスピーカー：亀川 和史、竹林 崇\n概要
 ：Igniteで発表された機能の中から既存の組織内アプリ
 をクラウドに移行するときに使えるサービスやツール
 の紹介を行います。\n\n\n[14:15-14:45] Mixed Realityの新プラ
 ットフォーム「Microsoft Mesh」とAzure Mixed Realityサービス
 概説\n\nスピーカー：中村 薫、宮浦 恭弘、堀尾 風仁\n
 概要：Igniteのキーノートは皆さんご覧になりましたか
 ？Mixed Realityを活用した新しいコミュニケーションのあ
 り方を彷彿される刺激的な体験でした。本セションで
 はキーノートのようなMixed Realityの世界観を実現するた
 めの新プラットフォーム「Microsoft Mesh」とAzure Mixed Reali
 tyサービスの更新情報について、「Microsoft Mesh」を体験
 したMicrosoft MVPsでお届けします。\n\n\n[14:45-15:15] Microsoft
  Ignite 2021 で話題のアレも含めて益々盛り上がる Power Pl
 atform を振り返る\n\nスピーカー：中村 太一、りなたむ
 、やまさん(Yamad365)\n概要：大きく飛躍し続け注目を浴
 びる Power Platform ですが、 Microsoft Ignite 2021 でも衝撃な
 発表がありました。\nはたして日本で Power Platform が、
 ノーコード・ローコードが、一過性の話題で終わるの
 か？否か？\n発表があった管理機能の強化で、IT部門か
 ら今後どのようにサービス提供できるのか？\nPower Platf
 orm コミュニティに関わってきたメンバーが、注目の発
 表内容をピックアップしてワイワイします。\n\n[15:15-15
 :25] LT - 俺的 Ignite 2021 Spring Update まとめ ミニ\n\nスピー
 カー：足利 惟\n概要：Ignite 2021 Spring でも Azure に関す
 る様々なアップデートが発表されました。このセッシ
 ョンでは膨大なアップデートの中から登壇者がこれは
 と思ったものをピックアップして紹介する"俺的"なま
 とめセッションです。\n\n[15:25-15:35] LT - Azure Arcで「ど
 こでも」Azureサービスを利用可能に！\n\nスピーカー：
 胡田 昌彦\n概要：Azure ArcにはAzureのサービスをAzure上に
 とどまらず、オンプレミスでも、AWS上でもGCP上でも利
 用可能にしてしまう壮大なビジョンがあります。サー
 バーもKubernetesもスコープに入れながらこれからも進化
 は継続的に続きます。このセッションでは基本コンセ
 プトからIgniteで発表された最新情報まで含めてお伝え
 します。ハイブリッドクラウド、マルチクラウドを志
 向する方は要チェックです！\n\n[15:35-15:45] LT - Updates of 
 Azure NoSQL announced at Microsoft Ignite Spring 2021\n\nスピーカー
 ：政岡 裕士\n概要：今年のMicrosoft Ignite Spring 2021では、
 NoSQLまわりでも多くのアップデートがありました。\nAzu
 re Cosmos DBではMongoDB API v4のリリース、ポイントインタ
 イムリストア(PITR)、およびAADを使用したRBACのプレビュ
 ー開始がアナウンスされ、他にもSQL Databaseではおなじ
 みのManaged InstanceがApache Cassandraが登場するなど、ユー
 ザー待望のアップデートが数多く発表されました。\n
 今回は、これらのアップデート内容を注目ポイントを
 交えて解説していく予定です。\n\n[15:45-15:55] LT - Azure Sy
 napse Pathway\n\nスピーカー：Yang Jiayi\n概要：Azure Synapse Pat
 hwayの概要とDemo\n\n\nセッション スピーカー\n山本 誠樹 
 - Microsoft Azure \nMicrosoft Azure を愛して10年！よろしくお
 願いいたします！\nMicrosoft MVP for Microsoft Azure アバナー
 ド株式会社/Manager JAZUGメンバー\nブログ: 世界のやまさ 
 Twitter: @nnasaki\n松田 恭明 - Microsoft Azure\nMicrosoft MVP for Mic
 rosoft Azureで、Japan Azure User Group（JAZUG）札幌支部（”き
 たあず”）や札幌 Azure もくもく会など、主に札幌でAzu
 reのコミュニティ運営をしております。\n武井 宜行 - Mi
 crosoft Azure\nMicrosoft MVP for Azureとして、Azureの啓蒙活動に
 日々邁進しております。最新の技術を楽しくわかりや
 すく」をモットーとし、セミナーやブログ(年間約100本
 )で情報を発信しています。得意分野はAzure、アプリ開
 発(Java、PHPなど)、サーバーレス、コンテナ関連です。
 技術ブログはこちらです。 SIOS Tech.Lab\n平野 愛 - Microsof
 t 365\nMicrosoft MVP for Office Apps & Services、トレーナー & コ
 ンサルタント & 執筆業も少し\nオフィスアイ株式会社
 にて SharePoint を中心とした Microsoft 365 の利活用支援の
 ためのオリジナル研修の実施、1社向けのコンサルティ
 ングなどを行う。代表的な書籍として日経BP社より発
 売されている「ひと目でわかる Office 365 運用管理編」
 や「ひと目でわかる SharePoint Server 2016」がある。現在
 、同シリーズの Microsoft 365 の SharePoint 版の執筆中。\nTw
 itter : ai_yamasaki、ブログ : SharePoint Technical Notes\n太田 浩
 史 - Microsoft 365\nMicrosoft MVP for Office Apps & Services / 株式会
 社内田洋行\n2010年にOffice 365の前身BPOSを自社で導入し
 てから、かれこれ10年以上Office 365を使い続けています
 。\nブログ: idea.toString()\;\n村地 彰 - Microsoft 365 \nMicrosoft
  MVP for Windows and Device for IT 受賞10年目です。\n株式会社
 エクシードワン・技術フェロー/株式会シーピーエス代
 表\nTechNet Forum / MSDN Forum で皆さんの質問に回答してい
 ます。\nBlog\; Hebikuzure's Tech Memo\n中村 太一 - Microsoft 365 /
  Power Platform\nMicrosoft MVP for Business Applications / Office Apps & 
 Services\nAvePoint Japan 株式会社\nMicrosoft 365 を個人・家庭
 利用する「 Home 365 」を主催、 Power Apps で楽器アプリを
 作成して演奏をする「 Japan Power Apps Orchestra 」の主宰。
 ただの「 Microsoft 365 / Power Platform 大好きオジサン」が
 斜め上の変わった活動をしています。このおかしな活
 動を Microsoft が認めてくれたのか、Microsoft MVP を2つの
 カテゴリで受賞いただいてます。ブログ Art-Break : Tech 
 は平均2日に1記事を投稿しています。\n森 博之 - Visual S
 tudio\nAZPower株式会社 プリンシパルアーキテクト\nMicrosof
 t MVP for Developer Technologies\nVisual Studio Users Community Japan オ
 ーガナイザー\n大田 一希 - Visual Studio\n日本マイクロソ
 フト勤務\nVisual Studio Users Community Japan メンバー\n好きな
 技術：C# を中心としたクライアントサイドテクノロジ
 ーと Azure PaaS 系サービス\n亀川 和史 - DevOps \nAzure DevOps
 およびDevOpsを扱うコミュニティ、TFSUG を主催していま
 す。\nMicrosoft MVP for Developer Technologies\nブログ: kkamegawa's 
 weblog\nTwitter: @kkamegawa\n竹林 崇 - DevOps\nMicrosoft MVP for Micro
 soft Azure\nTFSUG (Team Foundation Server Users Group)\nblog: Change the 
 World!\nTwitter: @changeworlds\n中村 薫 - Mixed Reality\n株式会社
 ホロラボ 代表取締役 CEO / Microsoft RD / Microsoft MVP for Windo
 ws Development\nTwitter: @kaorun55\n宮浦 恭弘 - Mixed Reality \nMicro
 soft MVP for Windows Development\n大阪駆動開発コミュニティ\nT
 witter: @takabrz1\n堀尾 風仁 - Mixed Reality\nMicrosoft MVP for Windo
 ws Development\n株式会社神戸デジタル・ラボ 新事業創造
 係 MR班\nAR KOBE\, Azure Tech Lab 主催\nTwitter: @Futo_Horio\nりな
 たむ - Power Platform\nMicrosoft MVP for BizApps / 株式会社ソン
 トレーゾ CTO/Co-Founder\nMicrosoft のローコード開発ソリュ
 ーション、Power Platform を用いて、市民開発者の創出を
 行っています。\nTwitter: @R_t_A_n_M\nやまさん(Yamad365) - Powe
 r Platform \nMicrosoft MVP for Business Applications。\n「Japan Power A
 pps User Group」、「Japan Power Platform User Group」運営メンバ
 ー。「Japan Power Platform User Group 名古屋」主催のひとり
 。\nTwitter : @yamad365 \nQiita : @yamad365 \n足利 惟 - Microsoft Azu
 re (LT) \nMicrosoft MVP for Microsoft Azure / Japan Azure User Group / pn
 op Inc.\n胡田 昌彦 - Microsoft Azure (LT) \nMicrosoft MVP for Azure 
 所属: 日本ビジネスシステムズ株式会社\nコミュニティ
  : ハイブリッドクラウド研究会\nYoutube:    胡田昌彦の
 コンピューター系チャンネル\nTwitter : @ebi \nBook： Windows
 インフラ管理者入門 \nFacebook: https://www.facebook.com/masahiko
 .ebisuda \nLinkedIn:   https://www.linkedin.com/in/masahiko-ebisuda-8ab17
 12a/\nBlog: Windowsインフラ管理者への道\nBlog: Microsoft Cloud 
 Administrators\nDiary: えび日記 | インフラエンジニアの子
 育てなどの日常\n政岡 裕士 - Microsoft Azure (LT)\nTwitter: @ma
 ppie_kochi\nBlog: Zenn –まっぴぃ\nJCDUG (Japan Azure Cosmos DB User
  Group) – Organizer\nWorking at Recruit Co.\, Ltd.\nYang Jiayi - Micros
 oft Azure (LT)\nMicrosoft MVP for Data Platform\nJapan SQL Server User Gr
 oup\n参加方法\n\n本ページよりご参加登録ください。\n
 ※参加登録時にご回答いただく参加者アンケートは、
 イベント企画の参考として拝見いたします。\n本ペー
 ジに記載のYouTubeライブURLよりご参加ください\n\nMicrosof
 t Igniteとは\n IT技術者・開発者向けに最新技術情報と最
 新スキルアップ情報をお届けするグローバルイベント
 「Microsoft Ignite」を日本時間2021年3月3日（水） - 4日（
 木）に全世界同時にオンラインで開催します。マイク
 ロソフトの最新技術情報から、すぐにご活用いただけ
 るスキルアップコンテンツ情報をお届けします。\nMicro
 soft Igniteはより多くのお客様へ最新技術情報をいち早
 くお届けできるよう、どなたでも無料、オンラインで
 気軽にご参加いただけます。今回は、Satya Nadella、Scott 
 Hanselman、Mitra Azizirad、Scott Guthrie をはじめとするMicrosoft
 のテクニカルリーダーがお届けする基調講演、および
 ブレークアウトセッションは日本語での同時音声翻訳
 にてご視聴いただくことが可能です。また日本の皆様
 に向けて、「ITエンジニアが未来を創る  ~ DXを推進す
 る技術者の役割」と題し日本マイクロソフト チーフラ
 ーニングオフィサー 伊藤かつら とクラウドネイティ
 ブ&デベロッパーマーケティング部エバンジェリスト 
 小田祥平 より、テクノロジーに対するこれからの学び
 のあり方、技術者の人材育成の取り組みをはじめ、技
 術者への期待について、ご紹介するセッションをご用
 意しております。\n詳しくは公式サイトをご覧くださ
 い：https://myignite.microsoft.com/home \nマイクロソフト行動
 規範\nマイクロソフトのミッションは、「地球上のす
 べての個人とすべての組織が、より多くのことを達成
 できるようにする」ことです。すべての参加者が尊重
 され、友好的で多様性を尊重した環境での開催を目指
 しています。そのため、場所を問わず、ビジネス活動
 や交流活動を含むプログラムのすべてにおいて、イベ
 ント参加者によるハラスメント行為や非礼な行動、メ
 ッセージ、画像、やり取りを容認いたしません。\nま
 た、性別、人種、性的指向、または身体の障碍等に関
 して相手の尊厳を傷付けるような行為、またはマイク
 ロソフトのハラスメント防止および差別防止の方針、
 雇用機会均等方針、または業務遂行基準に違反する行
 為は一切容認いたしません。つまり、会場でのすべて
 の体験や経験がマイクロソフトのカルチャーの基準を
 満たしている必要があります。\nすべてのご参加者が
 、その参加を歓迎される安全な環境を醸成するようお
 願いいたします。もし、この点において、ご懸念やハ
 ラスメント行為、疑わしい行動または破壊的な行動に
 ついて気になることがございましたら、会場スタッフ
 、イベント主催者、最寄りのイベントセキュリティス
 タッフまでお知らせください。\nマイクロソフトは独
 自の判断により、いつでも参加を拒否したり、イベン
 トからの退出を求める権利を有しています。
LOCATION:オンライン オンライン
URL:https://techplay.jp/event/809013?utm_medium=referral&utm_source=ics&utm
 _campaign=ics
END:VEVENT
END:VCALENDAR
