BEGIN:VCALENDAR
VERSION:2.0
PRODID:-//https://techplay.jp//JP
CALSCALE:GREGORIAN
METHOD:PUBLISH
X-WR-CALDESC:【初心者からエンジニアまで】札幌のカフェ
 でプログラミングもくもく会（3/13）
X-WR-CALNAME:【初心者からエンジニアまで】札幌のカフェ
 でプログラミングもくもく会（3/13）
X-WR-TIMEZONE:Asia/Tokyo
BEGIN:VTIMEZONE
TZID:Asia/Tokyo
BEGIN:STANDARD
DTSTART:19700101T000000
TZOFFSETFROM:+0900
TZOFFSETTO:+0900
TZNAME:JST
END:STANDARD
END:VTIMEZONE
BEGIN:VEVENT
UID:809080@techplay.jp
SUMMARY:【初心者からエンジニアまで】札幌のカフェでプ
 ログラミングもくもく会（3/13）
DTSTART;TZID=Asia/Tokyo:20210313T140000
DTEND;TZID=Asia/Tokyo:20210313T160000
DTSTAMP:20260420T110040Z
CREATED:20210220T142218Z
DESCRIPTION:イベント詳細はこちら\nhttps://techplay.jp/event/80908
 0?utm_medium=referral&utm_source=ics&utm_campaign=ics\n\nこんにちは
 。\n札幌のプログラミングもくもく会の\nシフトフラッ
 トです。\nWebプログラミング中心の勉強会を行ってい
 ます。\n(HTML/CSS\,Javascript\,PHPなど)\n初心者から、エンジ
 ニアの方まで、\nどなたでも、男女共に歓迎です！\n札
 幌にお住まいの方、\nカフェで一緒にもくもく会しま
 せんか？\nなお、新型コロナ予防のため必ず、\nマスク
 を着用してお越し下さい。\n参加費無料です。\n(飲食
 代は各自負担)\n1回辺り２時間で、\n最初に自己紹介と
 勉強内容、\n残り5-15分(人数により変動)で進捗報告を
 します。\nなので、もくもく会ビギナーでも、\n気軽に
 ご参加いただけます。\n具体的には、Progateを進めるも
 よし、自分に合った教材で勉強するもよし、模写コー
 ディング、ポートフォリオ作成、資格の勉強、お仕事
 、その他、Web関係に関する座学・読書など、何でもあ
 りです!\n途中参加・退席・当日欠席は\n事前にご連絡
 お願いします。\n（お問合せ、フィード、コメントな
 ど）\nなお、宗教などの勧誘はございませんので、\n安
 心してご参加いただければと思います。\nまずは、ご
 参加お待ちしております。\n※リアル開催という性質
 上、当日連絡なくドタキャンされた場合、今後のご参
 加をお断りさせていただきます。\n※オンラインは別
 の日に行っております。この日はオンラインは対応し
 ておりませんのでご注意ください。\n※主催者は独学
 中で専門家ではないので、専門的な解決を確実に求め
 ている方は他のもくもく会ご参加をおすすめします。
LOCATION:クロワッサンカフェ(アピア店)最寄札幌駅 北海道
 札幌市中央区北５条西４丁目 アピア
URL:https://techplay.jp/event/809080?utm_medium=referral&utm_source=ics&utm
 _campaign=ics
END:VEVENT
END:VCALENDAR
