BEGIN:VCALENDAR
VERSION:2.0
PRODID:-//https://techplay.jp//JP
CALSCALE:GREGORIAN
METHOD:PUBLISH
X-WR-CALDESC:【デモで解説】30分で丸わかり！ PIM＆DAM統合
 プラットフォームの活用法
X-WR-CALNAME:【デモで解説】30分で丸わかり！ PIM＆DAM統合
 プラットフォームの活用法
X-WR-TIMEZONE:Asia/Tokyo
BEGIN:VTIMEZONE
TZID:Asia/Tokyo
BEGIN:STANDARD
DTSTART:19700101T000000
TZOFFSETFROM:+0900
TZOFFSETTO:+0900
TZNAME:JST
END:STANDARD
END:VTIMEZONE
BEGIN:VEVENT
UID:809244@techplay.jp
SUMMARY:【デモで解説】30分で丸わかり！ PIM＆DAM統合プラ
 ットフォームの活用法
DTSTART;TZID=Asia/Tokyo:20210310T113000
DTEND;TZID=Asia/Tokyo:20210310T120000
DTSTAMP:20260424T074947Z
CREATED:20210222T092458Z
DESCRIPTION:イベント詳細はこちら\nhttps://techplay.jp/event/80924
 4?utm_medium=referral&utm_source=ics&utm_campaign=ics\n\n【デモで解
 説】30分で丸わかり！ PIM＆DAM統合プラットフォームの
 活用法\n\n企業活動のオンラインシフトに伴って、特に
 商品を多数展開する製造業におけるデータ管理・活用
 の重要性は増しています。増え続ける販売チャネル、
 営業やマーケティングのニーズに応えるための拡張性
 の高いプラットフォームの活用はもちろんのこと、ブ
 ランディング、充実した商品情報、コンテンツパーソ
 ナライゼーションを同時に実現することが求められて
 います。\n業務のデジタル化を進め、優れた商品体験
 を顧客に素早く提供することを目指す企業は、豊富な
 商品情報、関連するマーケティングアセットを統合的
 に管理する為の洗練されたソリューションを活用する
 ことが増えています。\n本ウェビナーでは、企業が重
 要なビジネス・バリューを 迅速に実現するためのConten
 tserv PIM&DAM統合プラットフォームの基本的な機能や機能
 エンハンスメントについて紹介します。\n\n●開催スケ
 ジュール\n\n2021年3月10日（水）11:30~12:00\n配信方法：Goto
 Webinarによるライブ配信\n詳細：https://www.contentserv.com/jp/
 events/webinar-pim-dam-demo/\n\n登壇者\n\n菊池 智功\n株式会社C
 ontentserv\nディレクター\n参加対象\n＜こんな方におすす
 め＞\n・Contentserv製品を詳しく知りたいという方\n・PIM/
 DAM 導入検討中の方\n・マーケティング担当者、管理者
 、部門長の方\n※ リクルーティング、勧誘など、採用
 目的でのイベント参加はお断りしております。\nハッ
 シュタグ\n#contentserv #PIM #DAM\n注意事項\n※ 参加を辞退
 する場合は、詳細ページより申込のキャンセルをお願
 い致します。※ 無断キャンセル・欠席が続く場合、次
 回以降の参加をお断りさせていただく場合がございま
 すのでご了承ください。\n 
LOCATION:オンライン
URL:https://techplay.jp/event/809244?utm_medium=referral&utm_source=ics&utm
 _campaign=ics
END:VEVENT
END:VCALENDAR
