BEGIN:VCALENDAR
VERSION:2.0
PRODID:-//https://techplay.jp//JP
CALSCALE:GREGORIAN
METHOD:PUBLISH
X-WR-CALDESC:【無料Webセミナー】＜新時代のセールス&マー
 ケティング＞成果を出すウェビナー裏側徹底解説セミ
 ナー　～マーケ×データ×ウェビナー×インサイドセー
 ルスで最大の効果を出す～
X-WR-CALNAME:【無料Webセミナー】＜新時代のセールス&マー
 ケティング＞成果を出すウェビナー裏側徹底解説セミ
 ナー　～マーケ×データ×ウェビナー×インサイドセー
 ルスで最大の効果を出す～
X-WR-TIMEZONE:Asia/Tokyo
BEGIN:VTIMEZONE
TZID:Asia/Tokyo
BEGIN:STANDARD
DTSTART:19700101T000000
TZOFFSETFROM:+0900
TZOFFSETTO:+0900
TZNAME:JST
END:STANDARD
END:VTIMEZONE
BEGIN:VEVENT
UID:809518@techplay.jp
SUMMARY:【無料Webセミナー】＜新時代のセールス&マーケテ
 ィング＞成果を出すウェビナー裏側徹底解説セミナー
 　～マーケ×データ×ウェビナー×インサイドセールス
 で最大の効果を出す～
DTSTART;TZID=Asia/Tokyo:20210324T130000
DTEND;TZID=Asia/Tokyo:20210324T143000
DTSTAMP:20260420T172852Z
CREATED:20210225T032335Z
DESCRIPTION:イベント詳細はこちら\nhttps://techplay.jp/event/80951
 8?utm_medium=referral&utm_source=ics&utm_campaign=ics\n\n【エムエム
 総研様共催セミナー】＜新時代のセールス&マーケティ
 ング＞成果を出すウェビナー裏側徹底解説セミナー\n
 概要\n本ウェビナーでは、セールスデジタルシフト支
 援の株式会社エムエム総研様と、年間5\,000回以上のウ
 ェビナー配信サポート実績があるブイキューブが、ウ
 ェビナーの成果を最大化し、ウェビナーで獲得した見
 込み顧客をホットリード化、案件化していく方法につ
 いてご案内します！\n\nこんな課題を感じていませんか
 ？\n\nウェビナーに取り組みたいが、懸念事項が多く社
 内を説得しきれない\nウェビナーのターゲット設定や
 属性ごとの管理をうまくできていない\nウェビナーで
 獲得した見込み顧客から案件化、成約につなげる方法
 が知りたい\nウェビナーを開催しているが、リアルで
 の開催と比べて思ったような成果が出ていない\n\n\nエ
 ムエム総研様、ブイキューブが実際に取り組んでいる
 ウェビナー開催とインサイドセールスのアプローチの
 裏側を、実践例をもとにご紹介します。\nお申し込み
 はこちら\nタイムスケジュール\n\n\n\n時間\n内容\n\n\n\n\n
 13:00〜13:05\nオープニング\n\n\n13:05〜13:45\nセールスデジ
 タルシフト支援のエムエム総研　米田氏　　・マーケ
 ティングにおける、ウェビナーの位置づけ　　・ター
 ゲット属性の管理・精査の方法　　・ウェビナーで獲
 得した見込み顧客をホットリード化するプロセスとKPI\
 n\n\n13:35〜14:15\n年間5\,000回以上のウェビナー配信サポ
 ート実績があるブイキューブ　篠崎　　・失敗できな
 いウェビナーを成功に導く秘訣　　・成果を出すため
 のウェビナーで獲得した見込み顧客へのプアローチ方
 法\n\n\n14:15〜14:30\n質疑応答\n\n\n\n※ 当日予告なく時間
 配分・内容が変更になる可能性がございます。\n登壇
 者\n米田 光雄 氏\n株式会社エムエム総研\n取締役\n2008
 年にコールスタッフとしてエムエム総研と出会い、論
 理性と可能性に富んだBtoBマーケティングの魅力に惹か
 れ入社。単なる短期成果の獲得だけではなく、企業・
 事業が継続的に成長するうえでの本質的なマーケティ
 ング課題と目的を明らかにしたうえで最適なソリュー
 ションを提供することにこだわりを持ち、長期継続型
 のプロジェクトを多く手掛ける。\nインサイドセール
 スコミュニティ"ConnectFesta!"発起人。法人営業デジタル
 化協会（通称＝HED）理事。\n\n\n篠崎 太祐\n株式会社ブ
 イキューブ\n営業本部 インサイドセールスグループ グ
 ループマネージャー\n株式会社ブイキューブに新卒で
 入社し、2015年和歌山県白浜町のテライトオフィス立ち
 上げ責任者として従事。Web会議を使った、訪問をしな
 い「オンライン営業」の仕組みを設計。2016年東京本社
 にて、自らお客様の対応をしながらインサイドセール
 スを立ち上げ、メンバー育成、教育、成果管理を行う
 。\n\n\n《株式会社ブイキューブ》\nWebセミナーシステ
 ム、Web会議システムの開発・販売・サポート・運営支
 援を行っている東証一部上場企業。\n近年急増してい
 るウェビナーやオンラインイベント領域では、国内最
 大規模の年間5\,000回のウェビナー配信支援を行ってい
 ます。\n\n実施概要：2021年3月24日（水）13:00～14:30（接
 続開始 12:50）\n対象：マーケティングおよびセールス
 のデジタルシフトにご興味がある方\n※競合他社様・
 個人事業主様につきましては、お断りさせていただく
 ことがございますので、予めご了承ください。\n定員
 ：100名（先着順）\n参加費：無料\n参加方法：インター
 ネットに繋がるPC、スマートフォン・タブレット\n\nお
 申し込みはこちら
LOCATION:オンライン開催（V-CUBEセミナー）
URL:https://techplay.jp/event/809518?utm_medium=referral&utm_source=ics&utm
 _campaign=ics
END:VEVENT
END:VCALENDAR
