BEGIN:VCALENDAR
VERSION:2.0
PRODID:-//https://techplay.jp//JP
CALSCALE:GREGORIAN
METHOD:PUBLISH
X-WR-CALDESC:【Online】LINE Technical Writing Meetup vol.1
X-WR-CALNAME:【Online】LINE Technical Writing Meetup vol.1
X-WR-TIMEZONE:Asia/Tokyo
BEGIN:VTIMEZONE
TZID:Asia/Tokyo
BEGIN:STANDARD
DTSTART:19700101T000000
TZOFFSETFROM:+0900
TZOFFSETTO:+0900
TZNAME:JST
END:STANDARD
END:VTIMEZONE
BEGIN:VEVENT
UID:809552@techplay.jp
SUMMARY:【Online】LINE Technical Writing Meetup vol.1
DTSTART;TZID=Asia/Tokyo:20210311T190000
DTEND;TZID=Asia/Tokyo:20210311T210000
DTSTAMP:20260424T015709Z
CREATED:20210225T062104Z
DESCRIPTION:イベント詳細はこちら\nhttps://techplay.jp/event/80955
 2?utm_medium=referral&utm_source=ics&utm_campaign=ics\n\nLINE Technical W
 riting Meetup\nLINE Technical Writing Meetupは、テクニカルライ
 ティングをテーマにした技術者向けのミートアップで
 す。\n\nエンジニアをしていると、日々仕事でドキュメ
 ントを書いたり読んだり、あるいは個人的に調べたこ
 とをブログにまとめたり、公私を問わず技術的な文章
 に触れる機会が多いと思います。\n\nもっと分かりやす
 いドキュメントが書けるようになりたいな、複雑な技
 術のこともうまく伝えられるようになりたいな、そん
 な風に「書くこと」や「つたえること」について課題
 感を持っている方も少なくないのではないでしょうか
 。\n\nこのミートアップでは、LINEでテクニカルライテ
 ィングを専門としているメンバーが集まって、もっと
 「分かりやすくつたえる」ための知見を共有していき
 ます。 \n\n※参加費無料\n\n※このイベントは全て日本
 語で行われます\n\n※This event is all in Japanese\n開催日時\n
 2021年3月11日(木） 19:00-20:40\n開催場所\nオンライン\n※LI
 NE Developers JapanのYouTubeチャンネルでライブで配信を行
 います。\nhttps://www.youtube.com/c/LINEDevelopersJapan\n\n※アー
 カイブは後日公開を予定しています。\nこんな人にお
 すすめ\n\nドキュメントを書いたり読んだりする人\n技
 術を分かりやすくつたえられるようになりたい人\n「
 書くこと」や「つたえること」に課題感を持っている
 人\n技術ブログなどでアウトプットをしている人\n開発
 や運用をしながらドキュメント作りもがんばっている
 人\nもっと文章力を上げたいと思っている人\n分かりや
 すく説明できるようになりたい人\n技術書を執筆して
 いる人\n\n質問の受付について\n当日発表者に対する質
 問はslidoで受付けます（事前の質問も歓迎です）\n以下
 URLでイベントコードを入力の上、質問の投稿をお願い
 いたします。\nhttps://www.sli.do/\nイベントコード：#LINE_TW
 M\nhttps://app.sli.do/event/x465ewjl\n参加される方への事前の
 お願い\n\nインターネットが良好に繋がる環境にてご視
 聴ください。\n申し込んだ方には、開催当日に視聴URL
 （および参加後アンケートのURL）をメッセージでお送
 りします。\n18:50頃から配信を開始します。\n参加後は
 、アンケートへの回答にご協力をお願いします。\nTwitt
 er でのイベントに関する投稿も大歓迎です！\n Twitterハ
 ッシュタグ：[#LINE_TWM]\n\nタイムスケジュール\n\n\n\n時
 間\nコンテンツ\n登壇者\n\n\n\n\n19:00-19:05\nOpening\n―\n\n\n1
 9:05-19:35\nこれだけ気を付けて書いてもらえるとみんな
 幸せになるポイント2つだけ\n矢崎 誠\n\n\n19:35-20:05\n分
 かりやすいドキュメントを書く「テクニカルライター
 」という仕事\n堀越 良子\n\n\n20:05-20:35\nQ&A\n―\n\n\n20:35-2
 0:40\nClosing\n―\n\n\n\nセッション概要\nこれだけ気を付け
 て書いてもらえるとみんな幸せになるポイント2つだけ
 \n矢崎 誠 /  @yazakimakoto  / LINE株式会社 テクニカルライ
 ター\n\n\n文章を書く技法的なものは多くあり、そうい
 ったものすべてに対応しなくても「わかりやすい文章
 だ！」と言っていいはずです。今回は、私が特に重要
 だと考えている「名前を大事にしてほしい話」と「あ
 らかじめ読者との距離を近づけて欲しい話」の2つのポ
 イントに絞って、文章を書くときのポイントをお伝え
 します。技術者の業務の一環として文章を書いている
 方、自分が書いている文章を改善したいけど、どこか
 ら手を付けると効率がいいか迷っている方に、きっか
 けを伝えるためのセッションです。\n\n分かりやすいド
 キュメントを書く「テクニカルライター」という仕事\
 n堀越 良子 / @mochikoAsTech / LINE株式会社 テクニカルライ
 ター。元インフラエンジニア。ねこが好き。\n\n\nもと
 もとインフラエンジニアをしていた私が、LINEに入るま
 で知らなかった「テクニカルライターという職種があ
 ること」と「LINEにはテクニカルライティング専門のチ
 ームがあること」の2つについてお話しします。技術も
 好きだし、ドキュメントを書いたり、人に教えたりす
 るのも好きだ、という方に「こういうキャリアもある
 んだ」と発見してもらえるセッションです。\n\n注意事
 項\n\n本イベントの内容は後日、主催団体のブログ・You
 Tube等の媒体にて紹介する可能性があります。その際、
 ご参加者名が写った画像（キャプチャなど）も紹介さ
 れることがあります。予めご了承ください。\n当社に
 おけるその他取り扱いは以下プライバシーポリシーに
 従います。ご同意の上、ご参加ください。 https://terms.l
 ine.me/line_rules/?lang=ja\nイベントスタッフは、このイベン
 トに関わる全員が気持ちよく過ごせるように考えてい
 ます。参加者の皆様も、他の方を不快にさせるような
 発言・行動は謹んでください。またそのような行動を
 目にした方は、connpassの「イベントへのお問い合わせ
 」フォームからお知らせください。\n\n関連リンク\n矢
 崎 誠 ブログシリーズ\nLINE社内で大評判のテクニカル
 ライティング講座で説明した内容をあらためてブログ
 にまとめてみた\n\nhttps://engineering.linecorp.com/ja/blog/line-te
 chnical-writing-course/\n堀越 良子 チーム紹介\nLINEの社内に
 は「テクニカルライティング」の専門チームがありま
 す\n\nhttps://engineering.linecorp.com/ja/blog/line-technical-writing/\n
 担当ドキュメント\nLINE Developers\n\nhttps://developers.line.biz/
 ja/docs/\n\nLINE API Use Case\n\nhttps://lineapiusecase.com/ja/top.html\n
 採用ポジション\nテクニカルライター / Japanese documents\n
 \nhttps://linecorp.com/ja/career/position/806
LOCATION:Youtube Live オンライン
URL:https://techplay.jp/event/809552?utm_medium=referral&utm_source=ics&utm
 _campaign=ics
END:VEVENT
END:VCALENDAR
