BEGIN:VCALENDAR
VERSION:2.0
PRODID:-//https://techplay.jp//JP
CALSCALE:GREGORIAN
METHOD:PUBLISH
X-WR-CALDESC: DXでさらに企業進化を　AI＋自動化でビジネス
 をパワーアップ 
X-WR-CALNAME: DXでさらに企業進化を　AI＋自動化でビジネス
 をパワーアップ 
X-WR-TIMEZONE:Asia/Tokyo
BEGIN:VTIMEZONE
TZID:Asia/Tokyo
BEGIN:STANDARD
DTSTART:19700101T000000
TZOFFSETFROM:+0900
TZOFFSETTO:+0900
TZNAME:JST
END:STANDARD
END:VTIMEZONE
BEGIN:VEVENT
UID:809728@techplay.jp
SUMMARY: DXでさらに企業進化を　AI＋自動化でビジネスを
 パワーアップ 
DTSTART;TZID=Asia/Tokyo:20210312T130000
DTEND;TZID=Asia/Tokyo:20210312T145000
DTSTAMP:20260421T071859Z
CREATED:20210226T140027Z
DESCRIPTION:イベント詳細はこちら\nhttps://techplay.jp/event/80972
 8?utm_medium=referral&utm_source=ics&utm_campaign=ics\n\n本セミナー
 は終了いたしました。\n\nお申込・ご参加ありがとうご
 ざいました。\n\n当セミナーの資料の公開予定はござい
 ません。ご了承くださいませ。\n\n\n\n本セミナーは、
 シスコシステムズ合同会社、ネットアップ合同会社が
 主催するWebセミナー「DXでさらに企業進化を　AI＋自動
 化でビジネスをパワーアップ」のご紹介です。\n\nコロ
 ナ渦で大きなビジネス変革に迫られる中、多くの企業
 がデジタルトランスフォーメーションへの歩みを進め
 ています。こと、データ活用というテーマは、ビジネ
 ス変革に対応するための有効な手段として注目を高め
 、急速に利用が広がっています。\n\n消費者の行動分析
 に基づいた戦略を実行する、消費者の購買思考を分析
 して即座に対応する、……データ活用や自動化を駆使
 したこうした取り組みは、企業が進化し成功するため
 のカギだと言えるでしょう。本セミナーでは、「AIな
 どを活用したデータ活用」をテーマとし、これを実現
 するためにはどんな考え方をインフラに取り入れる必
 要があるのかを、コンバージドインフラストラクチャ
 「FlexPod」を交えながら紹介します。\n\nシスコとネッ
 トアップによる共同ソリューション「FlexPod」は、2020
 年、登場から10周年を迎えました。両社では様々なビ
 ジネスソリューションを共同開発・リファレンス化し
 、事前検証済みプラットフォームとしてこの「FlexPod」
 を提供。10年にわたり、企業の課題を早期解決に導い
 てきました。セミナーでは長年の実績で培ったノウハ
 ウのもと、データ活用を進める上であるべきインフラ
 について解説。さらに、基調講演に良品計画でEC事業
 を牽引する角田 徹 氏を招き、デジタルを活用した顧
 客戦略や店舗活動の取り組みについても紹介します。\
 n\nプログラム　\n\n13:00～13:30　調整中\n\n株式会社良品
 計画\n\nオープンコミュニケーション部\n\nEC事業部長\n\
 n角田 徹 氏\n\n【プロフィール】調整中\n\n【講演概要
 】調整中\n\n13:30～14:00　クラウドで進化するコンバジ
 ードインフラ FlexPodの運用管理と自動化\n\nシスコシス
 テムズ合同会社\n\nクラウドインフラストラクチャ/ソ
 フトウェア事業\n\nテクニカルソリューションズアーキ
 テクト\n\n加藤 久慶 氏\n\n【プロフィール】\n\nCiscoにて
 クラウドによるインフラ運用管理・自動化関連のソフ
 トウェアを中心にテクニカルセールスに従事。\n\n【講
 演概要】\n\nCiscoとNetApp両社では事前検証済みリファレ
 ンスアーキテクチャデザイン「FlexPod」を迅速な設計と
 導入を目的にして発展させてきました。本セッション
 ではCiscoが提供するIntersightに触れ、お客様の課題であ
 るクラウド運用管理・自動化をテーマにFlexPodを導入す
 るメリットについてお話いたします。\n\n14:00～14:30　 A
 I Control Plane/Data Science Toolkit のご紹介\n\nネットアップ
 合同会社\n\nソリューション技術本部 ソリューション
 アーキテクト部\n\nシニア ソリューション アーキテク
 ト\n\n大野 靖夫 氏\n\n【プロフィール】\n\nIAサーバベン
 ダー等を得て2014年にネットアップに入社、仮想化やコ
 ンテナのソリューション提案のご支援を中心に活動。\
 n\n【講演概要】\n\nAIやデータ分析で必要になる大量の
 データ。ネットアップのストレージには、これらの処
 理を高速に、効率良く行う機能が搭載されています。
 こういったストレージ機能の活用は、ストレージの専
 門家でなくても可能です。\n\n本セッションではオープ
 ンソースのソフトウェアスタックとしてNetApp AI Control P
 laneと、データ管理機能を統合するためのオープンソー
 スソフトウェアである NetApp Data Science Toolkitをご紹介い
 たします。\n\n14:40～14:50  Q&A クロージング\n\n※スケジ
 ュールおよびセッション内容は予告なしに変更になる
 場合があります。\n\n※参加条件\n\n企業におけるIT部門
 、事業企画部門、開発部門ご担当者様\n\n主催\n\nシス
 コシステムズ合同会社、ネットアップ合同会社\n\n協力
 \n\n株式会社マイナビ コンテンツメディア事業部 マイ
 ナビニュースセミナー運営事務局\n\n当日会場アクセス
 に関するお問合せ\n\nネットアップ ウェビナー運営事
 務局　ng-japan-flexpod-seminar@netapp.com\n\nセミナー事務局\n\n
 マジセミ株式会社\n\n\n\n※リアルセミナーの場合は、
 当日は名刺を2枚お持ち下さい。Webセミナーの場合は不
 要です。\n\n※以下の方について、当社判断によりご参
 加をご遠慮頂く場合がございます。予めご了承下さい
 。\n\n・講演企業の競合となる商品・サービスを提供し
 ている企業、同業の企業、及びそのグループ企業・関
 連企業の方\n\n・個人や個人事業主の方\n\n・海外から
 参加される方\n\n・日本に活動拠点が無い企業の方\n\n
 ・その他、弊社及び講演企業が不適切と判断した企業
 ・個人の方\n\n※申込が多数の場合、弊社抽選にてご参
 加をご遠慮頂く場合がございますので、予めご了承く
 ださい。\n\n※本コミュニティにご提示いただいた情報
 、及び、申込時にご記載頂いた内容は、マジセミ株式
 会社にて収集し、マジセミ株式会社／オープンソース
 活用研究所、及び、主催・共催・協賛・協力・講演の
 各企業へ提供します。ご記入頂いた個人情報は、マジ
 セミ株式会社／株式会社オープンソース活用研究所及
 び主催・共催・協賛・協力・講演企業にて厳重に管理
 し、各社のサービス、製品、セミナー、イベントなど
 のご案内に使用させて頂き、また各社のメルマガに登
 録させていただきます。ご記入頂いた個人情報は、法
 で定める場合を除きご本人の同意を得ることなく第三
 者へ提供いたしません。利用目的遂行のため個人情報
 の取扱いを外部に委託する場合は、委託した個人情報
 の安全管理が図られるように、委託をする各社が定め
 た基準を満たす委託先を選定し、委託先に対して必要
 かつ適切な監督を行います。 お客様の個人情報に関す
 る開示等は、お申し出頂いた方がご本人（代理人）で
 あることを確認した上で、各社において合理的な期間
 および範囲で対応いたします。開示等の手続き、個人
 情報の取扱いに関するお問い合わせは下記のお問い合
 わせ窓口へご連絡下さい。\n\n〔お問合せ先　及び　個
 人情報保護管理者〕　株式会社オープンソース活用研
 究所 個人情報保護管理者　連絡先：03-6721-8548
LOCATION:Webセミナー（参加URLは、お申込み後に主催者から
 直接お送りします。） オンライン
URL:https://techplay.jp/event/809728?utm_medium=referral&utm_source=ics&utm
 _campaign=ics
END:VEVENT
END:VCALENDAR
