BEGIN:VCALENDAR
VERSION:2.0
PRODID:-//https://techplay.jp//JP
CALSCALE:GREGORIAN
METHOD:PUBLISH
X-WR-CALDESC:AWSの基礎を学ぼう 第三十五回
X-WR-CALNAME:AWSの基礎を学ぼう 第三十五回
X-WR-TIMEZONE:Asia/Tokyo
BEGIN:VTIMEZONE
TZID:Asia/Tokyo
BEGIN:STANDARD
DTSTART:19700101T000000
TZOFFSETFROM:+0900
TZOFFSETTO:+0900
TZNAME:JST
END:STANDARD
END:VTIMEZONE
BEGIN:VEVENT
UID:809872@techplay.jp
SUMMARY:AWSの基礎を学ぼう 第三十五回
DTSTART;TZID=Asia/Tokyo:20210329T121500
DTEND;TZID=Asia/Tokyo:20210329T130000
DTSTAMP:20260424T020417Z
CREATED:20210228T062440Z
DESCRIPTION:イベント詳細はこちら\nhttps://techplay.jp/event/80987
 2?utm_medium=referral&utm_source=ics&utm_campaign=ics\n\n第八回から
 イベント時間を12時15分開始とします。\nお昼休み時間
 に気軽にご参加ください。\n13時15分ではないので、ご
 注意ください！！\nAmazon Web Services (AWS)は現在175を超え
 るサービスを提供し、日々サービスの拡充を続けてい
 ます。\nこのAWS DevRelシリーズでは週次でAWSのサービス
 をひとつづつ取り上げながらその基礎を説明していく\
 n初心者、中級者をターゲットとした講座です。午後の
 仕事前にスキルアップを一緒にしませんか？\n第三十
 五回はユーザーアクティビティと API 使用状況の追跡
 を可能とするAWS CloudTrailです。\n学ぶサービス\nAWS CloudT
 rail\n\n配信はAmazon Chimeを使います。当日お申込みいた
 だいた方向けに12時ごろAmazon ChimeのログインURLをお送
 りします。ブラウザでも視聴可能です。\n資料はオン
 ラインイベント中にSlideshareのURLを共有します。\nそれ
 ではみなさんとお会いできることを楽しみにしていま
 す。\n講師：アマゾン ウェブ サービス ジャパン、シ
 ニアエバンジェリスト 亀田\n\n注意点\n登壇者による発
 表内容はアマゾン ウェブ サービス ジャパンとして主
 催しているものではなく、コミュニティ活動の一環と
 して勉強会の主催を行っているものです。
LOCATION:オンライン Amazon Chime
URL:https://techplay.jp/event/809872?utm_medium=referral&utm_source=ics&utm
 _campaign=ics
END:VEVENT
END:VCALENDAR
