BEGIN:VCALENDAR
VERSION:2.0
PRODID:-//https://techplay.jp//JP
CALSCALE:GREGORIAN
METHOD:PUBLISH
X-WR-CALDESC:ようこそ、Kubernetes沼へ。商用サービスSREの現
 場から
X-WR-CALNAME:ようこそ、Kubernetes沼へ。商用サービスSREの現
 場から
X-WR-TIMEZONE:Asia/Tokyo
BEGIN:VTIMEZONE
TZID:Asia/Tokyo
BEGIN:STANDARD
DTSTART:19700101T000000
TZOFFSETFROM:+0900
TZOFFSETTO:+0900
TZNAME:JST
END:STANDARD
END:VTIMEZONE
BEGIN:VEVENT
UID:810172@techplay.jp
SUMMARY:ようこそ、Kubernetes沼へ。商用サービスSREの現場か
 ら
DTSTART;TZID=Asia/Tokyo:20210323T180000
DTEND;TZID=Asia/Tokyo:20210323T190000
DTSTAMP:20260423T181243Z
CREATED:20210302T061239Z
DESCRIPTION:イベント詳細はこちら\nhttps://techplay.jp/event/81017
 2?utm_medium=referral&utm_source=ics&utm_campaign=ics\n\n10回目のIIJ T
 echnical NIGHTもオンライン開催！\nIIJ Technical NIGHTは、平
 日の夕方に開催しているカジュアルな勉強会で、どな
 たでも無料でご参加いただけます。仕事終わりや学校
 終わりに、ぜひお気軽にご参加ください。今回のテー
 マは「Kubernetes」。自社サービスのプラットフォームと
 して開発したIKE（IIJ Kubernetes Engine）の開発秘話からKube
 rnetesに対する想いまで、SREの現場エンジニアが本音を
 語ります。\n開催概要\n\n\n日時\n2021年03月23日（火）18:0
 0～19:00\n※進行によっては、最大で15分程度延長する可
 能性がございます。\n\n\n会場\nオンライン開催につき
 、当日こちらのページで中継します。\n\n\n費用\n無料\n
 \n\n定員\nなし\n\n\nアンケート回答ページ\n今後のイベ
 ントをよりよくするため、本イベント終了後、アンケ
 ートにご協力ください。\nアンケートフォームはこち
 ら\n\n\n参加登録締切\n2021年03月23日（火）18:00\n\n\nハッ
 シュタグ\n\n#iij_its　本イベントのハッシュタグです。\
 n#iij_q　講演中の質問はこちらで受け付けます。\n\n\n\n\
 nプログラム\n\n\n\n時間\n講演概要\n\n\n\n\n\n18:00 ~ 18:05\n\n
 オープニング\n司会進行：IIJ 広報部 堂前 清隆\n\n\n\n\n1
 8:05 ~ 18:20\n\n【解説】IKE（IIJ Kubernetes Engine）:= Vanilla Kube
 rnetes + 何？\n講演者：IIJ ネットワーククラウド本部 SRE
 推進室長 田口 景介\n●資料はこちら\n\nIIJではIKE（IIJ K
 ubernetes Engine）と呼ぶKubernetesディストリビューション
 を開発し、自社サービスのプラットフォームとして利
 用しています。\nIKEのコアにあるのはkubeadmで構築した
 いわゆるVanilla Kubernetesですが、その上にディストリビ
 ューションを構成する数々のコンポーネントがデプロ
 イされ、サービス開発、運用を大いに助けています。\
 nそれでは素のKubernetesと実運用で使われるIKEの間にあ
 るものはなんなのか、お話します。\n\nイベントに先立
 ちまして、田口がDocker\, KubernetesとIIJの馴れ初め的な話
 をブログに書きました。当初はKubernetesに懐疑的な見方
 をしていたという田口がSREチームを発足させるまでの
 道のりを綴っています。ご興味のある方はぜひこちら
 も併せてお読みください。\n●「ようこそ、Kubernetes沼
 へ。商用サービスSREの現場から」（2021年03月08日 月曜
 日）\n\n\n\n\n\n\n18:20 ~ 18:55\n\nSRE現場エンジニア座談会＆
 質疑応答\nパネリスト・IIJ ネットワーククラウド本部 
 SRE推進室長 田口 景介・IIJ ネットワーククラウド本部 
 SRE推進室 李 瀚\nモデレーター：広報部 堂前 清隆\n\nイ
 ベント後半の座談会では、IKEオーナーのエンジニアに
 、開発でこだわったところ（ウリ）や苦労話、Kubernetes
 のどこに魅力を感じているのか、正直ここがキツイな
 ど、開発者でありプラットフォーム・オーナーとして
 の視点で本音を語ってもらいます。また、視聴者の皆
 さんからのご質問にお答えしたり、Kubernetesの今後につ
 いても時間の許す限り、議論を深めてみたいと思いま
 す。\n\n\n\n\n18:55 ~ 19:00\n\nクロージング\n司会進行：IIJ 
 広報部 堂前 清隆\n\n\n\n\n\n注意事項\n\n講演内容は変更
 になる場合がございます。あらかじめご了承ください\
 nオンライン開催のため音声や映像が一時的に不安定に
 なる可能性もあります\n当日利用する資料は事前に公
 開予定で、Twitterアカウント @IIJ_ITS にてお知らせしま
 す\n配信時にトラブル等があった場合も @IIJ_ITS にてお
 知らせします\n\nBLOG\n\nIIJ Engineers Blog\nIIJ技術者の開発/
 技術動向ブログ「てくろぐ」\n\nお問い合わせ先\nIIJ Tec
 hnical NIGHT 事務局：its@iij.ad.jp \n※取材をご希望のメデ
 ィアの方は、IIJ広報部（press@iij.ad.jp）までご連絡くだ
 さい
LOCATION:オンライン オンライン
URL:https://techplay.jp/event/810172?utm_medium=referral&utm_source=ics&utm
 _campaign=ics
END:VEVENT
END:VCALENDAR
