BEGIN:VCALENDAR
VERSION:2.0
PRODID:-//https://techplay.jp//JP
CALSCALE:GREGORIAN
METHOD:PUBLISH
X-WR-CALDESC:【無料】Lumion製品説明会　Lumionがどのような
 製品なのか説明します
X-WR-CALNAME:【無料】Lumion製品説明会　Lumionがどのような
 製品なのか説明します
X-WR-TIMEZONE:Asia/Tokyo
BEGIN:VTIMEZONE
TZID:Asia/Tokyo
BEGIN:STANDARD
DTSTART:19700101T000000
TZOFFSETFROM:+0900
TZOFFSETTO:+0900
TZNAME:JST
END:STANDARD
END:VTIMEZONE
BEGIN:VEVENT
UID:810415@techplay.jp
SUMMARY:【無料】Lumion製品説明会　Lumionがどのような製品
 なのか説明します
DTSTART;TZID=Asia/Tokyo:20210426T130000
DTEND;TZID=Asia/Tokyo:20210426T140000
DTSTAMP:20260422T021230Z
CREATED:20210304T021218Z
DESCRIPTION:イベント詳細はこちら\nhttps://techplay.jp/event/81041
 5?utm_medium=referral&utm_source=ics&utm_campaign=ics\n\n【無料】Lumi
 on製品説明会　Lumionがどのような製品なのか説明しま
 す\n概要\nLumion製品説明会をZoomウェビナーにてオンラ
 インで行います。\nLumionの導入をお考えの方は是非ご
 参加下さい。\n【内容】\n・Lumionとはどのような製品な
 のか\n・Lumionの特徴\n・Lumionの互換性\n・Lumionの活用方
 法\n・Lumionの重要事項\n・Lumionのユーザー事例\n・Lumion
 がなぜ選ばれるのか\nタイムスケジュール\n※ 当日予
 告なく時間配分・内容が変更になる可能性がございま
 す。\n登壇者\n関良平\nリビングCG　代表取締役　関良
 平\n有限会社リビングCG代表取締役\n\n府川 映子\nリビ
 ングCG　営業事業部\n一級建築士 Disital Artist.\n設計事務
 所勤務の後、広告用建築CGパースの制作会社にて勤務
 。Lumionと出会いリビングCG社へ。現在は制作者から制
 作支援者として皆様のお手伝いをしています。\n\n参加
 対象\n\n建築設計施工関連事業者\nインテリアデザイナ
 ー\n建築を専攻する学生\n建築学の教育関係者\n不動産
 広告CGパース作成者\nランドスケープ設計者\n\n持ち物\n
 なし\n参加費\n無料\nハッシュタグ\n#techplayjp\n#Lumion\n#建
 築ビジュアライゼーション\n注意事項\n\nキャンセル待
 ち、補欠者の方は、ご来場いただいてもご入場いただ
 くことが出来ませんのでご了承ください。\n欠席され
 る場合は、お手数ですが速やかにキャンセル処理をお
 願い致します。\n無断キャンセルや欠席が続く場合、
 次回以降の参加をお断りさせていただく場合がござい
 ます。\n
LOCATION:オンライン講習
URL:https://techplay.jp/event/810415?utm_medium=referral&utm_source=ics&utm
 _campaign=ics
END:VEVENT
END:VCALENDAR
