BEGIN:VCALENDAR
VERSION:2.0
PRODID:-//https://techplay.jp//JP
CALSCALE:GREGORIAN
METHOD:PUBLISH
X-WR-CALDESC:【無料】Revitユーザー向けLumionオンライン講習
 （折り上げ天井編）
X-WR-CALNAME:【無料】Revitユーザー向けLumionオンライン講習
 （折り上げ天井編）
X-WR-TIMEZONE:Asia/Tokyo
BEGIN:VTIMEZONE
TZID:Asia/Tokyo
BEGIN:STANDARD
DTSTART:19700101T000000
TZOFFSETFROM:+0900
TZOFFSETTO:+0900
TZNAME:JST
END:STANDARD
END:VTIMEZONE
BEGIN:VEVENT
UID:810422@techplay.jp
SUMMARY:【無料】Revitユーザー向けLumionオンライン講習（
 折り上げ天井編）
DTSTART;TZID=Asia/Tokyo:20210408T180000
DTEND;TZID=Asia/Tokyo:20210408T190000
DTSTAMP:20260420T035844Z
CREATED:20210304T042021Z
DESCRIPTION:イベント詳細はこちら\nhttps://techplay.jp/event/81042
 2?utm_medium=referral&utm_source=ics&utm_campaign=ics\n\n【無料】Revi
 tユーザー向けLumionオンライン講習（折り上げ天井編）
 \n概要\nRevitユーザー向けLumionオンライン講習に新しい
 講座がスタートします。内容は「折り上げ天井を作ろ
 う！」です。この講習を受講されますと、Revitでの折
 り上げ天井の作成方法、及びLumionでのライティング方
 法が学べます。初心者向け講習となっておりますので
 、ソフトウエアの考え方をふまえながらShibatama先生が
 分かり易く、細やかな解説を行います。Lumionでエフェ
 クトを設定して最終パースの作成まで行います。\nRevit
  初心者もLumion初心者も是非ご参加下さい。《講習内容
 》・Revitで折り上げ天井を作成・Lumionでライティング
 ・Lumionでエフェクトを設定しレンダリング\nタイムス
 ケジュール\n※ 当日予告なく時間配分・内容が変更に
 なる可能性がございます。\n登壇者\n\n\nShibatama先生\n一
 級建築士、一級インテリア設計士\n専門：情報処理、CG
 演習、CAD設計製図、設計製図、建築計画\n一級建築士
 資格を取得後は、専門学校の講師として製図やCADの指
 導及び、設計の業務に携わる。1994年に独立後は住宅の
 計画、設計、インテリアコーディネート業務に携わり
 、CGパースを含めたプレゼンテーションも行ってきた
 。現在は建築の専門学校の教員として、CAD・CGの指導
 をする傍ら、3DCG・VR関連の業務にも携わる\n\n参加対象
 \n\nエンジニア\n建築家\n建築設計者\n建築学を専攻する
 学生\n建築物をCGパースにされたい方\n\n持ち物\nなし\n
 参加費\n無料\nハッシュタグ\n#techplayjp\n注意事項\n\nキ
 ャンセル待ち、補欠者の方は、ご来場いただいてもご
 入場いただくことが出来ませんのでご了承ください。\
 n欠席される場合は、お手数ですが速やかにキャンセル
 処理をお願い致します。\n無断キャンセルや欠席が続
 く場合、次回以降の参加をお断りさせていただく場合
 がございます。\n
LOCATION:オンライン講習
URL:https://techplay.jp/event/810422?utm_medium=referral&utm_source=ics&utm
 _campaign=ics
END:VEVENT
END:VCALENDAR
