BEGIN:VCALENDAR
VERSION:2.0
PRODID:-//https://techplay.jp//JP
CALSCALE:GREGORIAN
METHOD:PUBLISH
X-WR-CALDESC:【無料オンライン】trocco + Lookerを最大活用！ S
 aaSビジネスモデルのベストプラクティス！〜株式会社
 ヤプリの現場担当者が語る〜
X-WR-CALNAME:【無料オンライン】trocco + Lookerを最大活用！ S
 aaSビジネスモデルのベストプラクティス！〜株式会社
 ヤプリの現場担当者が語る〜
X-WR-TIMEZONE:Asia/Tokyo
BEGIN:VTIMEZONE
TZID:Asia/Tokyo
BEGIN:STANDARD
DTSTART:19700101T000000
TZOFFSETFROM:+0900
TZOFFSETTO:+0900
TZNAME:JST
END:STANDARD
END:VTIMEZONE
BEGIN:VEVENT
UID:810425@techplay.jp
SUMMARY:【無料オンライン】trocco + Lookerを最大活用！ SaaS
 ビジネスモデルのベストプラクティス！〜株式会社ヤ
 プリの現場担当者が語る〜
DTSTART;TZID=Asia/Tokyo:20210324T110000
DTEND;TZID=Asia/Tokyo:20210324T121500
DTSTAMP:20260424T190338Z
CREATED:20210304T043522Z
DESCRIPTION:イベント詳細はこちら\nhttps://techplay.jp/event/81042
 5?utm_medium=referral&utm_source=ics&utm_campaign=ics\n\n【無料・事
 前登録制】※TECH PLAY上のお申込みではなく専用のペー
 ジにてお申込みが必要となります。\n詳細＆お申込み
 はこちらです！▶▶▶https://discover.looker.com/yappli_troccoQ1
 .html\n概要\nグーグル・クラウド・ジャパン合同会社、p
 rimeNumber社、そして2社のユーザーである株式会社ヤプ
 リ社をお招きした3社ウェビナーを開催します。セッシ
 ョンでは、primeNumber社が提供するtrocco®とLooker を活用
 したSaaSビジネスの展開について、事例を交えてご紹介
 します。データを最大限に活用し、いかに効率よくビ
 ジネスに組み込むべきか。PDCAサイクルの高速化などご
 検討の方に最適なコンテンツとなります。\nまた、trocc
 o やLooker の特徴についてもデモを交えて解説します。\
 nセッションの最後には、3社の講演者によるライブQ&A
 も予定しております。\n各機能に関するご質問や、ヤ
 プリ社での活用方法についてご質問いただける機会と
 なりますので、ぜひご参加ください。\nタイムスケジ
 ュール\n\n\n\n時間\n内容\n\n\n\n\n11:00〜\n開始の挨拶\n\n\n1
 1:05〜11:30\nLooker + primeNumber社 セッション株式会社primeNum
 berカスタマーサクセスディレクター新井 崇志氏グーグ
 ル・クラウド・ジャパン合同会社Looker事業本部 パート
 ナーマネージャー今井 寿康\n\n\n11:30〜12:00\n現場目線の
  Looker + trocco の活用事例株式会社ヤプリプロダクト開
 発本部 データサイエンティスト 阿部 昌利氏プロダク
 ト開発本部 開発企画部 開発ディレクター 古屋 陽介氏
 マーケティング本部 マス&オンラインマーケティング
 部松井 良浩氏\n\n\n12:00〜12:15\nLive Q&A\n\n\n\n※ 当日予告
 なく時間配分・内容が変更になる可能性がございます
 。\n参加対象\n\nデジタルマーケティング部、DX推進部
 、情報システム部\nデータを最大限に活用し、いかに
 効率よくビジネスに組み込むべきか。\nPDCAサイクルの
 高速化などご検討の方\n\n参加費\n無料\n注意事項\n・イ
 ベント開始までに視聴用のURLを参加申し込み頂いた方
 へご案内します。\n・配信内容の録画/録音はご遠慮く
 ださい。\n・終了時刻は前後する可能性がございます
 。\n詳細お申し込みはこちら↓\nTECHPLAY経由ではなく以
 下のサイト経由でお申込みください。\nhttps://discover.loo
 ker.com/yappli_troccoQ1.html\n
LOCATION:オンライン
URL:https://techplay.jp/event/810425?utm_medium=referral&utm_source=ics&utm
 _campaign=ics
END:VEVENT
END:VCALENDAR
