BEGIN:VCALENDAR
VERSION:2.0
PRODID:-//https://techplay.jp//JP
CALSCALE:GREGORIAN
METHOD:PUBLISH
X-WR-CALDESC:【無料】初級編 LumionとRhinoceros連携のコツ ~魅
 せる動画制作のセオリー~
X-WR-CALNAME:【無料】初級編 LumionとRhinoceros連携のコツ ~魅
 せる動画制作のセオリー~
X-WR-TIMEZONE:Asia/Tokyo
BEGIN:VTIMEZONE
TZID:Asia/Tokyo
BEGIN:STANDARD
DTSTART:19700101T000000
TZOFFSETFROM:+0900
TZOFFSETTO:+0900
TZNAME:JST
END:STANDARD
END:VTIMEZONE
BEGIN:VEVENT
UID:810471@techplay.jp
SUMMARY:【無料】初級編 LumionとRhinoceros連携のコツ ~魅せる
 動画制作のセオリー~
DTSTART;TZID=Asia/Tokyo:20210415T190000
DTEND;TZID=Asia/Tokyo:20210415T200000
DTSTAMP:20260420T142037Z
CREATED:20210304T063427Z
DESCRIPTION:イベント詳細はこちら\nhttps://techplay.jp/event/81047
 1?utm_medium=referral&utm_source=ics&utm_campaign=ics\n\n【無料】初
 級編 LumionとRhinoceros連携のコツ ~魅せる動画制作のセオ
 リー\n概要\n動画制作にお悩みの方必見！\n建築プレゼ
 ンテーションをする方が一度は戸惑う動画制作につい
 て、基礎的なこと、かつ魅力的に見せる動画制作のセ
 オリーについて学べる講習会を開催いたします。\n講
 師はLumion Conpetitionで受賞歴のある島田潤先生（竹中工
 務店）です。\n\n\n先生が普段動画制作をする際気を付
 けられているポイントや、こうすればもっと魅力的な
 動画になる方法などを、RhinocerosとLumionとの連携も含め
 講習して頂きます。\nRhinocerosを普段お使いでない方も
 、動画制作についてのセオリーは大変役立つ情報にな
 ると思いますので是非ご参加下さい。\n（初級者向け
 講習となります）\nタイムスケジュール\nLumion x Rhinocero
 s 初級編\n1.Lumionの基本操作\n2.Rhinocerosモデルの読込み\n
 3.Live syncをつかった編集方法\n4.スピーディーな動画制
 作のワークフロー\n5.動画カメラワークのコツ\n※ 当日
 予告なく時間配分・内容が変更になる可能性がござい
 ます。\n登壇者\n\n\n島田 潤先生\n一級建築士。東京大
 学 隈研吾研究室出身。\nフランス国立建築学校パリ・
 ラヴィレット校、OMA New Yorkを経て、同研究室にてパラ
 メトリック・デザインおよびデジタル・ファブリケー
 ションの研究・設計を行い、2016年修了。同年から竹中
 工務店 設計部に勤務。新しい分野である中高層木造建
 築の住宅や商業施設などを手がける。設計者でありな
 がら、ヴィジュアライゼーション・映像表現を得意と
 し、Lumion Competition 2018 最優秀賞他、受賞多数。\n\n参加
 対象\n\nランドスケープデザイン\n建築パース製作者\n
 建築設計者\nインテリアデザイナー\n\n持ち物\nなし\n参
 加費\n無料\nハッシュタグ\n#techplayjp\n#Lumion\n#動画制作\n
 #Rhinoceros\n\n注意事項\n\nキャンセル待ち、補欠者の方は
 、ご来場いただいてもご入場いただくことが出来ませ
 んのでご了承ください。\n欠席される場合は、お手数
 ですが速やかにキャンセル処理をお願い致します。\n
 無断キャンセルや欠席が続く場合、次回以降の参加を
 お断りさせていただく場合がございます。\n
LOCATION:オンライン
URL:https://techplay.jp/event/810471?utm_medium=referral&utm_source=ics&utm
 _campaign=ics
END:VEVENT
END:VCALENDAR
