BEGIN:VCALENDAR
VERSION:2.0
PRODID:-//https://techplay.jp//JP
CALSCALE:GREGORIAN
METHOD:PUBLISH
X-WR-CALDESC:【無料:オンライン】Pythonデータ分析超入門【
 別日開催あり】
X-WR-CALNAME:【無料:オンライン】Pythonデータ分析超入門【
 別日開催あり】
X-WR-TIMEZONE:Asia/Tokyo
BEGIN:VTIMEZONE
TZID:Asia/Tokyo
BEGIN:STANDARD
DTSTART:19700101T000000
TZOFFSETFROM:+0900
TZOFFSETTO:+0900
TZNAME:JST
END:STANDARD
END:VTIMEZONE
BEGIN:VEVENT
UID:810518@techplay.jp
SUMMARY:【無料:オンライン】Pythonデータ分析超入門【別日
 開催あり】
DTSTART;TZID=Asia/Tokyo:20210425T160000
DTEND;TZID=Asia/Tokyo:20210425T173000
DTSTAMP:20260420T111009Z
CREATED:20210304T122048Z
DESCRIPTION:イベント詳細はこちら\nhttps://techplay.jp/event/81051
 8?utm_medium=referral&utm_source=ics&utm_campaign=ics\n\n※本セミナ
 ーは「Python超入門セミナー」のリニューアル版です。
 内容が重複する部分もございますので、すでにPython超
 入門をご受講済みの方はお気をつけください。\nデー
 タ分析や人工知能開発で注目を集めるプログラミング
 言語「Python」\n★授業風景を、こちら（動画）からご
 覧いただけます！\n近年、機械学習や人工知能（AI）の
 実用化が活発な中、プログラミング言語「Python」が非
 常に注目されています。\n学会などの学術的な場はも
 ちろん、KaggleやSignateなどの各企業のデータサイエンテ
 ィストが集まるコンペティションの場においても、多
 くのデータ分析者がPythonを活用しています。\n今や、
 データを扱う全ての人たちが身につけるべきプログラ
 ミング言語となりつつあります。\n本セミナーでは、
 他のプログラミング言語とPythonとで何が異なるかを学
 び、Pythonによるデータ分析を行うために必要なものを
 学ぶことができます。\n本セミナーは別日にも開催し
 ております。\nスケジュールが合わない場合は弊社Web
 ページ（こちら）から他日程をご確認ください。\n\nセ
 ミナー内容\n・Pythonと他のプログラミング言語の違い\n
 ・Pythonでできること\n※カリキュラム内容は進捗等に
 よって変更されることがあります。\n受講対象\n・プロ
 グラミング言語「Python」に興味がある\n・機械学習を
 含むデータ分析に興味がある\n・人工知能（AI）に興味
 がある\n・Pythonを使ってみたい\n講師\n岡崎 凌（おかざ
 き　りょう）\n\n近年注目を集めるAI技術(Deep Learning)の
 全フロー（開発・実装・運用）を実施し、統計学と機
 械学習を中心にセミナー、企業研修、イベント講演、
 オンライン講義などを手掛ける。\n大阪大学大学院卒
 業。初心者の簡単な統計の活かし方から、多変量解析
 学や機械学習など発展的な分析手法まで幅広く対応で
 きるスキルを持つ。\nさらに、近年注目を集めるAI技術
 (Deep Learning)の全フロー（開発・実装・運用）を実施し
 、統計学と機械学習を中心にセミナー、企業研修、イ
 ベント講演、オンライン講義などを手掛ける。\n分野
 は前職の半導体工学分野のデータ分析をはじめ、医療
 統計、アンケート項目の設計と分析、集計データの可
 視化からメーカーの売上分析のコンサルティングなど
 も行う。\n※経営道場として名高い「澤田経営道場」
 にて統計担当講師。\nご参加にあたって（必ずご確認
 ください）\n■開催当日は、以下の手順でご入場いた
 だけます。\n1. メニューよりマイページの「参加申込
 イベント」を選択\n2. 本セミナーの「詳細ページへ」
 を選択\n3. セミナー詳細ページの「オンライン配信情
 報」にある【ページを表示】ボタンを押すとzoomの会場
 ページに繋がります。\n■開場は開催の約15分前となり
 ます。それ以前のご入場はお控え下さい。\n■開催当
 日の電話対応はできかねます。お問合せはメール、も
 しくはお問合せフォームよりお願い致します。\n■iPad
 等タブレットの使用は一部機能が制限される場合がご
 ざいます。パソコン端末でのご参加を推奨いたします
 。\n\n○セミナー詳細ページ\nhttps://wakara.co.jp/course/11293\
 nzoomを用いてセミナーを行いますので、ブラウザが利
 用できるPCやタブレットなどの環境をご用意ください
 。
LOCATION:オンライン
URL:https://techplay.jp/event/810518?utm_medium=referral&utm_source=ics&utm
 _campaign=ics
END:VEVENT
END:VCALENDAR
