BEGIN:VCALENDAR
VERSION:2.0
PRODID:-//https://techplay.jp//JP
CALSCALE:GREGORIAN
METHOD:PUBLISH
X-WR-CALDESC:リアルな店舗で行われる最先端DX事例の全容と
 技術の裏側　ーポスタス、TRIALが語るAIカメラ、スマー
 トショッピングカート、店舗省人化ー
X-WR-CALNAME:リアルな店舗で行われる最先端DX事例の全容と
 技術の裏側　ーポスタス、TRIALが語るAIカメラ、スマー
 トショッピングカート、店舗省人化ー
X-WR-TIMEZONE:Asia/Tokyo
BEGIN:VTIMEZONE
TZID:Asia/Tokyo
BEGIN:STANDARD
DTSTART:19700101T000000
TZOFFSETFROM:+0900
TZOFFSETTO:+0900
TZNAME:JST
END:STANDARD
END:VTIMEZONE
BEGIN:VEVENT
UID:810602@techplay.jp
SUMMARY:リアルな店舗で行われる最先端DX事例の全容と技
 術の裏側　ーポスタス、TRIALが語るAIカメラ、スマート
 ショッピングカート、店舗省人化ー
DTSTART;TZID=Asia/Tokyo:20210323T190000
DTEND;TZID=Asia/Tokyo:20210323T203000
DTSTAMP:20260419T145857Z
CREATED:20210305T055117Z
DESCRIPTION:イベント詳細はこちら\nhttps://techplay.jp/event/81060
 2?utm_medium=referral&utm_source=ics&utm_campaign=ics\n\n概要\n今回
 は、飲食店や小売店など多くのストア(店舗)をテクノ
 ロジーでリードする2社が具体的にどのような取り組み
 を実施しているのか事例をご紹介致します。またパネ
 ルディスカッションではストアで今求められているテ
 クノロジーや今後の展望などざっくばらんにお話しい
 ただきます。\nポスタスは小売飲食美容業界へ販売時
 点情報管理としてのPOSだけでなく、会計・在庫管理・
 シフト管理・販促・決済、またそれらの分析を人に変
 わるテクノロジーとしてPOS+を数多くの店舗に導入して
 きました。トライカルカンパニーはソフトウェア事業
 会社として小売流通事業に参入し、現在は261店舗の営
 業をしています。同店舗ではAIカメラ、スマートレジ
 、デジタルサイネージを利用した販促などを導入して
 おり、新しい顧客体験を生み出しています。\n※参加
 用URLは申込者に対し本ページ上にて当日までに表示さ
 れます。\nタイムスケジュール\n\n\n\n時間\n内容\n\n\n19:0
 0〜19:10\nオープニング\n\n\n19:10〜19:35\n\nトライアルカン
 パニー/サービス紹介&DX事例\nトライアルは「流通情報
 革命」をスローガンに、約30年間IT活用による流通小売
 業務の改革改善に取り組んできました。トライアルの
 持つ、実店舗とリテールAI カメラ、スマートレジカー
 ト、デジタルサイネージのようなIoT デバイスや独⾃の
 AI テクノロジーを活⽤して新しい買い物体験を追求し
 、スマートストアを進化させ続けています。現在、デ
 ータを活用することでの販促や店舗運営の効率化など
 の実践が始まっており、その事例をお話いただきます
 。\n\n\n\n19:35〜20:00\n\nポスタス/サービス紹介&DX事例\nポ
 スタス株式会社は、2013年5月のサービス提供から、有
 償POSレジで国内トップクラスのシェアを誇るまで成長
 したクラウド型モバイルPOSレジ「POS+（ポスタス）」の
 事業を、パーソルグループのパーソルプロセス&テクノ
 ロジー株式会社より承継する形で、2019年12月2日に設立
 いたしました。今回のイベントでは非対面、非接触、
 省人化などのテーマを中心にDX事例を紹介いたします
 。\n\n\n\n20:00〜20:15\n\nパネルディスカッション\n\n\n\n20:1
 5〜20:25\nQ&A\n\n\n20:25～20:30\nクロージング\n\n\n\n※ 当日
 予告なく時間配分・内容が変更になる可能性がござい
 ます。\n登壇者\n\n\n\n\n古賀 輝幸\n株式会社Retail AI Engine
 ering代表取締役社長\n学校卒業後に株式会社ティー・ア
 ール・イーに入社し、東京・名古屋での勤務を経て、
 福岡本社に戻り小売に関わるシステム構築に長年携わ
 る。現在は株式会社Retaiil AI Engineering 代表としてレジ
 カートなどスマート化するリテールAIのビジネスに取
 り組む。\n\n\n\n\n\n本田 興一\nポスタス株式会社代表取
 締役社長\n独系ERPコンサル、米国系ERPコンサルを歴任
 。株式会社インテリジェンスにて派遣事業の事業企画
 責任者を担当。同社にてシステム会社のM&Aを実施（現
 パーソルプロセス&テクノロジー株式会社）。パーソル
 プロセス&テクノロジー株式会社にて事業企画、営業な
 どの責任者を経て、POS+サービスの企画開発を行い、201
 3年5月よりサービスの提供を開始。2019年12月にポスタ
 ス株式会社を設立、代表取締役社長に就任。\n\n\n\n参
 加対象\n\nプロダクトオーナー\nPdM\nプロジェクトマネ
 ージャー\nアプリケーションエンジニア\nテックリード
 \n\n参加にあたっての注意事項\n\n参加を辞退する場合
 は、詳細ページより申込のキャンセルをお願い致しま
 す。\n配信映像や音声は各自の通信環境に依存します
 。なるべく通信環境の良い状態で視聴ください。\n\n参
 加費\n無料\n
LOCATION:オンライン開催（Zoomウェビナー）
URL:https://techplay.jp/event/810602?utm_medium=referral&utm_source=ics&utm
 _campaign=ics
END:VEVENT
END:VCALENDAR
