BEGIN:VCALENDAR
VERSION:2.0
PRODID:-//https://techplay.jp//JP
CALSCALE:GREGORIAN
METHOD:PUBLISH
X-WR-CALDESC:RPA(ロボティック・プロセス・オートメーショ
 ン )とは?　〜失敗しないRPA導入の進め方〜
X-WR-CALNAME:RPA(ロボティック・プロセス・オートメーショ
 ン )とは?　〜失敗しないRPA導入の進め方〜
X-WR-TIMEZONE:Asia/Tokyo
BEGIN:VTIMEZONE
TZID:Asia/Tokyo
BEGIN:STANDARD
DTSTART:19700101T000000
TZOFFSETFROM:+0900
TZOFFSETTO:+0900
TZNAME:JST
END:STANDARD
END:VTIMEZONE
BEGIN:VEVENT
UID:810677@techplay.jp
SUMMARY:RPA(ロボティック・プロセス・オートメーション )
 とは?　〜失敗しないRPA導入の進め方〜
DTSTART;TZID=Asia/Tokyo:20210323T150000
DTEND;TZID=Asia/Tokyo:20210323T160000
DTSTAMP:20260425T213834Z
CREATED:20210305T143330Z
DESCRIPTION:イベント詳細はこちら\nhttps://techplay.jp/event/81067
 7?utm_medium=referral&utm_source=ics&utm_campaign=ics\n\n開催内容\nRP
 A(ロボティック・プロセス・オートメーション )とは?
 　〜失敗しないRPA導入の進め方〜\n概要\n 【オンライ
 ン開催】【第2回:開発現場のリアルな体験談もお伝え
 します!】\n新型コロナウィルスをはじめとした市場経
 済の大きな変化と、\nこれに順応しつつ業務プロセス
 の変革を早期に実現せざるを得ない企業・団体のニー
 ズが高まっています。\nそのような時代背景において
 、\n弊社は、RPAやプロセスマイニングなどの最新テク
 ノロジーの提供を通して、\n企業・団体のDX推進と新し
 い働き方の実現を目指しています。\n弊社はRPAの浸透
 を目指し黎明期から業務改善のご支援を続けてきまし
 た。\nRPAはPCでの定型的な業務を、人の代わりにPC上の
 ロボットが行えるようにするもので、\nプログラマー
 やエンジニアでなくてもロボットを作成できるのが特
 徴です。\nPCでの作業を代替することからIT・ネット企
 業での活用が主と思われがちですが、\nこのコロナ禍
 を受け、その他の業種での活用が目立つと感じていま
 す。\nまた、改めてRPAに脚光が当たっている印象を受
 けます。\n\nしかし、RPAの導入には失敗が多いことも事
 実です。そもそも、RPAはどんなことができるのでしょ
 うか \n\n\nセミナーのみどころ\n今回のWebセミナーは、R
 PAの概念や「何ができるか」の振り返りから始め、\n100
 を超えるお客様で業務改善をご支援してきた経験を元
 に\nRPAの取り組みを進めることで得られる成果や、失
 敗しない導入方法をお話致します。\nまた、今回は特
 別に、ロボット開発の現場で実際に経験したことを、\
 n失敗例も交えて開発を担当する社員からお話する予定
 です。\nどれだけリアルな話が飛び出すか必聴です。\n
 \n開催情報\n日時　　　　2021年3月23日（火） 15：00 〜 1
 6：00\n主催　　　　株式会社RPA NEXT\n登壇者　　　八木 
 忍(弊社営業)　＋　現場担当者\n参加費　　　無料(事
 前登録制)\n開催形式　　Webセミナー\n（オンライン・
 事前登録制インターネット接続）Zoom Video Communications社
 のTV会議システムにより、お客様とリモート接続を行
 います。\n対象者　　　経営層の方、業務改善ご担当
 の方など\n定員　　　　先着100名\n\n\n株式会社RPA NEXT開
 催セミナー情報\n\n\n    #1\n    受付中\n    2021/03/11\n    14
 ：00-15：00\n    DX(デジタル・トランスフォーメーション
 )とは?　RPA NEXTの考えるDX推進手法\n\n\n現在受付中\n 第1
 回『「DX(デジタル・トランスフォーメーション)とは?
 」RPA NEXTの考えるDX推進手法』\nも引き続き、お申込み
 を受け付けております。　\n━━━━━━━━━━━
 ━━━━━━━━━━━━━━━━━━━━━━\n日
 時　　：2021年3月11日（木） 14：00 〜 15：00\n講師　　
 ：小林 隆洋(弊社代表取締役)\n参加費　：無料(事前登
 録制)\n開催形式：Webセミナー（オンライン・事前登録
 制インターネット接続）\n　　　　　Zoom Video Communicatio
 ns社のTV会議システムにより、\n　　　　　お客様とリ
 モート接続を行います。\n対象者　：経営層の方、業
 務改善ご担当の方など\n定員　　：先着100名\n━━━━
 ━━━━━━━━━━━━━━━━━━━━━━━━
 ━━━━━\n\n\n\n詳細はこちらからご覧ください。
LOCATION:オンライン
URL:https://techplay.jp/event/810677?utm_medium=referral&utm_source=ics&utm
 _campaign=ics
END:VEVENT
END:VCALENDAR
