BEGIN:VCALENDAR
VERSION:2.0
PRODID:-//https://techplay.jp//JP
CALSCALE:GREGORIAN
METHOD:PUBLISH
X-WR-CALDESC:TIS Blockchain Night
X-WR-CALNAME:TIS Blockchain Night
X-WR-TIMEZONE:Asia/Tokyo
BEGIN:VTIMEZONE
TZID:Asia/Tokyo
BEGIN:STANDARD
DTSTART:19700101T000000
TZOFFSETFROM:+0900
TZOFFSETTO:+0900
TZNAME:JST
END:STANDARD
END:VTIMEZONE
BEGIN:VEVENT
UID:810679@techplay.jp
SUMMARY:TIS Blockchain Night
DTSTART;TZID=Asia/Tokyo:20210324T180000
DTEND;TZID=Asia/Tokyo:20210324T193000
DTSTAMP:20260425T165737Z
CREATED:20210305T143521Z
DESCRIPTION:イベント詳細はこちら\nhttps://techplay.jp/event/81067
 9?utm_medium=referral&utm_source=ics&utm_campaign=ics\n\n■申込方法
 ■\n↓最下部にお申込みページがありますので、最後
 までお読みください。↓ \n■イベント概要■\n自己主
 権型IDとは、アイデンティティ情報の管理主体をユー
 ザ側に取り戻すという概念であり、デジタルアイデン
 ティティの新しいパラダイムとして近年注目が増して
 います。従来型のアイデンティティ管理が抱え続ける
 セキュリティやプライバシーリスク、情報のサイロ化
 といった課題をブレイクスルーする事で、日常の様々
 な行動がデジタルに置き換えられていく、これからの
 時代に重要な役割を果たす新たな技術として期待され
 ています。\n今回のTIS Blockchain Nightではブロックチェー
 ン業界の様々なリサーチレポートを提供するHashHub様、
 自己主権型のデジタルIDサービスを提供するCredify様を
 お招きし、自己主権型IDに関する基礎知識やユースケ
 ースの紹介、今後の可能性や課題などを語るイベント
 を開催致します。\n質疑応答も予定しておりますので
 、ご興味がある方、これから取り組もうと検討されて
 いる方、ご存知ない方含めてぜひお気軽にご参加くだ
 さい。\n■プログラム■\n\n\n\n時間\n内容\n登壇者\n\n\n\n
 \n18:00～18:05\nイントロダクション\nTIS株式会社Blockchain
 推進室 山崎 清貴（司会）\n\n\n18:05～18:20\n自己主権型ID
 とは　－　自己主権型IDの概念と基礎知識　－　市場
 動向　－　期待されるユースケース\nTIS株式会社Blockcha
 in推進室内舘 敬弘\n\n\n18:20～18:30\n特定領域における自
 己主権型IDの活用の考察　－　金融、行政、医療、教
 育での活用\n株式会社HashHub矢成 将雄 氏\n\n\n18:30～18:50\
 nデジタルアイデンティティ領域における取組み紹介　
 －　Credifyの取組み　－　TISの取組み\nCredify Pte. Ltd. Co-F
 ounder永尾 修一 氏TIS株式会社金融戦略事業企画部 諸橋 
 哲也\n\n\n18:50～19:15\nパネルディスカッション　－　自
 己主権型IDが普及したらどんな世の中になる？　－　
 マネタイズ含め、事業者側のビジネスにどう活用でき
 るのか？　－　社会普及に向けた障壁や課題は？　－
 　日本/海外でどのように普及していくのか？　－　注
 目している、または今後やってみたいユースケースは
 ？\n上記登壇者\n\n\n19:15～19:30\n質疑応答\n上記登壇者\n\
 n\n\n■共催/協賛■\n株式会社HashHub\n2018年4月に設立。「
 We Build Choice」を掲げて新しいコンテキストを前提にし
 た選択肢を創出する。ブロックチェーン総合企業とし
 てHashHubレンディングをはじめとした金融サービス、ブ
 ロックチェーン業界リサーチレポート提供、国内企業
 をクライアントにしたブロックチェーン関連の開発支
 援などを行う。また、東京大学周辺エリアを拠点に国
 内外のブロックチェーンのスタートアップ・開発者が
 集うコワーキングスペースを運営。\nCredify Pte. Ltd.\nCred
 ifyはシンガポールのFinTechスタートアップ。現在2つの
 サービス（idX・serviceX）をベトナムを中心にサービス
 展開。個人に対してデジタルID、パートナー企業に対
 して、より効率的に安価に新規顧客を獲得できるEmbedde
 d FinanceのプラットフォームserviceXを提供する。\n■個人
 情報の取り扱いについて■\nTISは、個人情報を含む情
 報の取扱いについて、プライバシーマークおよび情報
 セキュリティマネジメントシステムの要求事項に準拠
 した管理を実施しております。\nお申込み時およびア
 ンケートにご記入いただいたお客様の個人情報につき
 ましては、厳重な取扱を実施いたします。\n※詳細はTI
 S 「個人情報の取り扱いについて」をご参照ください
 。\n【利用目的】\nＴＩＳは、お客様、お取引先やパー
 トナー企業様等（以下「お客様等」といいます）から
 お預かりした個人情報について、その利用目的の達成
 に必要な限度において取り扱います。 \n・お客様等か
 らのセミナーお申込みへの対応  \n・今後のセミナーの
 ご連絡やご案内  \n【第三者への提供】     \nＴＩＳは
 、以下のいずれかに該当する場合を除き、お客様の個
 人情報を第三者へ開示・提供しません。    \n・ご本人
 の同意がある場合  \n・法令に基づき開示・提供を求め
 られた場合  \n【個人情報の預託】     \nＴＩＳは、営
 業活動の案内状作成など利用目的の遂行上必要となる
 場合、お客様の個人情報を社外に預託する場合があり
 ます。この場合、ＴＩＳは、預託先との間で個人情報
 保護に関する契約を締結し、法令およびＴＩＳの基準
 に則り適正な管理を実施するとともに、預託終了後、
 情報を預託先から回収します。      \n【開示・訂正・
 削除等】   \nご記入いただいたご自身の情報の照会、
 修正・削除やダイレクトメール等の停止をご希望され
 る場合は、遅滞なく対応させていただきます。また、
 個人情報の取扱いに関しご質問やご不明なところがあ
 りましたら、お問い合わせ先までご遠慮なくお申しつ
 けくださいますようお願いします。      \n＜個人情報
 保護管理者及び個人情報取扱責任者＞\n・個人情報保
 護管理者：\nTIS株式会社　管理本部 　本部長\n・個人
 情報取扱責任者：\nTIS株式会社 インダストリー事業推
 進部\nBlockchain推進室　武石 直紀\nE-mail：bc_prom@ml.tis.co.j
 p\n■申込方法■\n↓↓以下のお申込みページからお申
 込ください。↓↓ \nお申込みページはこちら
LOCATION:TIS株式会社 オンライン
URL:https://techplay.jp/event/810679?utm_medium=referral&utm_source=ics&utm
 _campaign=ics
END:VEVENT
END:VCALENDAR
