BEGIN:VCALENDAR
VERSION:2.0
PRODID:-//https://techplay.jp//JP
CALSCALE:GREGORIAN
METHOD:PUBLISH
X-WR-CALDESC:devblogラジオ vol.12 ～おだしょーさんとゆるり
 と開催(´Д` )～
X-WR-CALNAME:devblogラジオ vol.12 ～おだしょーさんとゆるり
 と開催(´Д` )～
X-WR-TIMEZONE:Asia/Tokyo
BEGIN:VTIMEZONE
TZID:Asia/Tokyo
BEGIN:STANDARD
DTSTART:19700101T000000
TZOFFSETFROM:+0900
TZOFFSETTO:+0900
TZNAME:JST
END:STANDARD
END:VTIMEZONE
BEGIN:VEVENT
UID:810704@techplay.jp
SUMMARY:devblogラジオ vol.12 ～おだしょーさんとゆるりと開
 催(´Д` )～
DTSTART;TZID=Asia/Tokyo:20210319T220000
DTEND;TZID=Asia/Tokyo:20210319T230000
DTSTAMP:20260421T055503Z
CREATED:20210305T211904Z
DESCRIPTION:イベント詳細はこちら\nhttps://techplay.jp/event/81070
 4?utm_medium=referral&utm_source=ics&utm_campaign=ics\n\nどんなイベ
 ント？\ndevblogs.microsoft.com の気になる記事についてフリ
 ートークをするイベントです。\n今回はおだしょーさ
 んこと、マイクロソフトのデベロッパーマーケティン
 グマネージャー/エバンジェリストである小田祥平さん
 をゲストにお迎えしてゆるりと配信します。先日開催
 された Microsoft Ignite に関するお話も聞けるかも？\n加
 えて、いつものTFSUGを運営している亀川さん、JAZUGを運
 営している足利さん、Fukuoka.NETを運営している松村さ
 んの三人もスピーカーを務めます。\n視聴方法\nYouTube L
 iveで視聴可能です。参加者登録してくれると話す人も
 やる気が出るので、登録してもらえるとうれしいです
 。\nTFSUGについて\n\nTeam Foundation ServerやVisual Studio Team Ser
 vicesを中心に、ALM (Application Lifecycle Management)\, プロセス
 改善ノウハウ\,アジャイル開発などについての勉強会
 を実施しているコミュニティです。\n\n※ https://tfsug.con
 npass.com/ より\nJAZUGについて\n\nJapan Azure User Group (通称JAZ
 UG) は、Microsoft Azureを学び、楽しみ、活かす、日本のユ
 ーザーグループです。\n2010年8月26日に結成のコミュニ
 ティで、2020年に10周年を迎えます！！\n\n※ https://jazug.
 connpass.com/ より\nFukuoka.NET について\n\nC#やVB.NETなどMicros
 oftの .NET というフレームワークに関するコミュニティ
 です。愛称は「ふくてん」です。\n\n※ https://fukuten.conn
 pass.com/ より\n日時\n2021年3月19日 (金) 22:00 ～ 23:00（予定
 ）\n配信\nYouTube（URLは参加者向けの欄に掲載します）
LOCATION:オンライン
URL:https://techplay.jp/event/810704?utm_medium=referral&utm_source=ics&utm
 _campaign=ics
END:VEVENT
END:VCALENDAR
