BEGIN:VCALENDAR
VERSION:2.0
PRODID:-//https://techplay.jp//JP
CALSCALE:GREGORIAN
METHOD:PUBLISH
X-WR-CALDESC:[誰でも参加OK] はじめての Amazon Lookout for Vision 
 ハンズオン
X-WR-CALNAME:[誰でも参加OK] はじめての Amazon Lookout for Vision 
 ハンズオン
X-WR-TIMEZONE:Asia/Tokyo
BEGIN:VTIMEZONE
TZID:Asia/Tokyo
BEGIN:STANDARD
DTSTART:19700101T000000
TZOFFSETFROM:+0900
TZOFFSETTO:+0900
TZNAME:JST
END:STANDARD
END:VTIMEZONE
BEGIN:VEVENT
UID:810801@techplay.jp
SUMMARY:[誰でも参加OK] はじめての Amazon Lookout for Vision ハ
 ンズオン
DTSTART;TZID=Asia/Tokyo:20210425T140000
DTEND;TZID=Asia/Tokyo:20210425T173000
DTSTAMP:20260420T104241Z
CREATED:20210307T140024Z
DESCRIPTION:イベント詳細はこちら\nhttps://techplay.jp/event/81080
 1?utm_medium=referral&utm_source=ics&utm_campaign=ics\n\n今回の JAWS-U
 G 関西女子会はハンズオン形式のミートアップです！\n
 メンターに AWS シニアエバンジェリスト 亀田さんをお
 迎えして「Amazon Lookout for Vision」のハンズオンを行いま
 す。\n気軽に飲んで食べて自由におしゃべりしながら
 、みんなでもくもくハンズオンで学んで一緒に楽しみ
 ませんか？\nオンラインですので場所を問わず気軽に
 ご参加いただけますよっ(っ´∀｀)っ [\n\nはじめての Am
 azon Lookout for Vision\n\n2020年12月に発表された画像をもと
 に異常検知診断を行う Amazon Lookout for Vision をみんなで
 触ってみます\n\n事前の特別な知識がなくても立ち上げ
 ることができます。 これを機会にコンピュータービジ
 ョンを活用した異常検知について触れてみましょう。\
 n　\n＊数百円程度のAWS利用料金が発生しますのでご注
 意ください。\n＊ハンズオン時間は2時間30分を予定し
 てます。\n\n　\n\n参加について\n\n女性の方大歓迎、優
 先！ですが基本的に男性・女性問わず誰でもOKです！\n
 she/her\, he/him\, they/them ... みんなで楽しく学びを深めま
 しょう。\n　\n\nこのような方に特におすすめ\n\n\nAWS 初
 学者さん\nクラウド技術に興味のある方\nAWS に興味が
 ある方\n普段AWSを実務などで触られていない方も歓迎
 します！　\n\n\n事前準備\n\nパソコン、AWS アカウント\n
 \n\nハンズオンを行いますので、wifi 接続可能なPCをご
 持参ください。\nAWSのアカウントをお持ちでない方は
 、事前登録ください。\nAWSアカウント登録にはクレジ
 ットカードが必要です。\nクレジットカードをお持ち
 でない方はプリペイド方式のVプリカが利用出来ます。
 http://vpc.lifecard.co.jp/index.html\n\n\nアカウント作成の手順\
 n\nhttps://aws.amazon.com/jp/register-flow/\n\nメンター紹介\n\n亀
 田さん（亀田 治伸）\n\nアマゾン ウェブ サービス ジ
 ャパン株式会社 シニアエバンジェリスト\n\n兵庫県伊
 丹市出身、米国州立南イリノイ大学卒業。認証系独立A
 SP、動画・音楽配信システム構築、決済代行事業者を
 経て現職。ユーザー視点に立ったわかりやすいAWSのサ
 ービス解説を心がける。得意領域は、認証、暗号、映
 像配信、開発手法に見る組織論。\n　\n\n運営メンバー\
 n\nどりぃ（池上 緑）\n\nEngineer（この時は多少AWSやって
 た） → Customer Success / Inside Sales → Marketing Generalist（現
 在）\n最近はもっぱらAWSから遠ざかってますが（お仕
 事の領域的な意味で）\nもくもく手を動かすのは楽し
 い♪ハンズオン楽しみます(✖╹◡╹✖)◞ \n\nひろみん
 （伊藤 博美）\n\nJAWS-UG関西女子会、AWS Asian Women's Associa
 tionの発起人およびオーガナイザー。JAWS-UG大阪、JAWS DAY
 S 2018などのオーガナイザー。AWS Samurai 2017 Special Thanks。
 AWS Community Hero。\n　\n　\n\nタイムスケジュール\n\n\n\n目
 安時間\n流れ\n\n\n\n14:00\n集合！\n\n\n14:10\nオープニング
 ＆自己紹介タイム\n\n\n14:45\n本編「はじめての Amazon Look
 out for Vision」\n\n\n17:15\nクロージング＆感想戦（流れ解
 散）\n\n\n\n　\n　\n\n参加のルール・マナー\n\nイベント
 に参加される方は、JAWS-UGの定める以下のルール/マナ
 ーに則って行動することをお願いしております。\n\nコ
 ミュニティを通じて世界中の仲間と繋がりましょう。
 関係者の人種、性別、性的指向、身体的特徴、見た目
 、政治、宗教（または無宗教）などに係る表現は、い
 かなる場合も適切ではありません。\nあなたのクリエ
 イティブで前向きな発言がイベントをより楽しくしま
 す。発表者や質問者に対して疑問や意見がある場合は
 批判や罵り・嘲りではなく提案と課題解決の態度でポ
 ジティブな発言を心がけましょう。\n全てのイベント
 は有志のボランティアにより非営利目的にて運営され
 、いつでもあなたの手助けを必要としています。お気
 付きの点があればぜひご協力をお願いいたします。\n
 私たちはコミュニティへの貢献を通じて社会からの信
 頼を得ることがより良いビジネスに繋がり、より自分
 らしい働き方を見つける手段になると信じています。\
 nJAWS-UGはNo sell\, No Jobです。イベントの趣旨と関係のな
 い宣伝行為・採用活動・ネットワーキングのみを目的
 としたご参加はご遠慮ください。\nhttps://jaws-ug.jp/for-par
 ticipant/
LOCATION:オンライン
URL:https://techplay.jp/event/810801?utm_medium=referral&utm_source=ics&utm
 _campaign=ics
END:VEVENT
END:VCALENDAR
