BEGIN:VCALENDAR
VERSION:2.0
PRODID:-//https://techplay.jp//JP
CALSCALE:GREGORIAN
METHOD:PUBLISH
X-WR-CALDESC:KNIME Data Talks Japan 2021　～KNIMEで実現するデジタ
 ルトランスフォーメーション～
X-WR-CALNAME:KNIME Data Talks Japan 2021　～KNIMEで実現するデジタ
 ルトランスフォーメーション～
X-WR-TIMEZONE:Asia/Tokyo
BEGIN:VTIMEZONE
TZID:Asia/Tokyo
BEGIN:STANDARD
DTSTART:19700101T000000
TZOFFSETFROM:+0900
TZOFFSETTO:+0900
TZNAME:JST
END:STANDARD
END:VTIMEZONE
BEGIN:VEVENT
UID:810960@techplay.jp
SUMMARY:KNIME Data Talks Japan 2021　～KNIMEで実現するデジタル
 トランスフォーメーション～
DTSTART;TZID=Asia/Tokyo:20210421T130000
DTEND;TZID=Asia/Tokyo:20210422T173000
DTSTAMP:20260420T025911Z
CREATED:20210309T055539Z
DESCRIPTION:イベント詳細はこちら\nhttps://techplay.jp/event/81096
 0?utm_medium=referral&utm_source=ics&utm_campaign=ics\n\n\nKNIME Data Tal
 ks Japan 2021\n～KNIMEで実現するデジタルトランスフォー
 メーション～\n概要\n2021年4月21日～22日の2日間にかけ
 て、『KNIME Data Talks Japan 2021』と題してデータトークイ
 ベントを開催いたします。オンライン形式でKNIMEの最
 新情報やロードマップのご紹介に始まり、KNIME Serverユ
 ーザーによるDX（デジタルトランスフォーメーション
 ）事例の発表、KNIME Analytics Platformを業務でご利用いた
 だくためのスタートアップとしてのKNIMEトレーニング
 講座の配信など、盛りだくさんの2日間を予定していま
 す。登録は無料となっておりますので、ぜひお気軽に
 ご参加ください。\n日程　　：2021年4月21日(水)～2021年4
 月22日(木)開催形式：Zoomによるオンライン形式参加費
 用：無料　※個人名義でのお申し込み、また同業社様
 からのお申込みはお断りしております。\nタイムスケ
 ジュール\n・1日目：2021年4月21日(水) 13:00～15:40\n\n\n\n時
 間\n内容\n\n\n\n\n13:00～13:10\n【テーマ】ご挨拶【講　師
 】インフォコム株式会社\n\n\n13:10～13:30\n【テーマ】KNIM
 EWhat’sNew and Cooking Session【講　師】KNIME AG　　　　　Sat
 oru Hayasaka 氏\n\n\n13:30～14:10\n【テーマ】データの山と手
 動のExcelアクティビティの自動化　　　　　～想像を
 超える可能性への旅～【講　師】Continental AG　　　　
 　ArneBeckhaus氏\n\n\n14:10～14:20\n～休憩～\n\n\n14:20～14:50\n
 【テーマ】KNIMEによるデータ管理の自動化～創薬研究
 の加速を目指して～【講　師】日本たばこ産業株式会
 社　医薬総合研究所　　　　　薬物動態研究所　　　
 　　篠田 清孝 氏\n\n\n14:50～15:05\n【テーマ】KNIMEの教育
 コースについてのご紹介【講　師】株式会社日立産業
 制御ソリューションズ　　　　　産業情報本部 産業情
 報第一設計部 AI&ビッグデータソリューションセンタ　
 　　　　太田 佳秀 氏\n\n\n15:05～15:35\n【テーマ】KNIMEで
 実現する機械学習自動化とKNIME Tips【講　師】インフォ
 コム株式会社　　　　　ヘルスケア事業本部 ヘルスケ
 アサービス部　　　　　大島 貴弘\n\n\n15:35～15:40\nご案
 内\n\n\n\n\n\n\n・2日目：2021年4月22日(木) 13:30～17:05\n\n\n\n
 \n\n\n\n時間\n\n\n\n\n\n13:30～15:00\n【テーマ】KNIMEトレーニ
 ング初級編　～初心者向け操作トレーニングコース～
 【講　師】インフォコム株式会社　　　　　ヘルスケ
 ア事業本部 ヘルスケアサービス部　　　　　大島 貴
 弘\n\n\n15:00～15:30\n～休憩～\n\n\n15:30～17:00\n【テーマ】K
 NIMEトレーニング応用編　～IoTエンジニア向けトレーニ
 ングコース～【講　師】株式会社日立産業制御ソリュ
 ーションズ　　　　　産業情報本部 産業情報第一設計
 部 AI&ビッグデータソリューションセンタ　　　　　太
 田 佳秀 氏\n\n\n17:00～17:05\nご案内\n\n\n\n※ 当日予告な
 く時間配分・内容が変更になる可能性がございます。\
 n参加費\n無料\nハッシュタグ\n#KNIME\,#データ分析\,#ETL\,#
 機械学習\,#AutoML\,#データ前処理\n注意事項\n\n個人名義
 でのお申込みや、同業社様からのお申し込みはお断り
 しております。\n欠席される場合は、お手数ですが速
 やかにキャンセル処理をお願い致します。\n無断キャ
 ンセルや欠席が続く場合、次回以降の参加をお断りさ
 せていただく場合がございます。\n
LOCATION:オンライン
URL:https://techplay.jp/event/810960?utm_medium=referral&utm_source=ics&utm
 _campaign=ics
END:VEVENT
END:VCALENDAR
