BEGIN:VCALENDAR
VERSION:2.0
PRODID:-//https://techplay.jp//JP
CALSCALE:GREGORIAN
METHOD:PUBLISH
X-WR-CALDESC:サイトのSEO課題を効率的にチェックして 爆速P
 DCA化！ ～pythonを使ってサイトのページチェックを自動
 で行う方法～
X-WR-CALNAME:サイトのSEO課題を効率的にチェックして 爆速P
 DCA化！ ～pythonを使ってサイトのページチェックを自動
 で行う方法～
X-WR-TIMEZONE:Asia/Tokyo
BEGIN:VTIMEZONE
TZID:Asia/Tokyo
BEGIN:STANDARD
DTSTART:19700101T000000
TZOFFSETFROM:+0900
TZOFFSETTO:+0900
TZNAME:JST
END:STANDARD
END:VTIMEZONE
BEGIN:VEVENT
UID:811063@techplay.jp
SUMMARY:サイトのSEO課題を効率的にチェックして 爆速PDCA
 化！ ～pythonを使ってサイトのページチェックを自動で
 行う方法～
DTSTART;TZID=Asia/Tokyo:20210325T130000
DTEND;TZID=Asia/Tokyo:20210325T140000
DTSTAMP:20260422T234200Z
CREATED:20210310T051414Z
DESCRIPTION:イベント詳細はこちら\nhttps://techplay.jp/event/81106
 3?utm_medium=referral&utm_source=ics&utm_campaign=ics\n\nサイトのSEO
 課題を効率的にチェックして\n爆速PDCA化！\n～pythonを
 使ってサイトのページチェックを自動で行う方法～\n3
 月25日 (木) 13:00 - 14:00\n\n▼こんな方にオススメです！\n
 ・サイトの課題点を正確に発見したいご担当者様・リ
 ソース不足でサイト運営のPDCAが回せていないご担当者
 様・サイトの課題点を効率的に抽出したいご担当者様\
 n▼ウェビナー内容\n・サイト運営者を助けてくれるPyth
 on・スクレイピングとは・スクレイピングを行う際の
 注意点・実際のコード記述方法・結果の管理方法・ス
 クレイピングしたデータの活用方法\n\n▼ウェビナー開
 催概要\n・開催日時2021年3月25日 (木) 13:00 - 14:00・参加
 費無料・開催方法ウェビナー　※Zoomを利用します・参
 加方法お申込後に、別途担当者よりメールにてご案内
 致します。\n\n▼タイムスケジュール\n\n\n\n時間\n内容\n
 \n\n12:58〜\n視聴用URL開場\n\n\n13:00〜13:40\nウェビナー本
 編\n\n\n13:40〜14:00\n質疑応答・アンケート回答　※質問
 がなくなり次第終了\n\n\n\n※ 当日予告なく時間配分・
 内容が変更になる可能性がございます。\n▼講師紹介\n
 \n尾崎　篤志\n株式会社CINCコンサルタント\n\n\n赤須　
 椋\n株式会社CINC\n▼参加対象\n・事業会社のマーケティ
 ング担当者\n・事業会社の事業責任者様\n・事業会社の
 経営者様\n\n▼注意事項\n競合他社/同業者/企業にご所
 属でない個人の方からのお申込みなど、 当社の判断に
 よりセミナー参加をお断りする場合があります。予め
 ご了承ください。\n 
LOCATION:オンラインセミナー
URL:https://techplay.jp/event/811063?utm_medium=referral&utm_source=ics&utm
 _campaign=ics
END:VEVENT
END:VCALENDAR
