BEGIN:VCALENDAR
VERSION:2.0
PRODID:-//https://techplay.jp//JP
CALSCALE:GREGORIAN
METHOD:PUBLISH
X-WR-CALDESC:IT予算担当者必見！IT導入による課題の解決事
 例とお得に使える補助金・助成金の紹介（行政・自治
 体編）
X-WR-CALNAME:IT予算担当者必見！IT導入による課題の解決事
 例とお得に使える補助金・助成金の紹介（行政・自治
 体編）
X-WR-TIMEZONE:Asia/Tokyo
BEGIN:VTIMEZONE
TZID:Asia/Tokyo
BEGIN:STANDARD
DTSTART:19700101T000000
TZOFFSETFROM:+0900
TZOFFSETTO:+0900
TZNAME:JST
END:STANDARD
END:VTIMEZONE
BEGIN:VEVENT
UID:811432@techplay.jp
SUMMARY:IT予算担当者必見！IT導入による課題の解決事例と
 お得に使える補助金・助成金の紹介（行政・自治体編
 ）
DTSTART;TZID=Asia/Tokyo:20210323T183000
DTEND;TZID=Asia/Tokyo:20210323T193000
DTSTAMP:20260425T231652Z
CREATED:20210313T055350Z
DESCRIPTION:イベント詳細はこちら\nhttps://techplay.jp/event/81143
 2?utm_medium=referral&utm_source=ics&utm_campaign=ics\n\nこれまで実
 施してきたセミナーにおいて、満足度約93%と非常に高
 い評価を頂いております。（2021年1月～現在までの累
 計）\n●セミナー参加者の感想（一部抜粋）\n「過去か
 ら現在に至る変遷やその課題を理解できました」\n「
 概要を理解できた。また、IT導入にかかる投資額が参
 考になった」\n「他社の説明も聞いているが、簡潔に
 まとめられていて聞きやすかった」\n\nIT予算担当者必
 見！IT導入による課題の解決事例とお得に使える補助
 金・助成金の紹介\n日々の業務で、困っていることは
 ありませんか？\n「ITを導入して改善したいけど中々取
 り組めない」「見積もりを取ったけど稟議が通らない
 」というご相談を頂くことも少なくありません。\n本
 セミナーでは、IT導入によって課題解決に結び付いた
 事例や補助金・助成金について紹介します。\nこのよ
 うな内容を予定しております。\n1.なぜ今積極的なIT投
 資が必要なのか\n2.妥当なIT予算とは\n3.活用できる補助
 金・助成金の紹介\n4.デジタル化による生産性向上の成
 功事例紹介\n5.まとめ\n※一部変更となる可能性があり
 ます。\n当日の流れ\n18:30　Zoomオープン、はじめの挨拶
 \n18:35　メインコーナー\n19:15　Q＆A\n19:30　終了\nQ＆Aに
 ついて\nセミナー中に質問事項を受け付けます。頂い
 た質問事項を幅広くピックアップして回答します。\n
 質問は「slido」で受け付けます。\nこちらからアクセス
 できますので、聞いてみたいことがある方は事前にご
 入力ください！\n前日からセミナー終了まで受け付け
 ています！\nイベントコード ： #x-face0323\nhttps://app.sli.d
 o/event/lgzhnssm\n登壇者\n高橋 翼（株式会社エッグシステ
 ム 代表取締役）\n\n【略歴】\n2008年、新卒で大手SIerへ
 入社。\nシステム開発業務の枠を超えた提案力で計4\,00
 0万円の案件を受注、3年目で20名を超えるプロジェクト
 のリーダーを遂行、5年目で約60億円・200名以上の大規
 模プロジェクトの企画・プロジェクト管理を行いリリ
 ース成功へ貢献。\n2014年、システムコンサルティング
 会社へ転職。\n2017年、在職中に「株式会社エッグシス
 テム」を設立し、2018年に独立。\n現在は、社員数100名
 以下の中小企業向けにIT部門のアウトソーシングサー
 ビスである「コンサルティングエンジニアサービス」
 と、IPOを目指すベンチャー企業向け「IT統制サポート
 」を行う。\n使用ツールについて\n・Zoom（ https://zoom.us/
 jp-jp/meetings.html ）を利用します。\n・開催前に申込者宛
 に視聴URLをお送りしますので、Zoomの事前インストール
 をお願いいたします。\n・ビデオは映しても映さなく
 てもOKです。\n・参加時は「ミュート」にして頂くよう
 お願いいたします。\n注意事項\n・視聴URLは、開催前日
 にメールにてお送りいたします。\n・「eggsystem.co.jp」
 ドメインのメールを受信できるように設定しておいて
 ください。\n・当日参加の場合は seminar@eggsystem.co.jp ま
 でご連絡ください。\n運営\n\n株式会社エッグシステム\
 nhttps://eggsystem.co.jp/
LOCATION:オンライン
URL:https://techplay.jp/event/811432?utm_medium=referral&utm_source=ics&utm
 _campaign=ics
END:VEVENT
END:VCALENDAR
