BEGIN:VCALENDAR
VERSION:2.0
PRODID:-//https://techplay.jp//JP
CALSCALE:GREGORIAN
METHOD:PUBLISH
X-WR-CALDESC:第５７回 CoderDojo Mito
X-WR-CALNAME:第５７回 CoderDojo Mito
X-WR-TIMEZONE:Asia/Tokyo
BEGIN:VTIMEZONE
TZID:Asia/Tokyo
BEGIN:STANDARD
DTSTART:19700101T000000
TZOFFSETFROM:+0900
TZOFFSETTO:+0900
TZNAME:JST
END:STANDARD
END:VTIMEZONE
BEGIN:VEVENT
UID:811467@techplay.jp
SUMMARY:第５７回 CoderDojo Mito
DTSTART;TZID=Asia/Tokyo:20210321T133000
DTEND;TZID=Asia/Tokyo:20210321T153000
DTSTAMP:20260421T050650Z
CREATED:20210313T141229Z
DESCRIPTION:イベント詳細はこちら\nhttps://techplay.jp/event/81146
 7?utm_medium=referral&utm_source=ics&utm_campaign=ics\n\n第５７回 Cod
 erDojo Mito\n対象：小学生～中学生\n　　（小学生は保護
 者の同伴をお願いします）\n定員：4名（市民センター
 ）、100名（オンライン）\n参加費：無料\n日時：２０２
 １年３月２１日（日曜日）\n　　　１３：３０～１５
 ：３０（開場１３：００）\n会場：水戸市内原市民セ
 ンター＆Zoomによるオンライン\n　　　接続用アドレス
 は参加申し込み者のみに告知いたします。\n\nCoderDojo Mi
 to（コーダー道場 水戸）は、誰でも気軽に参加できる
 「無料のプログラミングクラブ」です。水戸Dojoでは、
 Scratch というプログラミング言語を利用してゲームな
 ど楽しいプログラムを作っていきます。\n主な活動内
 容としては、初心者の方には「体験コーナー」で講師
 の説明を聞きながら簡単なゲームを作ってもらいます
 。\n慣れてきたら、それぞれ自分たちの作りたいプロ
 グラムを作るなど、いろいろな体験ができるようにな
 っています。\nプログラミングで分からない事があっ
 たら、周りの友達や、メンター（助言者）と呼ばれる
 プログラミングが得意な参加者に相談する事が出来ま
 すので、どなたでも楽しくプログラミングに触れてい
 ただけます。\nその日の活動の最後には、成果発表の
 時間が設けられており、他の参加者の成果を見る事で
 発想の広がりや更なる学びへと繋げます。\nCoderDojo Mito
  では、「体験し、学び、互いに教え合う」プログラミ
 ングを好きになれる場所を目指しています。\nhttp://code
 rdojo-mito.com/\n\n補欠者はキャンセル待ちの状態となりま
 す。\n参加者の中からキャンセルが出た場合、補欠者
 が申し込み順で参加者に繰り上がります。\n繰り上が
 った方にはconnpassからメールで通知されます。\nどうし
 ても参加出できなくなったときは、できるだけ早く参
 加キャンセルを行いキャンセル待ちの方へお譲りくだ
 さい。
LOCATION:水戸市内原市民センター 茨城県水戸市内原町１
 ３９５－６
URL:https://techplay.jp/event/811467?utm_medium=referral&utm_source=ics&utm
 _campaign=ics
END:VEVENT
END:VCALENDAR
