BEGIN:VCALENDAR
VERSION:2.0
PRODID:-//https://techplay.jp//JP
CALSCALE:GREGORIAN
METHOD:PUBLISH
X-WR-CALDESC:JUIDA 3月〜 4月コース⭐️服部様専用（3日間に
 てJUIDA認定操縦士資格を取得可能）
X-WR-CALNAME:JUIDA 3月〜 4月コース⭐️服部様専用（3日間に
 てJUIDA認定操縦士資格を取得可能）
X-WR-TIMEZONE:Asia/Tokyo
BEGIN:VTIMEZONE
TZID:Asia/Tokyo
BEGIN:STANDARD
DTSTART:19700101T000000
TZOFFSETFROM:+0900
TZOFFSETTO:+0900
TZNAME:JST
END:STANDARD
END:VTIMEZONE
BEGIN:VEVENT
UID:811527@techplay.jp
SUMMARY:JUIDA 3月〜 4月コース⭐️服部様専用（3日間にてJUI
 DA認定操縦士資格を取得可能）
DTSTART;TZID=Asia/Tokyo:20210327T100000
DTEND;TZID=Asia/Tokyo:20210425T160000
DTSTAMP:20260421T054051Z
CREATED:20210314T140023Z
DESCRIPTION:イベント詳細はこちら\nhttps://techplay.jp/event/81152
 7?utm_medium=referral&utm_source=ics&utm_campaign=ics\n\n【2020年度3
 月度 〜 4月JUIDA認定コース概要】\n\nDSL公認インストラ
 クターと過ごす、飛行実技講習10時間\,座学講習6時間
 にて、貴方もドローンパイロット\n\n本コースを修了す
 ることで、修了者には、JUIDAが認定するJUIDA『操縦技能
 証明書』が交付されます。\n■ドローン業界の先駆者
 『JUIDA認定スクール』\n一般社団法人日本UAS産業振興協
 議会（JUIDA）では、日本で初めてとなるドローン（無
 人航空機）の操縦士および安全運航管理者養成スクー
 ルの認定制度を2015年10月にスタートしました。\nJUIDAと
 JUIDA認定スクールは、無人航空機産業の健全な発展の
 ために、無人航空機運航上の安全に関わる知識と、高
 い操縦技能を有する 人材の養成を行います。\n\n当校
 は、JUIDA認定講師経験だけでなくドローンパイロット
 としての経験豊富なインストラクターと、神奈川県横
 浜市の広大な屋外練習場を使用しての屋外操縦訓練に
 て他のJUIDA認定スクールとは一線を画した高い操縦技
 能訓練を提供させていただいております。\n\n■開催コ
 ース（3日間）講習スケジュール：\n\n○JUIDA無人航空機
 操縦士コース 一般178\,000円（税込） \n\n◯講習スケジ
 ュール\n初日【3月27日（土曜日）】\n場所:横浜保土ヶ
 谷校本館二階会議室\n‪9:50より オリエンテーション、
 入校手続き\n10:00より　担当講師（JUIDA認定講師）によ
 るJUIDA認定座学講習\n\n操縦実技初日【3月28日（日曜日
 ）】\n9:30より　屋内基本練習\n※初音ヶ丘小学校体育
 館\n午後は、雨天中止\n\n操縦実技2日目【 4月18日（日
 曜日）】\n※お仕事の関係で、翌週水曜日、日曜日等
 予備日\n‪9:30より前日操縦練習に続き当て舵等複合的
 練習‬\n‪13:00よりファントム単独操縦練習後JUIDA認定
 講習検定‬\n‪14:00より高高度、緊急時のGO HOME、自動
 航行、機体詳細設定等‬\n‪16:30にて解散‬\n\n操縦実
 技３日目【4月25日（日曜日）】\n10：00より実技補講&検
 定試験\n※DSL横浜保土ヶ谷校練習場\n ※共に雨天の場
 合は、屋内練習となります（後日屋外にての補講あり
 ）。\n\n【JUIDA認定座学講習】\nJUIDA認定操縦士座学（‪
 6時‬間）は、3月27日（土曜日）にて受講いただけます
 。\n※座学につきましては後日の日程調整も可能です
 。\n\n\n■講師：9名\n一般社団法人日本 UAS 産業振興協
 議会（JUIDA）認定講師\nRCK（ラジコン電波安全協会）イ
 ンストラクター、PROドローン操縦士、RCK一級ドローン
 オペレーター、産業用マルチローターオペレーター技
 能認定者等\n※https://dslschool.org/instructor/\n\n■受講条件
 ：\n・受講時満16歳以上の方（ただし20歳未満の方は保
 護者の同意書が必要です） \n・矯正視力が両眼0.7以上
 かつ１眼で0.3以上の方 \n・反社会的勢力と一切関係の
 ない方\n■その他費用：（以下費用が別途掛かります
 。）\n・JUIDA認定証操縦技能証明証発行手数料20\,000円(
 税別) \n\n■主催：\n　一般社団法人日本UAS 産業振興協
 議会（JUIDA）認定スクール\n　特定非営利活動法人（NPO
 法人）LAND MINE ZERO\n■共催：\nDrone Safety License School \n横
 浜保土ヶ谷校\n■協力：\n　流山ヘリポート\n   Suny Aero 
 Park\n■お問合せ先：\nNPO法人LMZ流山事務所\n電話：0120-0
 5-3703\nドローンダイレクト：09024597199\nMail：info@dslschool.
 org\n\n・座学６時間、実技１０時間（２日間）のトータ
 ル3日間\n・実技は少人数(最大4人1組でのグループレッ
 スン)で実施いたします。\n・卒業検定試験を実施の上
 、当校の技能認定修了証明書を交付いたします。\n※
 受講者様の技量によっては、早出・居残り練習、また
 は補講を行う場合がございます。（追加料金不要） \n
 ※JUIDA『操縦技能証明証』、『安全運航管理者証明証
 』について詳しくは JUIDAホームページ をご覧下さい。
 \nhttps://uas-japan.org/contact_license/\n\n実技講習は、神奈川
 県横浜市内の当校ドローン専用練習場にて実施いたし
 ます。\n\n\n\n修了(証明証発行)要件\nJUIDA『操縦技能証
 明証』取得に必要な当校の技能認定卒業証明書の交付
 には、座学６時間、実技１０時間（２日間）以上を受
 講していただいた上で、基本ATTIモードでの卒業検定試
 験合格を目指して頂きます。\n卒業検定試験は原則、
 それぞれの座学、実技それぞれの講習時間内に実施い
 たします。\n※座学・実技ともに再試験は1回までは追
 加料金なしで再受験可能\n※学割を利用の方は学生証
 など身分を証明できるものをご提示頂きます。\n\n【操
 縦訓練使用機体】\nスクール側でご用意する機体（レ
 ンタル料は、無料）\nphantom２（トレーナーコード使用
 ）、phantom４v2
LOCATION:Drone  Safety  License横浜保土ヶ谷校　ドローン専用
 飛行場 神奈川県横浜市保土ケ谷区今井町1221
URL:https://techplay.jp/event/811527?utm_medium=referral&utm_source=ics&utm
 _campaign=ics
END:VEVENT
END:VCALENDAR
